BEGIN:VCALENDAR
VERSION:2.0
PRODID:-//Le Poing - ECPv6.8.3//NONSGML v1.0//EN
CALSCALE:GREGORIAN
METHOD:PUBLISH
X-ORIGINAL-URL:https://lepoing.net
X-WR-CALDESC:Évènements pour Le Poing
REFRESH-INTERVAL;VALUE=DURATION:PT1H
X-Robots-Tag:noindex
X-PUBLISHED-TTL:PT1H
BEGIN:VTIMEZONE
TZID:Europe/Paris
BEGIN:DAYLIGHT
TZOFFSETFROM:+0100
TZOFFSETTO:+0200
TZNAME:CEST
DTSTART:20190331T010000
END:DAYLIGHT
BEGIN:STANDARD
TZOFFSETFROM:+0200
TZOFFSETTO:+0100
TZNAME:CET
DTSTART:20191027T010000
END:STANDARD
END:VTIMEZONE
BEGIN:VEVENT
DTSTART;TZID=Europe/Paris:20190305T190000
DTEND;TZID=Europe/Paris:20190305T233000
DTSTAMP:20260420T125433
CREATED:20190226T211701Z
LAST-MODIFIED:20190226T213710Z
UID:12361-1551812400-1551828600@lepoing.net
SUMMARY:Carnaval des gueux
DESCRIPTION:À Montpellier\, le mardi gras se célèbre depuis des années par le Carnaval des Gueux\, une fête parfaitement inorganisée à la gloire des sales mômes\, des culottes sales\, des haleines fortes et de toutes celles et ceux qui ne rentrent pas dans les cases de la société. L’année dernière\, le carnaval a pris des allures d’émeute. Qu’en sera-t-il cette année ? Comme tous les ans sans succès\, le maire de Montpellier Philippe Saurel a signé un arrêté municipal d’interdiction. Toujours est-il qu’un rendez-vous\, que nous relayons\, a été donné sur les réseaux sociaux pour le 5 mars à 19h au parc du Peyrou.
URL:https://lepoing.net/evenement/carnaval-des-gueux/
LOCATION:Parc du Peyrou\, Promenade du Peyrou\, Montpellier\, Occitanie\, 34000\, France
CATEGORIES:Carnaval
ATTACH;FMTTYPE=image/jpeg:https://lepoing.net/wp-content/uploads/2019/02/Capture-8.jpg
END:VEVENT
END:VCALENDAR