BEGIN:VCALENDAR
VERSION:2.0
PRODID:-//Le Poing - ECPv6.8.3//NONSGML v1.0//EN
CALSCALE:GREGORIAN
METHOD:PUBLISH
X-WR-CALNAME:Le Poing
X-ORIGINAL-URL:https://lepoing.net
X-WR-CALDESC:Évènements pour Le Poing
REFRESH-INTERVAL;VALUE=DURATION:PT1H
X-Robots-Tag:noindex
X-PUBLISHED-TTL:PT1H
BEGIN:VTIMEZONE
TZID:Europe/Paris
BEGIN:DAYLIGHT
TZOFFSETFROM:+0100
TZOFFSETTO:+0200
TZNAME:CEST
DTSTART:20190331T010000
END:DAYLIGHT
BEGIN:STANDARD
TZOFFSETFROM:+0200
TZOFFSETTO:+0100
TZNAME:CET
DTSTART:20191027T010000
END:STANDARD
END:VTIMEZONE
BEGIN:VEVENT
DTSTART;TZID=Europe/Paris:20190312T080000
DTEND;TZID=Europe/Paris:20190312T140000
DTSTAMP:20260420T125049
CREATED:20190226T173945Z
LAST-MODIFIED:20190226T205753Z
UID:12346-1552377600-1552399200@lepoing.net
SUMMARY:Rassemblement devant le Medef contre la vie chère
DESCRIPTION:Des syndicats\, dont la CGT\, appellent à se rassembler le 12 mars à partir de 8h devant les locaux du Medef (patronat français) pour réclamer l’augmentation des salaires. L’assemblée des gilets jaunes de Montpellier appellent à rejoindre le rassemblement en se déguisant en riches.
URL:https://lepoing.net/evenement/rassemblement-devant-le-medef-contre-la-vie-chere/
LOCATION:Local du Medef\, 113 Allée Jean Anouilh\, Montpellier\, Occitanie\, 34070\, France
CATEGORIES:Rassemblement
ATTACH;FMTTYPE=image/jpeg:https://lepoing.net/wp-content/uploads/2019/02/51440675_2319324531434849_3598055573154693120_n.jpg
END:VEVENT
END:VCALENDAR