BEGIN:VCALENDAR
VERSION:2.0
PRODID:-//Le Poing - ECPv6.8.3//NONSGML v1.0//EN
CALSCALE:GREGORIAN
METHOD:PUBLISH
X-ORIGINAL-URL:https://lepoing.net
X-WR-CALDESC:Évènements pour Le Poing
REFRESH-INTERVAL;VALUE=DURATION:PT1H
X-Robots-Tag:noindex
X-PUBLISHED-TTL:PT1H
BEGIN:VTIMEZONE
TZID:Europe/Paris
BEGIN:DAYLIGHT
TZOFFSETFROM:+0100
TZOFFSETTO:+0200
TZNAME:CEST
DTSTART:20190331T010000
END:DAYLIGHT
BEGIN:STANDARD
TZOFFSETFROM:+0200
TZOFFSETTO:+0100
TZNAME:CET
DTSTART:20191027T010000
END:STANDARD
END:VTIMEZONE
BEGIN:VEVENT
DTSTART;TZID=Europe/Paris:20190313T173000
DTEND;TZID=Europe/Paris:20190313T193000
DTSTAMP:20260420T125433
CREATED:20190310T123331Z
LAST-MODIFIED:20190310T123331Z
UID:13320-1552498200-1552505400@lepoing.net
SUMMARY:Café-débat : quel quotidien pour les migrants à Montpellier ?
DESCRIPTION:Réflexions partagées vous présente son cinquième café-débat : quel quotidien pour les migrants à Montpellier ? Le mercredi 13 mars à 17h30 à la K-fet de la Faculté d’économie. \nPour ce café-débat\, nous sommes en partenariat avec Collectif Migrants Bienvenue 34. \nLes membres du Collectif Migrant-e-s Bienvenue 34\, dont Michel Yves Billotte\, nous renseigneront sur les lois Dublin (qui régissent une partie des flux migratoires en Europe) et sur la question de l’accueil des migrants à Montpellier. \nLe collectif Migrant-e-s Bienvenue 34\, créé en mai 2016\, veut impulser avec les migrant-e-s un réseau de solidarité pour les aider à sortir de leur isolement social\, favoriser l’échange\, la rencontre et la découverte de notre société. Mais aussi les soutenir dans la bataille pour l’égalité des droits\, l’obtention de meilleures conditions d’accueil\, et dénoncer l’absence de politiques dignes des enjeux. \nLe Gide Economie Montpellier vous accueillera à la fin de ce café débat\, pour partager un moment convivial autour d’un verre.
URL:https://lepoing.net/evenement/cafe-debat-quel-quotidien-pour-les-migrants-a-montpellier/
LOCATION:Faculté d’économie de Montpellier\, Site Richter\, Avenue Raymond Dugrand\, Montpellier\, Hérault\, 34960
CATEGORIES:Débat
ATTACH;FMTTYPE=image/jpeg:https://lepoing.net/wp-content/uploads/2019/03/53001515_417698048976943_3226326802225954816_n.jpg
END:VEVENT
BEGIN:VEVENT
DTSTART;TZID=Europe/Paris:20190313T193000
DTEND;TZID=Europe/Paris:20190313T230000
DTSTAMP:20260420T125433
CREATED:20190310T150005Z
LAST-MODIFIED:20190310T150005Z
UID:13331-1552505400-1552518000@lepoing.net
SUMMARY:Ciné-club du Barricade : A Day In The Life
DESCRIPTION:Pour le mois de mars\, cinéclub#Barricade est ravi de poursuivre le cycle : Drogues ici et ailleurs. Entre santé et répression. initié par Réduction des Risques Sans Frontières (RdR_SF). \nRdR_SF se positionne comme une association de santé communautaire dans le domaine de la réduction des risques (RdR) liées à l’usage de drogues dans divers contextes. \nLa Guerre à la Drogue\, politique lancée par Nixon\, est inefficace. De plus\, les politiques répressives criminalisent des personnes consommatrices avec une criminalisation plus intense à l’égard des personnes d’origine étrangères. Ce constat guide la démarche de RdR_SF. Nous avons donc souhaité investir le Ciné-Club du Barricade dans le cadre de notre objectif de dé-stigmatisation de la personne consommatrice de drogues. Nous avons aussi souhaité exposer ce qu’est la Réduction des Risques\, actuellement reconnue comme l’approche la plus efficace en matière de consommation de drogues qui est certes accessible en France\, malgré des critiques possibles\, mais ce n’est pas le cas de tous les pays. Ces points forment des injustices sociales énormes et nous avons voulu en faire part à ce petit comité. Ce mois de Mars 2019 coïncide avec notre 1 ère année de création\, c’est donc aussi un cadeau d’anniversaire pour nous. \nLa séance sera suivie d’une discussion avec le public.\nEntrée libre. \nRéalisation : The Right Reporter Foundation and The International Network of People Who Use Drugs (INPUD)\nDurée : 86 minutes\nAnnée : 2016\nPays : États-Unis\nLe film en streaming : https://www.adayinthelifemovie.com/ \nSynopsis : Le film nous présente une journée\, du matin au soir\, de la vie de huit personnes\, originaires de sept villes\, réparties dans sept pays différents du monde. Ils ont tous quelque chose en commun: ils consomment tous de la drogue. Mais ces personnes ne sont pas définies par leur consommation de drogue. Tous ont leurs personnalités uniques\, leurs histoires et leurs réseaux sociaux. Et l’environnement dans lequel ils vivent\, les attitudes auxquelles ils sont confrontés\, les lois qui régissent la consommation de drogues et les services de santé mis à leur disposition ont un impact énorme sur leur vie. Ce film ne concerne pas uniquement les consommateurs de drogue\, il a également été produit par des consommateurs de drogue. Il s’efforce de remettre en question nos mythes communs et nos idées préconçues sur les drogues et les personnes qui les utilisent. Il permet aux représentants de l’une des communautés les plus marginalisées de notre monde de raconter des histoires inédites sur la haine\, l’amour\, la souffrance et le bonheur. Il montre comment ils s’engagent dans l’activisme social pour rompre le silence et combattre le stigmate qui assombrit leurs journées.
URL:https://lepoing.net/evenement/cine-club-du-barricade-a-day-in-the-life/
LOCATION:Le Barricade\, 5 rue Bonnie\, Montpellier
CATEGORIES:Projection
ATTACH;FMTTYPE=image/jpeg:https://lepoing.net/wp-content/uploads/2019/03/53270760_2354334637950996_1918914349024411648_n.jpg
END:VEVENT
END:VCALENDAR