BEGIN:VCALENDAR
VERSION:2.0
PRODID:-//Le Poing - ECPv6.8.3//NONSGML v1.0//EN
CALSCALE:GREGORIAN
METHOD:PUBLISH
X-WR-CALNAME:Le Poing
X-ORIGINAL-URL:https://lepoing.net
X-WR-CALDESC:Évènements pour Le Poing
REFRESH-INTERVAL;VALUE=DURATION:PT1H
X-Robots-Tag:noindex
X-PUBLISHED-TTL:PT1H
BEGIN:VTIMEZONE
TZID:Europe/Paris
BEGIN:DAYLIGHT
TZOFFSETFROM:+0100
TZOFFSETTO:+0200
TZNAME:CEST
DTSTART:20190331T010000
END:DAYLIGHT
BEGIN:STANDARD
TZOFFSETFROM:+0200
TZOFFSETTO:+0100
TZNAME:CET
DTSTART:20191027T010000
END:STANDARD
END:VTIMEZONE
BEGIN:VEVENT
DTSTART;TZID=Europe/Paris:20190317T110000
DTEND;TZID=Europe/Paris:20190317T170000
DTSTAMP:20260420T125003
CREATED:20190313T114713Z
LAST-MODIFIED:20190313T114713Z
UID:13534-1552820400-1552842000@lepoing.net
SUMMARY:Pic-nique pour les quatre mois d'occupation des Près d'Arènes
DESCRIPTION:Nous fêtons les quatre mois d’occupation du rond-point des Près d’Arènes dans la convivialité et la bonne humeur. Grillades et salade (Participation entre 5 et 10€ selon vos moyens)\n11h00 Décoration RP – Pancartes – Banderoles…\n13h00 Déjauner… Barbecue.\nVenez nombreux (avec vos chaises et tables!!!)
URL:https://lepoing.net/evenement/pic-nique-pour-les-quatre-mois-doccupation-des-pres-darenes/
LOCATION:Rond-point des Prés d’Arènes\, Rond-point des Prés d'Arènes\, Montpellier\, Hérault\, 34000\, France
CATEGORIES:Fête
ATTACH;FMTTYPE=image/jpeg:https://lepoing.net/wp-content/uploads/2019/03/53850175_1046912052170916_4643588429911687168_n.jpg
END:VEVENT
BEGIN:VEVENT
DTSTART;TZID=Europe/Paris:20190317T140000
DTEND;TZID=Europe/Paris:20190317T160000
DTSTAMP:20260420T125003
CREATED:20190311T093955Z
LAST-MODIFIED:20190311T093955Z
UID:13422-1552831200-1552838400@lepoing.net
SUMMARY:Assemblée #14 des gilets jaunes 34
DESCRIPTION:Comme chaque semaine\, une assemblée générale des gilets jaunes de Montpellier et des alentours se tiendra dimanche à 14h au parc du Peyrou (en bas côté gauche du parc quand on entre par l’entrée principale)
URL:https://lepoing.net/evenement/assemblee-14-des-gilets-jaunes-34/
LOCATION:Parc du Peyrou\, Promenade du Peyrou\, Montpellier\, Occitanie\, 34000\, France
CATEGORIES:Assemblée générale
ATTACH;FMTTYPE=image/jpeg:https://lepoing.net/wp-content/uploads/2019/03/IMG_20190310_145717.jpg
END:VEVENT
END:VCALENDAR