BEGIN:VCALENDAR
VERSION:2.0
PRODID:-//Le Poing - ECPv6.8.3//NONSGML v1.0//EN
CALSCALE:GREGORIAN
METHOD:PUBLISH
X-WR-CALNAME:Le Poing
X-ORIGINAL-URL:https://lepoing.net
X-WR-CALDESC:Évènements pour Le Poing
REFRESH-INTERVAL;VALUE=DURATION:PT1H
X-Robots-Tag:noindex
X-PUBLISHED-TTL:PT1H
BEGIN:VTIMEZONE
TZID:Europe/Paris
BEGIN:DAYLIGHT
TZOFFSETFROM:+0100
TZOFFSETTO:+0200
TZNAME:CEST
DTSTART:20190331T010000
END:DAYLIGHT
BEGIN:STANDARD
TZOFFSETFROM:+0200
TZOFFSETTO:+0100
TZNAME:CET
DTSTART:20191027T010000
END:STANDARD
END:VTIMEZONE
BEGIN:VEVENT
DTSTART;TZID=Europe/Paris:20190319T110000
DTEND;TZID=Europe/Paris:20190319T130000
DTSTAMP:20260420T125042
CREATED:20190313T163500Z
LAST-MODIFIED:20190313T163500Z
UID:13548-1552993200-1553000400@lepoing.net
SUMMARY:Réunion des précaires de l'éducation en grève
DESCRIPTION:Précaires de l’éducation : mettons nous toutes et tous en grève le 19 mars. \nNous nous sommes retrouvés deux fois à quelques AED de Montpellier\, Agde et Sète pour nous organiser ensemble en tant que travailleuses et travailleurs précaires de l’éducation. \nIl nous a semblé important de préparer la grève interprofessionnelle du 19 mars\, et d’en parler à un maximum de collègues du boulot ainsi qu’à toutes celles et tous ceux qui bossent en vie scolaire \nCette journée de grève est importante à plus d’un titre pour les précaires que nous sommes\, puisqu’elle intervient dans le contexte du mouvement des gilets jaunes\, contre la vie chère. \nParmi les points soulevés au cours des réunions\, et comme pistes de revendications\, nous avons listé :\n– L’augmentation des salaires\n– Le paiement de toutes les heures\, notamment pour ceux qui travaillent de nuit à l’internat)\n– Le versement des primes (REP / REP+ / lycée dit « sensible ») \nNous avons aussi discuté de notre nécessaire solidarité aux mouvements sociaux des élèves\, de notre rôle social et du refus de la dimension répressive de notre boulot. \nRetrouvons-nous plus nombreuses et nombreux le mardi 19 mars à 11h au local associatif avec buvette Le Barricade (14 rue Aristide Ollivier\, près de la gare de Montpellier)\, pour se rencontrer\, discuter\, manger un bout et partir ensemble à la manifestation qui partira à 14h d’Antigone
URL:https://lepoing.net/evenement/reunion-des-precaires-de-leducation-en-greve/
LOCATION:Le Barricade\, 5 rue Bonnie\, Montpellier
CATEGORIES:Réunion
ATTACH;FMTTYPE=image/jpeg:https://lepoing.net/wp-content/uploads/2019/03/FB_IMG_1552494555011-1.jpg
END:VEVENT
BEGIN:VEVENT
DTSTART;TZID=Europe/Paris:20190319T140000
DTEND;TZID=Europe/Paris:20190319T190000
DTSTAMP:20260420T125042
CREATED:20190226T175039Z
LAST-MODIFIED:20190226T175039Z
UID:12350-1553004000-1553022000@lepoing.net
SUMMARY:Journée nationale d'action interprofessionnelle
DESCRIPTION:Des syndicats – dont la CGT\, FO\, Solidaires\, l’Unef et l’UNL – appellent à une journée de grève et de mobilisation le 19 mars pour porter des revendications sociales. L’assemblée des gilets jaunes de Montpellier appellent pour l’occasion à former un cortège de tête unitaire.
URL:https://lepoing.net/evenement/journee-nationale-daction-interprofessionnelle/
LOCATION:Place de Thessalie\, Place de Thessalie\, Montpellier\, Occitanie\, 34000\, France
CATEGORIES:Manifestation
ATTACH;FMTTYPE=image/jpeg:https://lepoing.net/wp-content/uploads/2019/02/51484171_2319324548101514_1365557625965510656_n.jpg
END:VEVENT
BEGIN:VEVENT
DTSTART;TZID=Europe/Paris:20190319T140000
DTEND;TZID=Europe/Paris:20190322T010000
DTSTAMP:20260420T125042
CREATED:20190311T092712Z
LAST-MODIFIED:20190311T092712Z
UID:13404-1553004000-1553216400@lepoing.net
SUMMARY:Semaine des droits des femmes
DESCRIPTION:Pour la troisième année consécutive Solidaires Etudiant-e-s Montpellier organise la Semaine des Droits des Femmes. Cette année elle se passera à l’université Paul Valéry et à l’université de Montpellier. \nLe programme détaillé avec le descriptif des événements sera bientôt publié sur la page facebook de l’événement.
URL:https://lepoing.net/evenement/semaine-des-droits-des-femmes/
LOCATION:Université Paul Valéry\, Route de Mende\, Montpellier\, Hérault\, 34090\, France
ATTACH;FMTTYPE=image/jpeg:https://lepoing.net/wp-content/uploads/2019/03/52987139_1001699860038987_3584912998998736896_n.jpg
ORGANIZER;CN="Solidaires %C3%89tudiant%C2%B7e%C2%B7s Montpellier":MAILTO:solidaires.etudiants.34@gmail.com
END:VEVENT
BEGIN:VEVENT
DTSTART;TZID=Europe/Paris:20190319T193000
DTEND;TZID=Europe/Paris:20190319T203000
DTSTAMP:20260420T125042
CREATED:20190311T121322Z
LAST-MODIFIED:20190313T115139Z
UID:13458-1553023800-1553027400@lepoing.net
SUMMARY:Réunion de l'assemblée de Montpellier contre les violences d’État et pour les libertés
DESCRIPTION:Comme chaque mardi\, l’assemblée de Montpellier contre les violences d’Etat et pour les libertés\, qui est aussi le commission juridique de l’assemblée des gilets jaunes de Montpellier\, se réunit à 19h30 au Barricade (14 rue Aristide Ollivier\, Montpellier).
URL:https://lepoing.net/evenement/reunion-de-lassemblee-de-montpellier-contre-les-violences-detat-et-pour-les-libertes/
LOCATION:Le Barricade\, 5 rue Bonnie\, Montpellier
ATTACH;FMTTYPE=image/jpeg:https://lepoing.net/wp-content/uploads/2019/03/3.jpg
END:VEVENT
END:VCALENDAR