BEGIN:VCALENDAR
VERSION:2.0
PRODID:-//Le Poing - ECPv6.8.3//NONSGML v1.0//EN
CALSCALE:GREGORIAN
METHOD:PUBLISH
X-WR-CALNAME:Le Poing
X-ORIGINAL-URL:https://lepoing.net
X-WR-CALDESC:Évènements pour Le Poing
REFRESH-INTERVAL;VALUE=DURATION:PT1H
X-Robots-Tag:noindex
X-PUBLISHED-TTL:PT1H
BEGIN:VTIMEZONE
TZID:Europe/Paris
BEGIN:DAYLIGHT
TZOFFSETFROM:+0100
TZOFFSETTO:+0200
TZNAME:CEST
DTSTART:20190331T010000
END:DAYLIGHT
BEGIN:STANDARD
TZOFFSETFROM:+0200
TZOFFSETTO:+0100
TZNAME:CET
DTSTART:20191027T010000
END:STANDARD
END:VTIMEZONE
BEGIN:VEVENT
DTSTART;TZID=Europe/Paris:20190319T140000
DTEND;TZID=Europe/Paris:20190322T010000
DTSTAMP:20260422T122821
CREATED:20190311T092712Z
LAST-MODIFIED:20190311T092712Z
UID:13404-1553004000-1553216400@lepoing.net
SUMMARY:Semaine des droits des femmes
DESCRIPTION:Pour la troisième année consécutive Solidaires Etudiant-e-s Montpellier organise la Semaine des Droits des Femmes. Cette année elle se passera à l’université Paul Valéry et à l’université de Montpellier. \nLe programme détaillé avec le descriptif des événements sera bientôt publié sur la page facebook de l’événement.
URL:https://lepoing.net/evenement/semaine-des-droits-des-femmes/
LOCATION:Université Paul Valéry\, Route de Mende\, Montpellier\, Hérault\, 34090\, France
ATTACH;FMTTYPE=image/jpeg:https://lepoing.net/wp-content/uploads/2019/03/52987139_1001699860038987_3584912998998736896_n.jpg
ORGANIZER;CN="Solidaires %C3%89tudiant%C2%B7e%C2%B7s Montpellier":MAILTO:solidaires.etudiants.34@gmail.com
END:VEVENT
BEGIN:VEVENT
DTSTART;TZID=Europe/Paris:20190320T183000
DTEND;TZID=Europe/Paris:20190320T230000
DTSTAMP:20260422T122821
CREATED:20190311T120816Z
LAST-MODIFIED:20190311T120816Z
UID:13453-1553106600-1553122800@lepoing.net
SUMMARY:Conférence : vers un changement majeur du monde\, quelle place pour l'action collective ?
DESCRIPTION:Face au déclin de notre civilisation\, les citoyen.e.s s’organisent : militant.e.s des alternatives\, anarchistes\, libertaires\, collapsistes\, Gilets Jaunes et autres mouvements viendront présenter leur projet de société ainsi que des moyens d’y parvenir collectivement.\nEntrée à prix libre\, sur réservation => urlz.fr/92Tx \nSeront présent.e.s :\n– Juan Branco : connu comme avocat du Gilet Jaune Fly Rider et de Julian Assange (Wikileaks)\, il est aussi journaliste et écrivain. Il livre une analyse précise des élites et de leurs limites.\n– Vincent Mignerot : président d’honneur d’Adrastia\, principal comité de collapsologie française\, réseau étudiant le déclin de notre civilisation et de son impact sur l’humanité.\n– Emmanuelle Reungoat : maitresse de conférences en Science Politique à Montpellier\, spécialiste de l’action collective et de ses acteurs (citoyens\, partis politiques\, UE …).\n– Gilles: membre de « Un autre futur » à la CGA (Coordination des Groupes Anarchistes)\, il défend une vision libertaire et s’intéresse aux autres courants de l’anarchisme.\n– Marie-Noël de Visscher : chercheuse agronome et présidente d’Alternatiba Montpellier\, un mouvement national visant à faire connaître les alternatives pour sauver le climat. \nChacun.e des 5 intervenant.e.s aura 15 minutes de parole\, avant une table ronde avec questions du public. Nos partenaires tiendront des stands d’information durant la soirée ! \nLe Nouveau Monde – Montpellier est à l’initiative de cette soirée\, en partenariat avec:\nAlternatiba Montpellier\nOn remet ça pour le Climat – Montpellier\nDémosphère Hérault\nI-boycott Montpellier\nAdrastia\nOuvre-Tête\nHappy Planète\nLe Faubourg \n“Bien plus que la fin d’un monde\, participez à la naissance d’un nouveau.”
URL:https://lepoing.net/evenement/conference-vers-un-changement-majeur-du-monde-quelle-place-pour-laction-collective/
LOCATION:Salle Jules Pagézy\, 1 place Francis Ponge\, Montpellier\, Hérault\, 34000\, France
CATEGORIES:Débat
ATTACH;FMTTYPE=image/jpeg:https://lepoing.net/wp-content/uploads/2019/03/53491959_2255586261360101_4001657678639136768_o.jpg
END:VEVENT
END:VCALENDAR