BEGIN:VCALENDAR
VERSION:2.0
PRODID:-//Le Poing - ECPv6.8.3//NONSGML v1.0//EN
CALSCALE:GREGORIAN
METHOD:PUBLISH
X-ORIGINAL-URL:https://lepoing.net
X-WR-CALDESC:Évènements pour Le Poing
REFRESH-INTERVAL;VALUE=DURATION:PT1H
X-Robots-Tag:noindex
X-PUBLISHED-TTL:PT1H
BEGIN:VTIMEZONE
TZID:Europe/Paris
BEGIN:DAYLIGHT
TZOFFSETFROM:+0100
TZOFFSETTO:+0200
TZNAME:CEST
DTSTART:20190331T010000
END:DAYLIGHT
BEGIN:STANDARD
TZOFFSETFROM:+0200
TZOFFSETTO:+0100
TZNAME:CET
DTSTART:20191027T010000
END:STANDARD
END:VTIMEZONE
BEGIN:VEVENT
DTSTART;TZID=Europe/Paris:20190326T183000
DTEND;TZID=Europe/Paris:20190326T203000
DTSTAMP:20260420T125507
CREATED:20190311T122604Z
LAST-MODIFIED:20190311T122707Z
UID:13466-1553625000-1553632200@lepoing.net
SUMMARY:Évolution des classes populaires : quelle est la place des ingénieurs cadres et techniciens ?
DESCRIPTION:Classe ouvrière dispersée dans des établissements plus petits\, croissances des professions libérales\, accentuation de la division du travail intellectuel/manuel\, révolution numérique\, centre capitalistique dans le commerce\, accroissement des fonctions d’administration et de gestion : toutes ces évolutions sont porteuses de nombreuses questions. Qu’est-ce qu’un cadre ? Qu’y a-t-il de commun entre un cadre supérieur du siège d’une multinationale et l’ingénieur informatique qui travaille dans un site informatique d’une entreprise sous-traitant sa maintenance ? Rien ! Il y a vraiment matière à débat. \nPrésence de Vincent Gautheron\, secrétaire national à la coordination du bureau UGICT-CGT.
URL:https://lepoing.net/evenement/evolution-des-classes-populaires-quelle-est-la-place-des-ingenieurs-cadres-et-techniciens/
LOCATION:Salle Lacordaire\, 6 rue des Augustins\, Montpellier\, Hérault\, 34000\, France
CATEGORIES:Débat
ATTACH;FMTTYPE=image/jpeg:https://lepoing.net/wp-content/uploads/2019/03/charly-marx.jpg
END:VEVENT
END:VCALENDAR