BEGIN:VCALENDAR
VERSION:2.0
PRODID:-//Le Poing - ECPv6.8.3//NONSGML v1.0//EN
CALSCALE:GREGORIAN
METHOD:PUBLISH
X-WR-CALNAME:Le Poing
X-ORIGINAL-URL:https://lepoing.net
X-WR-CALDESC:Évènements pour Le Poing
REFRESH-INTERVAL;VALUE=DURATION:PT1H
X-Robots-Tag:noindex
X-PUBLISHED-TTL:PT1H
BEGIN:VTIMEZONE
TZID:Europe/Paris
BEGIN:DAYLIGHT
TZOFFSETFROM:+0100
TZOFFSETTO:+0200
TZNAME:CEST
DTSTART:20200329T010000
END:DAYLIGHT
BEGIN:STANDARD
TZOFFSETFROM:+0200
TZOFFSETTO:+0100
TZNAME:CET
DTSTART:20201025T010000
END:STANDARD
END:VTIMEZONE
BEGIN:VEVENT
DTSTART;TZID=Europe/Paris:20200912T100000
DTEND;TZID=Europe/Paris:20200912T233000
DTSTAMP:20260420T125244
CREATED:20200826T104751Z
LAST-MODIFIED:20200826T104751Z
UID:22783-1599904800-1599953400@lepoing.net
SUMMARY:Gilets jaunes - 12 septembre
DESCRIPTION:3 événements Montpelliérains pour cette journée de reprise de la lutte : \nhttps://www.facebook.com/events/214185806693336/ \nhttps://www.facebook.com/events/298046381257984/ \nhttps://www.facebook.com/events/2825627487672149/
URL:https://lepoing.net/evenement/gilets-jaunes-12-septembre/
LOCATION:Montpellier\, Montpellier\, Hérault\, 34000\, France
CATEGORIES:Manifestation
ATTACH;FMTTYPE=image/jpeg:https://lepoing.net/wp-content/uploads/2020/08/rp-12-09.jpg
END:VEVENT
END:VCALENDAR