BEGIN:VCALENDAR
VERSION:2.0
PRODID:-//Le Poing - ECPv6.8.3//NONSGML v1.0//EN
CALSCALE:GREGORIAN
METHOD:PUBLISH
X-WR-CALNAME:Le Poing
X-ORIGINAL-URL:https://lepoing.net
X-WR-CALDESC:Évènements pour Le Poing
REFRESH-INTERVAL;VALUE=DURATION:PT1H
X-Robots-Tag:noindex
X-PUBLISHED-TTL:PT1H
BEGIN:VTIMEZONE
TZID:Europe/Paris
BEGIN:DAYLIGHT
TZOFFSETFROM:+0100
TZOFFSETTO:+0200
TZNAME:CEST
DTSTART:20200329T010000
END:DAYLIGHT
BEGIN:STANDARD
TZOFFSETFROM:+0200
TZOFFSETTO:+0100
TZNAME:CET
DTSTART:20201025T010000
END:STANDARD
END:VTIMEZONE
BEGIN:VEVENT
DTSTART;TZID=Europe/Paris:20200921T080000
DTEND;TZID=Europe/Paris:20200921T170000
DTSTAMP:20260420T125242
CREATED:20200921T105908Z
LAST-MODIFIED:20200921T105908Z
UID:22944-1600675200-1600707600@lepoing.net
SUMMARY:Projection du film “Invasion Los Angeles (They Live !)”
DESCRIPTION:Le cinéclub#Barricade fait sa rentrée avec un cycle “Dystopies et systèmes d’exploitation”.\nLe cycle débute par la projection de “Invasion Los Angeles (They Live !)” réalisé par John Carpenter\, une virulente critique anti-capitaliste de la politique libérale américaine et de son consumérisme frénétique.\n\nLa séance sera suivie d’une discussion avec le public.\nEntrée libre. \n(! En raison des mesures sanitaires\, le nombre de places sera limité à 15 !) \n\nRéalisation : John Carpenter\nScénario : Ray Nelson & John Carpenter\nAvec : Roddy Piper\, Keith David\, Meg Foster\, George ‘Buck’ Flower\, Peter Jason …\nDurée : 94 minutes\nAnnée : 1988\nPays : États-Unis\nSynopsis : John Nada parcourt les routes à la recherche d’un travail comme main-d’œuvre sur les chantiers de Los Angeles. Il découvre une paire de lunettes hors du commun : elles lui permettent de voir le monde tel qu’il est réellement …
URL:https://lepoing.net/evenement/projection-du-film-invasion-los-angeles-they-live/
LOCATION:Le Barricade\, 5 rue Bonnie\, Montpellier
CATEGORIES:Projection
ATTACH;FMTTYPE=image/jpeg:https://lepoing.net/wp-content/uploads/2020/09/119886387_3597385440312570_1366575133722865718_o.jpg
END:VEVENT
BEGIN:VEVENT
DTSTART;TZID=Europe/Paris:20200921T200000
DTEND;TZID=Europe/Paris:20200921T230000
DTSTAMP:20260420T125242
CREATED:20200914T161719Z
LAST-MODIFIED:20200921T095827Z
UID:22856-1600718400-1600729200@lepoing.net
SUMMARY:Projection en avant-première du film “Un pays qui se tient sage” et débat avec son réalisateur David Dufresne
DESCRIPTION:Projection UN PAYS QUI SE TIENT SAGE suivie d’un débat avec le réalisateur David Dufresne. \nLe film est soutenu par la Quinzaine des réalisateurs. \nAlors que s’accroissent la colère et le mécontentement devant les injustices sociales\, de nombreuses manifestations citoyennes sont l’objet d’une répression de plus en plus brutale. \nUN PAYS QUI SE TIENT SAGE invite des citoyens à approfondir\, interroger et confronter leurs points de vue sur l’ordre social et la légitimité de l’usage de la violence par L’État.
URL:https://lepoing.net/evenement/avant-premiere-un-pays-qui-se-tient-sage-debat-avec-dufresne/
LOCATION:Cinéma Diagonal\, rue Boussairolles\, Montpellier\, France
CATEGORIES:Débat,Projection
ATTACH;FMTTYPE=image/jpeg:https://lepoing.net/wp-content/uploads/2020/09/illustration-4.jpg
END:VEVENT
END:VCALENDAR