BEGIN:VCALENDAR
VERSION:2.0
PRODID:-//Le Poing - ECPv6.8.3//NONSGML v1.0//EN
CALSCALE:GREGORIAN
METHOD:PUBLISH
X-WR-CALNAME:Le Poing
X-ORIGINAL-URL:https://lepoing.net
X-WR-CALDESC:Évènements pour Le Poing
REFRESH-INTERVAL;VALUE=DURATION:PT1H
X-Robots-Tag:noindex
X-PUBLISHED-TTL:PT1H
BEGIN:VTIMEZONE
TZID:Europe/Paris
BEGIN:DAYLIGHT
TZOFFSETFROM:+0100
TZOFFSETTO:+0200
TZNAME:CEST
DTSTART:20200329T010000
END:DAYLIGHT
BEGIN:STANDARD
TZOFFSETFROM:+0200
TZOFFSETTO:+0100
TZNAME:CET
DTSTART:20201025T010000
END:STANDARD
END:VTIMEZONE
BEGIN:VEVENT
DTSTART;TZID=Europe/Paris:20200922T183000
DTEND;TZID=Europe/Paris:20200922T203000
DTSTAMP:20260420T125119
CREATED:20200921T105035Z
LAST-MODIFIED:20200921T105035Z
UID:22935-1600799400-1600806600@lepoing.net
SUMMARY:Atelier de création artistique pour remplacer les pubs à Montpellier
DESCRIPTION:Un atelier créatif ouvert à toutes et tous\, petits (enfants bienvenus) et grands pour préparer des affiches grands formats.\n\nCréer des grands collages\, des affiches avec des poèmes\, des dessins\, des messages positifs\,…\nViens contribuer\, faire des affiches qui seront utilisées prochainement\, lors d’une action antipub\, pour remplacer ou occulter des publicités qui polluent notre espace public\, qui incitent à la surconsommation néfaste pour l’environnement.\n\nMunis toi de gros feutres\, marqueurs\, de peinture\, de pinceaux\, de petits rouleaux\, …. pour exprimer ta créativité sur ce qui prochainement embellira notre ville.\n\nCet atelier créatif est sans risque\, ambiance conviviale\, familiale.\n\nMerci de venir avec un masque.\n\nRdv à 18h30 à la carmagnole
URL:https://lepoing.net/evenement/atelier-de-creation-artistique-pour-remplacer-les-pubs-a-montpellier/
LOCATION:La Carmagnole\, 10 rue Haguenot\, Montpellier\, France
CATEGORIES:Atelier
ATTACH;FMTTYPE=image/jpeg:https://lepoing.net/wp-content/uploads/2020/09/119700365_913541025720881_8794434197471142660_o.jpg
END:VEVENT
BEGIN:VEVENT
DTSTART;TZID=Europe/Paris:20200922T183000
DTEND;TZID=Europe/Paris:20200922T203000
DTSTAMP:20260420T125119
CREATED:20200921T110529Z
LAST-MODIFIED:20200921T110529Z
UID:22947-1600799400-1600806600@lepoing.net
SUMMARY:Conférence : “Face à la décivilisation imposée par le capital\, penser l’après-capitalisme et sortir l’humanité de sa préhistoire”
DESCRIPTION:Dans un contexte propice aux remises en question\, le philosophe Bernard Vasseur invite le public à une conférence-débat sur Karl Marx. Cette « Rencontre Marx » se déroulera le 22 septembre 2020 à 18h30\, Espace Pitot. \n« Face à la dé-civilisation imposée par le capital\, penser l’après-capitalisme et sortir l’humanité de sa préhistoire »\, tel sera le thème abordé par Bernard Vasseur dans cette rencontre philosophique. Adhérant aux pensées marxistes\, il abordera un sujet toujours d’actualité: le capitalisme. \nInfos pratiques : Rencontre Marx\, 22 septembre 2020 | 18h30 | Espace Pitot\, Place du Professeur Mirouze\, Montpellier.
URL:https://lepoing.net/evenement/conference-face-a-la-decivilisation-imposee-par-le-capital-penser-lapres-capitalisme-et-sortir-lhumanite-de-sa-prehistoire/
LOCATION:Espace Pitot\, 140 Rue Pitot\, Montpellier\, Hérault\, 34000\, France
CATEGORIES:Conférence
ATTACH;FMTTYPE=image/jpeg:https://lepoing.net/wp-content/uploads/2020/09/Best-quotes-from-Karl-Marx.jpg
END:VEVENT
END:VCALENDAR