BEGIN:VCALENDAR
VERSION:2.0
PRODID:-//Le Poing - ECPv6.8.3//NONSGML v1.0//EN
CALSCALE:GREGORIAN
METHOD:PUBLISH
X-ORIGINAL-URL:https://lepoing.net
X-WR-CALDESC:Évènements pour Le Poing
REFRESH-INTERVAL;VALUE=DURATION:PT1H
X-Robots-Tag:noindex
X-PUBLISHED-TTL:PT1H
BEGIN:VTIMEZONE
TZID:Europe/Paris
BEGIN:DAYLIGHT
TZOFFSETFROM:+0100
TZOFFSETTO:+0200
TZNAME:CEST
DTSTART:20200329T010000
END:DAYLIGHT
BEGIN:STANDARD
TZOFFSETFROM:+0200
TZOFFSETTO:+0100
TZNAME:CET
DTSTART:20201025T010000
END:STANDARD
END:VTIMEZONE
BEGIN:VEVENT
DTSTART;TZID=Europe/Paris:20200928T120000
DTEND;TZID=Europe/Paris:20200928T140000
DTSTAMP:20260420T143948
CREATED:20200925T105648Z
LAST-MODIFIED:20200925T110235Z
UID:23125-1601294400-1601301600@lepoing.net
SUMMARY:Rassemblement contre la transphobie après le suicide de Doona
DESCRIPTION:Le Poing relaie ce communiqué : \n\nUne étudiante trans se suicide : Etat coupable\, CROUS responsable ! La transphobie et la précarité tuent !\n[Le 24 septembre 2020]\, Doona\, une étudiante trans\, a mis fin à ses jours à la gare Saint-Roch à Montpellier. Cette jeune femme avait déjà lancé plusieurs appels à l’aide sur les réseaux sociaux. De plus\, ses problèmes étaient connus du service médical de Paul Valéry (médecin de la médecine préventive)\, et de l’hôpital Lapeyronie. Elle avait\, en effet déjà fait plusieurs tentatives de suicide chez elle à la Cité Universitaire Vert-Bois\, dont les équipes étaient au courant. \nLors de ses prises en charge à l’hôpital\, elle a subit une maltraitance médicale importante dû à la transphobie portée par le personnel soignant\, ce qui l’a poussée à s’enfuir avant d’avoir reçu tous les soins adaptés. Nous tenons à rappeler que la transphobie institutionnelle pousse nombre de personnes trans à ne plus aller consulter\, que ce soit médecin généraliste ou urgences\, ce qui nuit considérablement à leur santé ! Ca a été le cas de Doona qui depuis ces épisodes traumatiques à l’hôpital\, n’a plus jamais voulu retourner aux urgences\, alors que sa santé mentale se dégradait de plus en plus. \nSuite à ces hospitalisations fréquentes\, le CROUS lui a explicitement dit que si elle retentait de se suicider\, ils lui retireraient son logement et enlèveraient ses bourses. Le jour même\, elle mettait fin à ses jours. Encore une fois\, l’État\, à travers le CROUS\, précarise les étudiant-e-s\, dégrade leur santé mentale\, parfois jusqu’au suicide. Nous demandons la justice pour Doona\, comme nous l’avions déjà exigé pour notre camarade lyonnais\, lorsqu’il s’était immolé par le feu devant le CROUS en raison de son extrême précarité et de l’inaction du CROUS. \nNous exigeons que le CROUS de Montpellier reconnaisse ses fautes et prenne des mesures concrètes en urgence : la formation des personnels CROUS et hospitaliers aux questions LGBTI+ et relatives à la santé mentale\, l’impossibilité pour le CROUS d’exclure les étudiant-e-s de leurs logements (avec la transformation des droits d’occupations en baux de droits communs)\, la création de cellules psychologiques non-mixtes LGBTI+ afin de rendre compte à l’administration des universités de la transphobie et de ce qu’il doit être fait pour y remédier\, la création d’une commission contre les discriminations au CROUS\, ainsi qu’un fond d’aide aux personnes trans ; et de manière générale\, des moyens à la hauteur des besoins pour que les étudiant-e-s vivent et étudient dans des conditions d’existence dignes. \nNous appelons donc à un rassemblement devant le CROUS de Montpellier à Boutonnet le 28 septembre à 12h.\nETAT COUPABLE\, CROUS RESPONSABLE !
URL:https://lepoing.net/evenement/rassemblement-contre-la-transphobie-apres-le-suicide-de-doona/
LOCATION:CROUS\, 2 rue Monteil\, Montpellier\, Hérault\, 34090\, France
CATEGORIES:Rassemblement
ATTACH;FMTTYPE=image/png:https://lepoing.net/wp-content/uploads/2020/09/Capture-5.png
ORGANIZER;CN="Solidaires %C3%89tudiant%C2%B7e%C2%B7s Montpellier":MAILTO:solidaires.etudiants.34@gmail.com
END:VEVENT
END:VCALENDAR