BEGIN:VCALENDAR
VERSION:2.0
PRODID:-//Le Poing - ECPv6.8.3//NONSGML v1.0//EN
CALSCALE:GREGORIAN
METHOD:PUBLISH
X-ORIGINAL-URL:https://lepoing.net
X-WR-CALDESC:Évènements pour Le Poing
REFRESH-INTERVAL;VALUE=DURATION:PT1H
X-Robots-Tag:noindex
X-PUBLISHED-TTL:PT1H
BEGIN:VTIMEZONE
TZID:Europe/Paris
BEGIN:DAYLIGHT
TZOFFSETFROM:+0100
TZOFFSETTO:+0200
TZNAME:CEST
DTSTART:20200329T010000
END:DAYLIGHT
BEGIN:STANDARD
TZOFFSETFROM:+0200
TZOFFSETTO:+0100
TZNAME:CET
DTSTART:20201025T010000
END:STANDARD
END:VTIMEZONE
BEGIN:VEVENT
DTSTART;TZID=Europe/Paris:20201001T190000
DTEND;TZID=Europe/Paris:20201001T210000
DTSTAMP:20260420T163745
CREATED:20200924T162650Z
LAST-MODIFIED:20200924T162650Z
UID:23084-1601578800-1601586000@lepoing.net
SUMMARY:« Covid-19\, le point sur la pandémie » : conférence de Samuel Alizon\, directeur de recherche au CNRS au sein du laboratoire MIVEGEC
DESCRIPTION:Au sein du Laboratoire MIGEVEC\, Samuel Alizon participe au groupe de modélisation de l’équipe ETE (Evolution Théorique et Expérimentale).\nCette équipe regroupe des chercheurs\, enseignants-chercheurs\, doctorant⋅es\, étudiants\, ingénieurs\, titulaires ou précaires\, qui travaillent à la modélisation de l’évolution des micro-organismes responsables de maladies infectieuses. \nLeur expertise\, tant au niveau de la biologie que des outils mathématiques\, statistiques et computationnels\, nous permet d’étudier les aspects populationnels de la pandémie de COVID-19\, ce qu’ils font depuis le 12 mars 2020. \nS. Alizon est également l’auteur de l’ouvrage “C’est grave Dr Darwin ? L’évolution\, les microbes et nous” (Ed. Science ouverte – Seuil)\nLes années 1980 ont sonné le glas de l’optimisme sanitaire avec la pandémie de sida et la généralisation des résistances aux antibiotiques. Depuis\, ne cessent d’émerger des maladies infectieuses nouvelles (SRAS\, grippe aviaire\, ebola…) ou anciennes mais maintenant résistantes (tuberculose). En comprenant leur origine\, on peut espérer les maîtriser et imaginer des traitements originaux. Mais la théorie de l’évolution parviendra-t-elle à influencer la pensée médicale ? Ce livre\, d’une vive actualité\, concerne\, par-delà les étudiants et les professionnels de santé\, un très large public. Carm
URL:https://lepoing.net/evenement/covid-19-le-point-sur-la-pandemie-conference-de-samuel-alizon-directeur-de-recherche-au-cnrs-au-sein-du-laboratoire-mivegec/
LOCATION:La Carmagnole\, 10 rue Haguenot\, Montpellier\, France
CATEGORIES:Conférence
ATTACH;FMTTYPE=image/png:https://lepoing.net/wp-content/uploads/2020/09/Capture-3.png
END:VEVENT
BEGIN:VEVENT
DTSTART;TZID=Europe/Paris:20201001T190000
DTEND;TZID=Europe/Paris:20201001T210000
DTSTAMP:20260420T163745
CREATED:20201001T131120Z
LAST-MODIFIED:20201001T131229Z
UID:23336-1601578800-1601586000@lepoing.net
SUMMARY:Présentation en ligne du livre “Notre corps\, nous-même”\, avec Nina Faure et Mathilde Blézat
DESCRIPTION:Nina Faure\, Mathilde Blézat et Yéléna Perret seront présentes le 1er octobre à 19h à la librairie montpelliérain “La Mauvaise Réputation” (20 rue Terral)\, siège de l’Union communiste libertaire de Montpellier. La jauge étant atteinte\, la présentation du livre Notre corps\, nous-même\, écrit par des femmes\, pour des femmes\, se fera aussi en direct\, sur internet\, via ce live youtube : \n  \n   \nContrairement à ce qui nous est demandé\, notre corps ne peut pas être constamment en forme\, beau\, maigre\, épilé\, désirant\, sans carence ni hématome. Il a des coups de pompe\, des baisses et des montées d’hormones\, des addictions. Il est parfois blessé. Notre corps doit pouvoir reprendre son souffle. Il nous appartient\, il est notre meilleur instrument : nous le voulons en bonne santé\, capable de se défendre\, et libre. Ce livre s’adresse à toutes les femmes\, et parle de ce qu’elles ont toutes en commun : le corps. Puberté\, sexualité\, contraception\, avortement\, accouchement\, vieillesse\, mais aussi riposte et émancipation… À travers de multiples récits d’expérience\, des témoignages récoltés lors de groupes de parole et d’entretiens\, mais aussi des données médicales et scientifiques\, ce manuel féministe propose des outils permettant aux femmes de mieux se connaître et de se sentir plus sûres et plus fortes\, ensemble. Paru pour la première fois aux États-Unis en 1973\, rédigé par un collectif de femmes\, Notre corps\, nous-mêmes a été adapté dans 35 langues\, dont le français en 1977. Ce livre en est une version entièrement réactualisée.
URL:https://lepoing.net/evenement/presentation-en-ligne-du-livre-notre-corps-nous-meme-avec-nina-faure-et-mathilde-blezat/
LOCATION:Sur internet\, Sur internet
CATEGORIES:Débat
ATTACH;FMTTYPE=image/jpeg:https://lepoing.net/wp-content/uploads/2020/10/https___cdn.evbuc_.com_images_109980797_413747514905_1_original.jpg
END:VEVENT
BEGIN:VEVENT
DTSTART;TZID=Europe/Paris:20201001T200000
DTEND;TZID=Europe/Paris:20201001T230000
DTSTAMP:20260420T163745
CREATED:20200930T110648Z
LAST-MODIFIED:20200930T110648Z
UID:23291-1601582400-1601593200@lepoing.net
SUMMARY:Projection du film “Les liberterres”\, suivie d'un débat
DESCRIPTION:Séance en présence de paysans héraultais en agriculture durable : Yézid Allaya (Lutin Jardin)\, maraîcher et éleveur de poules et brebis à Montferrier le Lez\, Agathe Frezouls (Domaine Enclos de la Croix)\, vigneronne à Lansargues\, Hélène Vialla (Domaine de l’Oulivie)\, oléicultrice à Combaillaux\, Nicolas Reddaf (Aux Petits Sabots)\, éleveur d’ânesses à St Jean de la Blaquière\, organisée par la FRCIVAM OCCITANIE dans le cadre de l’opération L’Hérault de ferme en ferme.
URL:https://lepoing.net/evenement/projection-du-film-les-liberterres-suivie-dun-debat/
LOCATION:Cinéma Diagonal\, rue Boussairolles\, Montpellier\, France
CATEGORIES:Débat,Projection
ATTACH;FMTTYPE=image/jpeg:https://lepoing.net/wp-content/uploads/2020/09/liberterres-affichea3cd130-w426.jpg
ORGANIZER;CN="L%E2%80%99H%C3%A9rault de ferme en ferme":MAILTO:https://www.defermeenferme.com/
END:VEVENT
END:VCALENDAR