BEGIN:VCALENDAR
VERSION:2.0
PRODID:-//Le Poing - ECPv6.8.3//NONSGML v1.0//EN
CALSCALE:GREGORIAN
METHOD:PUBLISH
X-ORIGINAL-URL:https://lepoing.net
X-WR-CALDESC:Évènements pour Le Poing
REFRESH-INTERVAL;VALUE=DURATION:PT1H
X-Robots-Tag:noindex
X-PUBLISHED-TTL:PT1H
BEGIN:VTIMEZONE
TZID:Europe/Paris
BEGIN:DAYLIGHT
TZOFFSETFROM:+0100
TZOFFSETTO:+0200
TZNAME:CEST
DTSTART:20200329T010000
END:DAYLIGHT
BEGIN:STANDARD
TZOFFSETFROM:+0200
TZOFFSETTO:+0100
TZNAME:CET
DTSTART:20201025T010000
END:STANDARD
END:VTIMEZONE
BEGIN:VEVENT
DTSTART;TZID=Europe/Paris:20201007T183000
DTEND;TZID=Europe/Paris:20201007T200000
DTSTAMP:20260422T110856
CREATED:20200930T114708Z
LAST-MODIFIED:20200930T114708Z
UID:23305-1602095400-1602100800@lepoing.net
SUMMARY:Débat : “qu'est-ce que le progrès ?”
DESCRIPTION:Au cours des derniers siècles\, découvertes scientifiques et inventions techniques ont été si révolutionnaires que science et technique naguère paraissaient capables de résoudre tous les problèmes du genre humain et de lui assurer un avenir radieux. \nCertes l’humanité a réalisé d’immenses progrès comme l’ invention de l’écriture puis de l’imprimerie. hygiène et vaccination ont éliminé les maladies infantiles et les grandes épidémies : peste\, choléra\, typhus\, lèpre\, tuberculose\, etc. Les grande famines d’autrefois ont elles aussi disparu. Mais l’ingéniosité humaine a aussi enfanté des monstres : bombe atomique\, pollution de toute la planète par l’industrie\, effondrement de la biodiversité\, épuisement des ressources naturelles par la surconsommation\, catastrophe climatique. L’avenir humain ne semble plus radieux. La notion même de « progrès » est désormais remise en cause. \nL’armement nucléaire\, ce prodigieux progrès technique\, n’est-il pas aussi un effrayant recul de civilisation ? Toute innovation est-elle forcément un progrès humain ? Parmi les nouveautés qu’on veut nous imposer\, n’avons-nous pas le droit d’opérer un tri ? Militer contre les armes de destruction massive est-ce vouloir revenir à l’âge des cavernes ? S’opposer aux centrales nucléaires\, est-ce vouloir s’éclairer à la bougie ? Etre méfiant envers la 5G\, exiger sur ce point un moratoire et un débat public approfondi est-ce de l’obscurantisme ou de la sage lucidité ? \nTel sera le sujet du café citoyen de Béziers \nMercredi 07 octobre à 18 h 30\ndans la péniche Le Capharnarhum amarrée au pont de Sauclières\nPour tout renseignement 04 67 76 28 56
URL:https://lepoing.net/evenement/debat-quest-ce-que-le-progres/
LOCATION:Péniche Le Capharnarhum\, Avenue Joseph Lazare\, Pont de Sauclières\, Béziers\, Hérault\, 34500\, France
CATEGORIES:Débat
ATTACH;FMTTYPE=image/png:https://lepoing.net/wp-content/uploads/2020/09/capharnarhum.png
END:VEVENT
END:VCALENDAR