BEGIN:VCALENDAR
VERSION:2.0
PRODID:-//Le Poing - ECPv6.8.3//NONSGML v1.0//EN
CALSCALE:GREGORIAN
METHOD:PUBLISH
X-ORIGINAL-URL:https://lepoing.net
X-WR-CALDESC:Évènements pour Le Poing
REFRESH-INTERVAL;VALUE=DURATION:PT1H
X-Robots-Tag:noindex
X-PUBLISHED-TTL:PT1H
BEGIN:VTIMEZONE
TZID:Europe/Paris
BEGIN:DAYLIGHT
TZOFFSETFROM:+0100
TZOFFSETTO:+0200
TZNAME:CEST
DTSTART:20200329T010000
END:DAYLIGHT
BEGIN:STANDARD
TZOFFSETFROM:+0200
TZOFFSETTO:+0100
TZNAME:CET
DTSTART:20201025T010000
END:STANDARD
END:VTIMEZONE
BEGIN:VEVENT
DTSTART;TZID=Europe/Paris:20201012T203000
DTEND;TZID=Europe/Paris:20201012T220000
DTSTAMP:20260420T143448
CREATED:20201001T134002Z
LAST-MODIFIED:20201001T134002Z
UID:23359-1602534600-1602540000@lepoing.net
SUMMARY:Projection du film “Un pays qui se tient sage” suivie d'un débat avec maître Gandini
DESCRIPTION:Alors que s’accroissent la colère et le mécontentement devant les injustices sociales\, de nombreuses manifestations citoyennes sont l’objet d’une répression de plus en plus violente. Un pays qui se tient sage invite des citoyens à approfondir\, interroger et confronter leurs points de vue sur l’ordre social et la légitimité de l’usage de la violence par l’Etat. \nLe film fait suite au roman Dernière sommation dans lequel il livrait son ressenti sur les violences policières durant le mouvement des gilets jaunes\, l’auteur et réalisateur David Dufresne continue de creuser la question du maintien de l’ordre et de ses dérives. \nLa projection sera suivie d’un débat avec M. Gandini\, avocat.
URL:https://lepoing.net/evenement/projection-du-film-un-pays-qui-se-tient-sage-suivie-dun-debat-avec-maitre-gandini/
LOCATION:Cinéma Comoedia\, 6 rue du 8 mai 1945\, Sète\, Hérault\, 34200\, France
CATEGORIES:Débat,Projection
ATTACH;FMTTYPE=image/png:https://lepoing.net/wp-content/uploads/2020/09/daviduf.png
END:VEVENT
END:VCALENDAR