BEGIN:VCALENDAR
VERSION:2.0
PRODID:-//Le Poing - ECPv6.8.3//NONSGML v1.0//EN
CALSCALE:GREGORIAN
METHOD:PUBLISH
X-WR-CALNAME:Le Poing
X-ORIGINAL-URL:https://lepoing.net
X-WR-CALDESC:Évènements pour Le Poing
REFRESH-INTERVAL;VALUE=DURATION:PT1H
X-Robots-Tag:noindex
X-PUBLISHED-TTL:PT1H
BEGIN:VTIMEZONE
TZID:Europe/Paris
BEGIN:DAYLIGHT
TZOFFSETFROM:+0100
TZOFFSETTO:+0200
TZNAME:CEST
DTSTART:20200329T010000
END:DAYLIGHT
BEGIN:STANDARD
TZOFFSETFROM:+0200
TZOFFSETTO:+0100
TZNAME:CET
DTSTART:20201025T010000
END:STANDARD
END:VTIMEZONE
BEGIN:VEVENT
DTSTART;TZID=Europe/Paris:20201110T080000
DTEND;TZID=Europe/Paris:20201110T170000
DTSTAMP:20260424T120235
CREATED:20200927T211018Z
LAST-MODIFIED:20200927T211018Z
UID:23194-1604995200-1605027600@lepoing.net
SUMMARY:Procès de l'inaction climatique et sociale
DESCRIPTION:Emmanuel Macron n’est pas “le champion du climat”!\n\nDepuis son accession au pouvoir en 2017\, il a mené une politique incohérente avec les engagements pris par la France à la COP21 et profondément injuste socialement\, menant tour à tour\, services publics\, gilets jaunes\, jeunesse\, citoyennes et citoyens\, etc à battre le pavé sans jamais être écouté·es.\n\nC’est pourquoi le 15 juillet 2019\, nous\, ANV COP-21 Montpellier\, Gilets Jaunes\, Arrêt du Nucléaire 34\, avons réquisitionné symboliquement le portrait du président de la République dans une mairie de l’Hérault\, uni·es autour de 3 grandes revendications :\n– Changeons le système\, pas le climat: fin du mois et fin du monde\, même combat ;\n– Arrêt du nucléaire ;\n– Stop à la répression\, policière comme judiciaire\, contre les opposant·es politiques.\n\nSuite à cela\, Lewis\, décrocheur de portrait a été placé en garde à vue et son domicile a été perquisitionné. Il sera jugé le 10 novembre prochain pour “vol en réunion”.\n\nNous ne sommes pas coupables de l’irresponsabilité d’Emmanuel Macron.\nLe 10 novembre 2020\, soyons présent·es pour apporter notre soutien et affirmer notre détermination. Comme Lewis\, nous sommes toutes et tous des Décrocheurs !\n————\nPlus d’infos à venir.\nPS : Nous aurons besoin de toi pour couvrir les frais autour de ce procès. Soutiens-nous en faisant un don à Alternatiba/ANV COP-21 Montpellier : frama.link/donanv34\nPlus d’info sur la campagne: https://decrochons-macron.fr/
URL:https://lepoing.net/evenement/proces-de-linaction-climatique-et-sociale/
LOCATION:Tribunal de Grande Instance de Montpellier\, Montpellier\, 34040
CATEGORIES:Rassemblement
ATTACH;FMTTYPE=image/jpeg:https://lepoing.net/wp-content/uploads/2019/07/maclew-1.jpg
END:VEVENT
END:VCALENDAR