BEGIN:VCALENDAR
VERSION:2.0
PRODID:-//Le Poing - ECPv6.8.3//NONSGML v1.0//EN
CALSCALE:GREGORIAN
METHOD:PUBLISH
X-ORIGINAL-URL:https://lepoing.net
X-WR-CALDESC:Évènements pour Le Poing
REFRESH-INTERVAL;VALUE=DURATION:PT1H
X-Robots-Tag:noindex
X-PUBLISHED-TTL:PT1H
BEGIN:VTIMEZONE
TZID:Europe/Paris
BEGIN:DAYLIGHT
TZOFFSETFROM:+0100
TZOFFSETTO:+0200
TZNAME:CEST
DTSTART:20200329T010000
END:DAYLIGHT
BEGIN:STANDARD
TZOFFSETFROM:+0200
TZOFFSETTO:+0100
TZNAME:CET
DTSTART:20201025T010000
END:STANDARD
END:VTIMEZONE
BEGIN:VEVENT
DTSTART;TZID=Europe/Paris:20201125T110000
DTEND;TZID=Europe/Paris:20201125T170000
DTSTAMP:20260424T120430
CREATED:20201119T170120Z
LAST-MODIFIED:20201119T170120Z
UID:23662-1606302000-1606323600@lepoing.net
SUMMARY:Mobilisation pour la journée internationale contre les violences faites aux femmes et aux minorités de genre
DESCRIPTION:Difficile de se mobiliser en période de confinement ?\nOui ! Mais pas impossible !\nMercredi 25 novembre 2020 à partir de 11h :\nOn occupe la rue visuellement ! Viens accrocher tes pancartes\, affiches\, slogans\, créations féministes sur et devant les grilles des jardins du Peyrou de Montpellier.\nEt puis : On inonde les réseaux sociaux de photos avec le #25novMTPbrisonslesilence\nEnvoie dès maintenant tes photos sur brisonslesilencemtp@gmail.com\nTu ne peux pas ? Ce n’est pas grave\, accroche du tissus violet à ton balcon\, à ta fenêtre …\nTu peux aussi faire les trois !\nRelaie cet événement le plus possible !
URL:https://lepoing.net/evenement/mobilisation-pour-la-journee-internationale-contre-les-violences-faites-aux-femmes-et-aux-minorites-de-genre/
LOCATION:Parc du Peyrou\, Promenade du Peyrou\, Montpellier\, Occitanie\, 34000\, France
CATEGORIES:Rassemblement
END:VEVENT
BEGIN:VEVENT
DTSTART;TZID=Europe/Paris:20201125T193000
DTEND;TZID=Europe/Paris:20201125T210000
DTSTAMP:20260424T120430
CREATED:20201120T182441Z
LAST-MODIFIED:20201120T182441Z
UID:23684-1606332600-1606338000@lepoing.net
SUMMARY:Témoignages et débats sur les luttes et les conditions de travail en temps de confinement
DESCRIPTION:Le second confinement a pour principe de confiner notre vie sociale et nos solidarité tout en préservant le travail et la production capitaliste parfois au mépris de notre santé – et en renforçant le niveau d’exploitation que nous subissons souvent. \nNous vous proposons de vous connecter sur notre évènement discord pour témoigner // échanger // discuter \nhttps://discord.gg/mZgfXKASU5
URL:https://lepoing.net/evenement/temoignages-et-debats-sur-les-luttes-et-les-conditions-de-travail-en-temps-de-confinement/
LOCATION:Sur internet\, Sur internet
CATEGORIES:Débat
ATTACH;FMTTYPE=image/jpeg:https://lepoing.net/wp-content/uploads/2020/11/126503585_3782477508470028_8004281050983412554_o.jpg
END:VEVENT
END:VCALENDAR