BEGIN:VCALENDAR
VERSION:2.0
PRODID:-//Le Poing - ECPv6.8.3//NONSGML v1.0//EN
CALSCALE:GREGORIAN
METHOD:PUBLISH
X-ORIGINAL-URL:https://lepoing.net
X-WR-CALDESC:Évènements pour Le Poing
REFRESH-INTERVAL;VALUE=DURATION:PT1H
X-Robots-Tag:noindex
X-PUBLISHED-TTL:PT1H
BEGIN:VTIMEZONE
TZID:Europe/Paris
BEGIN:DAYLIGHT
TZOFFSETFROM:+0100
TZOFFSETTO:+0200
TZNAME:CEST
DTSTART:20200329T010000
END:DAYLIGHT
BEGIN:STANDARD
TZOFFSETFROM:+0200
TZOFFSETTO:+0100
TZNAME:CET
DTSTART:20201025T010000
END:STANDARD
END:VTIMEZONE
BEGIN:VEVENT
DTSTART;TZID=Europe/Paris:20201201T130000
DTEND;TZID=Europe/Paris:20201201T150000
DTSTAMP:20260422T123148
CREATED:20201130T145053Z
LAST-MODIFIED:20201130T145053Z
UID:23901-1606827600-1606834800@lepoing.net
SUMMARY:Rassemblement de soutien aux assistants d'éducation en grève
DESCRIPTION:(Alentours de Béziers) Veuillez indiquer votre présence pour le mouvement de grève du mardi 1 er Décembre face à la sous préfecture de Béziers. Venez nombreuses et nombreux. 
URL:https://lepoing.net/evenement/rassemblement-de-soutien-aux-assistants-deducation-en-greve-2/
LOCATION:Sous-préfecture de Béziers\, Boulevard Edouard Herriot\, Béziers\, Hérault\, 34500\, France
CATEGORIES:Grève,Rassemblement
ATTACH;FMTTYPE=image/jpeg:https://lepoing.net/wp-content/uploads/2020/11/126717453_102938204982988_3559097743153673367_n.jpg
END:VEVENT
BEGIN:VEVENT
DTSTART;TZID=Europe/Paris:20201201T140000
DTEND;TZID=Europe/Paris:20201201T170000
DTSTAMP:20260422T123148
CREATED:20201130T144744Z
LAST-MODIFIED:20201130T144744Z
UID:23898-1606831200-1606842000@lepoing.net
SUMMARY:Rassemblement de soutien aux assistants d'éducation en grève
DESCRIPTION:Soutien à la mobilisation des AED de l’Hérault \nMardi 1er décembre 2020 aura lieu une grève nationale historique des personnels précaires de l’Éducation Nationale\, au premier rang desquels les Assistants d’Éducation (communément appelés “surveillants” ou même “pions”). Cette grève\, qui donnera lieu à de nombreux rassemblements partout en France (et notamment dans notre département devant le rectorat de Montpellier à 14h) est historique car depuis la réforme de notre statut il y a 17 ans c’est la première fois que la profession relève la tête et entend bien en finir une fois pour toutes avec des années de précarité\, de chantage au non-renouvellement de contrat\, de dégradation de nos conditions de travail et d’insécurité sociale de façon générale.
URL:https://lepoing.net/evenement/rassemblement-de-soutien-aux-assistants-deducation-en-greve/
LOCATION:Rectorat de Montpellier\, 31 rue de l'Université\, Montpellier\, Hérault\, 34000\, France
CATEGORIES:Assemblée générale,Grève,Rassemblement
ATTACH;FMTTYPE=image/jpeg:https://lepoing.net/wp-content/uploads/2020/11/126717453_102938204982988_3559097743153673367_n.jpg
END:VEVENT
END:VCALENDAR