BEGIN:VCALENDAR
VERSION:2.0
PRODID:-//Le Poing - ECPv6.8.3//NONSGML v1.0//EN
CALSCALE:GREGORIAN
METHOD:PUBLISH
X-ORIGINAL-URL:https://lepoing.net
X-WR-CALDESC:Évènements pour Le Poing
REFRESH-INTERVAL;VALUE=DURATION:PT1H
X-Robots-Tag:noindex
X-PUBLISHED-TTL:PT1H
BEGIN:VTIMEZONE
TZID:Europe/Paris
BEGIN:DAYLIGHT
TZOFFSETFROM:+0100
TZOFFSETTO:+0200
TZNAME:CEST
DTSTART:20200329T010000
END:DAYLIGHT
BEGIN:STANDARD
TZOFFSETFROM:+0200
TZOFFSETTO:+0100
TZNAME:CET
DTSTART:20201025T010000
END:STANDARD
END:VTIMEZONE
BEGIN:VEVENT
DTSTART;TZID=Europe/Paris:20201205T110000
DTEND;TZID=Europe/Paris:20201205T200000
DTSTAMP:20260424T120430
CREATED:20201202T162459Z
LAST-MODIFIED:20201205T005611Z
UID:23965-1607166000-1607198400@lepoing.net
SUMMARY:Rassemblements et manifestations pour le retrait de la loi « sécurité globale » [modifications régulières]
DESCRIPTION:Les gilets jaunes de Prés d’Arènes appellent à manifester à 11h à la mairie de Montpellier : \n \n\nLa page facebook du collectif “Danger Loi Sécurité Globale” a annulé\, suite à l’interdiction préfectorale\, ses événements facebook appelant à se rassembler de 14h à 18h sur l’Esplanade-Comédie\, et les a remplacé par un appel à tracter\, par groupes de 6\, de 14h à 18h sur l’Esplanade-Comédie\, avec une conférence de presse happening à 16h. \n \n\nLa page facebook “Montpellier contre la loi sécurité globale” maintient son appel à manifester à 16h au départ de l’Esplanade.
URL:https://lepoing.net/evenement/rassemblement-pour-le-retrait-de-la-loi-securite-globale/
LOCATION:Montpellier\, Montpellier\, Hérault\, 34000\, France
CATEGORIES:Rassemblement
ATTACH;FMTTYPE=image/jpeg:https://lepoing.net/wp-content/uploads/2020/12/128860661_102436181727864_198734086921576606_o.jpg
END:VEVENT
BEGIN:VEVENT
DTSTART;TZID=Europe/Paris:20201205T143000
DTEND;TZID=Europe/Paris:20201205T170000
DTSTAMP:20260424T120430
CREATED:20201204T125953Z
LAST-MODIFIED:20201204T125953Z
UID:24033-1607178600-1607187600@lepoing.net
SUMMARY:Permanence de solidarité administrative
DESCRIPTION:Galère pour comprendre et remplir nos papiers administratifs\, isolation face à la complexité des procédures pour accéder à nos droits – pour ne pas se décourager face au labyrinthe administratif\, soyons solidaires ! Nous vous vous proposons de nous entraider face aux institutions. En ces temps de Covid -19\, les inégalités d’accès aux droits s’accroissent. Faire appel à des services est parfois stigmatisant. \nSi nous souhaitons nous réunir autour de cette question\, c’est parce que nous sommes nombreuses et nombreux à constater les difficultés d’accès à nos droits pourtant élémentaires. Nous en sommes réduits et réduites à devoir faire appel à des professionnels et professionnelles pour connaître nos droits\, les comprendre\, saisir les démarches à entreprendre et suivre nos dossiers. \nNous avons donc décidé de nous réunir afin de nous entraider. Parce que certains et certaines d’entre nous ont déjà eu à monter des dossiers\, ou parce que nous nous intéressons à ce sujet\, nous souhaitons mettre en commun nos expériences afin de mieux nous défendre. Ensemble\, nous pourrons avoir plus de réponses\, trouver les bonnes orientations\, échanger sur nos difficultés. \nLa solidarité est une arme\, et seule la lutte paie ! \nRendez – vous au local Le Barricade tous les samedis de 14h30 à 17h.
URL:https://lepoing.net/evenement/permanence-de-solidarite-administrative/
LOCATION:Le Barricade\, 5 rue Bonnie\, Montpellier
CATEGORIES:Atelier
ATTACH;FMTTYPE=image/jpeg:https://lepoing.net/wp-content/uploads/2020/11/125528850_3766094423441670_7706395040791860745_o.jpg
END:VEVENT
BEGIN:VEVENT
DTSTART;TZID=Europe/Paris:20201205T150000
DTEND;TZID=Europe/Paris:20201205T200000
DTSTAMP:20260424T120430
CREATED:20201130T095043Z
LAST-MODIFIED:20201130T095043Z
UID:23896-1607180400-1607198400@lepoing.net
SUMMARY:Collectes de denrées alimentaires et de produits de première nécessité
DESCRIPTION:LA SOLIDARITÉ EST NOTRE ARME !\n\n\n\nLa librairie autogérée la Mauvaise Réputation met à disposition son local pour des collectes de denrées alimentaires et de produits de première\nnécessité à l’AESAE (Association pour l’Egalité Sociale\, l’Autogestion et l’Entraide) et l’association Le Barricade.\n\n\n\nLes collectes auront lieu le samedi de 15h à 17h au 20 rue Terral (quartier St Anne) à Montpellier et démarrent ce samedi 28 novembre 2020.\nLes redistributions auront lieu dans la foulée des collectes le samedi de 17h à 19h.\n\n\n\nFaites passer l’info massivement !\nSolidarité en direction des plus précaires !\n\n\nToutes les mesures de précaution seront mises en place lors des collectes (gel hydroalcoolique\, masques\, gants\, désinfection des produits\, zone pour le dépôt des denrées…)
URL:https://lepoing.net/evenement/collectes-de-denrees-alimentaires-et-de-produits-de-premiere-necessite-2/
LOCATION:La Mauvaise réputation\, 20 rue Terral\, Montpellier\, 34000\, France
CATEGORIES:Cantine
ATTACH;FMTTYPE=image/jpeg:https://lepoing.net/wp-content/uploads/2020/11/127276767_1783469198459022_6581279269696885391_n.jpg
END:VEVENT
END:VCALENDAR