BEGIN:VCALENDAR
VERSION:2.0
PRODID:-//Le Poing - ECPv6.8.3//NONSGML v1.0//EN
CALSCALE:GREGORIAN
METHOD:PUBLISH
X-ORIGINAL-URL:https://lepoing.net
X-WR-CALDESC:Évènements pour Le Poing
REFRESH-INTERVAL;VALUE=DURATION:PT1H
X-Robots-Tag:noindex
X-PUBLISHED-TTL:PT1H
BEGIN:VTIMEZONE
TZID:Europe/Paris
BEGIN:DAYLIGHT
TZOFFSETFROM:+0100
TZOFFSETTO:+0200
TZNAME:CEST
DTSTART:20200329T010000
END:DAYLIGHT
BEGIN:STANDARD
TZOFFSETFROM:+0200
TZOFFSETTO:+0100
TZNAME:CET
DTSTART:20201025T010000
END:STANDARD
END:VTIMEZONE
BEGIN:VEVENT
DTSTART;TZID=Europe/Paris:20201211T080000
DTEND;TZID=Europe/Paris:20201211T170000
DTSTAMP:20260424T132149
CREATED:20201211T112150Z
LAST-MODIFIED:20201211T112150Z
UID:24296-1607673600-1607706000@lepoing.net
SUMMARY:Manifestation contre la loi “sécurité globale” (Narbonne)
DESCRIPTION:SAMEDI 12 DÉCEMBRE. La FSU et ses syndicats appellent à participer massivement à la journée d’action : pour le retrait de la loi « sécurité globale » […] \n\n\nMOBILISATION SAMEDI 12 DÉCEMBRE ! \nLe gouvernement et les grands patrons profitent de la crise pour faire passer toujours plus de mesures libérales. Et ils espèrent étouffer la contestation par des mesures liberticides. \nC’est pour ces raisons que la FSU11 et ses syndicats appellent à participer massivement à la journée d’action : pour le retrait de la loi « sécurité globale » et pour le climat. \nsamedi 12 décembre 10h30 :Rassemblement devant la sous-préfecture suivie d’une manifestation déclarée en préfecture jusqu’à la permanence du député Péréa.
URL:https://lepoing.net/evenement/manifestation-contre-la-loi-securite-globale-narbonne/
LOCATION:Sous-préfecture de Narbonne\, 37 Boulevard Général de Gaulle\, Narbonne\, Aude\, 11100\, France
CATEGORIES:Manifestation
ATTACH;FMTTYPE=image/jpeg:https://lepoing.net/wp-content/uploads/2020/12/affiche_manif_Narbonne-2d5b9.jpg
END:VEVENT
END:VCALENDAR