BEGIN:VCALENDAR
VERSION:2.0
PRODID:-//Le Poing - ECPv6.8.3//NONSGML v1.0//EN
CALSCALE:GREGORIAN
METHOD:PUBLISH
X-WR-CALNAME:Le Poing
X-ORIGINAL-URL:https://lepoing.net
X-WR-CALDESC:Évènements pour Le Poing
REFRESH-INTERVAL;VALUE=DURATION:PT1H
X-Robots-Tag:noindex
X-PUBLISHED-TTL:PT1H
BEGIN:VTIMEZONE
TZID:Europe/Paris
BEGIN:DAYLIGHT
TZOFFSETFROM:+0100
TZOFFSETTO:+0200
TZNAME:CEST
DTSTART:20200329T010000
END:DAYLIGHT
BEGIN:STANDARD
TZOFFSETFROM:+0200
TZOFFSETTO:+0100
TZNAME:CET
DTSTART:20201025T010000
END:STANDARD
END:VTIMEZONE
BEGIN:VEVENT
DTSTART;TZID=Europe/Paris:20201216T140000
DTEND;TZID=Europe/Paris:20201216T170000
DTSTAMP:20260424T131947
CREATED:20201211T132251Z
LAST-MODIFIED:20201211T132251Z
UID:24320-1608127200-1608138000@lepoing.net
SUMMARY:Rassemblement pour l'octroi des primes REP et REP+ à tous les personnels de l'Éducation nationale
DESCRIPTION:Tous les personnels rémunérés par l’État dans les écoles\, collèges et établissements publics perçoivent la prime REP/REP+\, sauf les AED et les AESH. Cette injustice est d’autant plus flagrante que les AED et les AESH sont des personnels qui font partie intégrante de la communauté éducative\, en contact permanent avec les élèves. Face aux revendications des personnels\, le ministre Blanquer fait la sourde oreille. C’est donc maintenant qu’il faut agir pour que ces catégories de personnels bénéficient de cette prime. SUD éducation se mobilise et s’apprête à engager une action en justice pour faire reconnaître le droit des AED et AESH à percevoir la prime REP/REP+. \nLa démarche à suivre pour participer à l’action\nIl n’est pas trop tard pour rejoindre l’action militante et exiger sa prime en tant qu’AED ou AESH de REP/REP+. Pour cela\, suivez les étapes décrites dans l’article détaillé\, et soyez vigilant-es dans la rédaction de votre courrier : \n→ Inscrire son adresse administrative : c’est l’adresse de l’établissement de rattachement\, dans lequel on exerce. \n→ Adresser le courrier à la bonne personne : \n• si le contrat est signé par le DASEN\, il faut adresser le courrier au DASEN\, sous couvert de l’IEN.• si le contrat est signé par le lycée payeur/employeur\, il faut adresser le courrier à la Rectrice\, sous couvert de l’établissement payeur et de l’IEN (premier degré) / du chef d’établissement (second degré).• si le contrat est signé par le Rectorat\, il faut adresser le courrier à la Rectrice\, sous couvert de l’IEN (premier degré) ou du chef d’établissement (second degré) \n→ Envoyer votre courrier par la voie hiérarchique et la voie directe ; et une copie au syndicat : \n• un courrier papier ou numérique par la voie hiérarchique (ex : à Mme la Rectrice s/c du chef d’établissement)• doubler par un envoi direct à la Rectrice ou au DASEN (selon votre situation) en recommandé avec accusé de réception.• une copie (papier ou numérique) au syndicat à l’adresse suivante : syndicat@sudeducation34.org pour le dépôt collectif du 16 décembre \nMobilisation dans l’Hérault\nLes militant-es de SUD éducation 34 suivent leur calendrier d’action pour mener cette campagne toute l’année : ils et elles ont tourné dans les établissements pour diffuser l’information. Ils et elles ont tenu des permanences ce mercredi 9 décembre\, à Béziers et Montpellier\, afin d’aider les AED\, AP et AESH à faire les calculs et les courriers de réclamations. \nRassemblement ce mercredi 16 décembre\nRéservez votre mercredi après-midi ! Un rassemblement est organisé mercredi 16 décembre à 14h devant le Rectorat pour faire connaître cette inégalité de traitement\, remettre collectivement l’ensemble des courriers de réclamation\, et exprimer nos revendications en audience auprès de la Rectrice (pour laquelle nous attendons toujours une réponse). \nNous avons convié la presse à ce rassemblement. Le collectif Vie S’colère 34 est également informé et invité à rejoindre le rassemblement et l’audience. \nSoyons nombreuses et nombreux à soutenir les plus précaires de l’éducation nationale dans leur lutte pour de meilleurs salaires !
URL:https://lepoing.net/evenement/rassemblement-pour-loctroi-des-primes-rep-et-rep-a-tous-les-personnels-de-leducation-nationale/
LOCATION:Rectorat de Montpellier\, 31 rue de l'Université\, Montpellier\, Hérault\, 34000\, France
CATEGORIES:Rassemblement
ATTACH;FMTTYPE=image/png:https://lepoing.net/wp-content/uploads/2020/12/131282902_2797514223798915_8383473079811369759_n.png
END:VEVENT
BEGIN:VEVENT
DTSTART;TZID=Europe/Paris:20201216T180000
DTEND;TZID=Europe/Paris:20201216T210000
DTSTAMP:20260424T131947
CREATED:20201210T122303Z
LAST-MODIFIED:20201210T122303Z
UID:24237-1608141600-1608152400@lepoing.net
SUMMARY:Loi “sécurité Globale” : présentation et assemblée générale
DESCRIPTION:Loi “Sécurité globale” : rejet global ! \nDepuis trop d’années pour les compter\, les projets sécuritaires des gouvernements successifs s’enchaînent. Nos libertés s’évaporent au rythme de l’actualité. Ces lois et ces décrets n’ont stoppé ni les guerres ni les attentats. Mais de la gauche à l’extrême droite en passant par la macronie au pouvoir\, un seul discours domine : il faut restreindre les libertés\, donner plus de pouvoir à la police\, ficher la population et écraser toute contestation. \nLa sécurité\, c’est pouvoir faire des projets\, avoir accès à un toit\, à un travail\, à la santé\, aux loisirs. C’est ne pas avoir peur du futur. Le capitalisme est incapable de répondre aux besoins de parties croissantes de la population. Son système craque de partout. Mais il essaiera de se maintenir par tous les moyens disponibles\, y compris par la terreur. Ce n’est pas un hasard si la surenchère sécuritaire va de paire avec la dégradation de nos conditions de vie. Les forces de sécurité\, quelles qu’elles soient ont structurellement pour fonction de protéger la propriété privée\, les intérêts des possédants et des exploitants. \nHier les interdictions de manifester\, les arrestations préventives\, la prison et les mutilations. Aujourd’hui la loi “sécurité globale”\, la surveillance politique organisée par décrets avec la réapparition du fichier EDWIGE… Et demain quoi ? \nSi nous ne luttons pas aujourd’hui pour nos libertés\, demain nous en débattrons derrière des barbelés ou sous la surveillance permanente des drones. Nos dirigeants construisent un enfer : inversons la tendance\, avant qu’il ne soit trop tard. \nOrganisons-nous ! Présentation et assemblée générale au Bat du Peuple\, 1 Rue de la Substantion\, ce mercredi 16/12 à 18h.
URL:https://lepoing.net/evenement/loi-securite-globale-presentation-et-assemblee-generale/
LOCATION:BAT du peuple\, 1 rue de la Substantion\, Montpellier\, Hérault\, 34000\, France
CATEGORIES:Assemblée générale
ATTACH;FMTTYPE=image/jpeg:https://lepoing.net/wp-content/uploads/2020/12/130902065_3836803963037382_2450774408570622122_o.jpg
END:VEVENT
END:VCALENDAR