BEGIN:VCALENDAR
VERSION:2.0
PRODID:-//Le Poing - ECPv6.8.3//NONSGML v1.0//EN
CALSCALE:GREGORIAN
METHOD:PUBLISH
X-WR-CALNAME:Le Poing
X-ORIGINAL-URL:https://lepoing.net
X-WR-CALDESC:Évènements pour Le Poing
REFRESH-INTERVAL;VALUE=DURATION:PT1H
X-Robots-Tag:noindex
X-PUBLISHED-TTL:PT1H
BEGIN:VTIMEZONE
TZID:Europe/Paris
BEGIN:DAYLIGHT
TZOFFSETFROM:+0100
TZOFFSETTO:+0200
TZNAME:CEST
DTSTART:20200329T010000
END:DAYLIGHT
BEGIN:STANDARD
TZOFFSETFROM:+0200
TZOFFSETTO:+0100
TZNAME:CET
DTSTART:20201025T010000
END:STANDARD
END:VTIMEZONE
BEGIN:VEVENT
DTSTART;TZID=Europe/Paris:20201218T143000
DTEND;TZID=Europe/Paris:20201218T200000
DTSTAMP:20260424T131830
CREATED:20201212T114726Z
LAST-MODIFIED:20201212T114726Z
UID:24342-1608301800-1608321600@lepoing.net
SUMMARY:« Liberté\, Égalité\, Papiers ! » : rassemblement pour le droit des migrant·e·s
DESCRIPTION:La journée internationale des migrant.e.s du 18 décembre prochain sera marquée par l’acte 4 des Sans-papiers\, à l’initiative de 19 collectifs de sans-papiers\, de la Marche des solidarités\, des États Généraux des Migrations\, et de plus de 200 organisations. \nLe 17 octobre\, ce sont des dizaines de milliers de personnes qui ont manifesté à Paris\, à l’issue d’un mois de marche vers l’Élysée au départ des quatre coins de la France. En dépit de l’ampleur de cette mobilisation\, les pouvoirs publics sont restés silencieux. \nDans notre département et à la frontière avec l’Italie\, ils continuent encore et encore à harceler des humains dans la détresse qui croyaient pouvoir trouver refuge en France. L’État organise la chasse aux exilé.e.s\, leur enfermement ou leur invisibilisation\, au mépris des principes de solidarité et d’humanité\, au mépris de la légalité\, au mépris des engagements internationaux de la France. \nLes personnes et les travailleuses.eurs sans-papiers apportent leur contribution à la société française au même titre que les autres habitant.e·s. Ils y contribueraient encore mieux si on cessait de les tenir éloignées du travail et des droits sociaux. Ils font partie des personnes qui souffrent le plus de la crise sanitaire. \nSOMICO 06 (Solidarité Migrants Collectif 06) entend fédérer les organisations et les citoyens et citoyennes qui souhaitent participer à l’élan national pour la régularisation des sans-papiers du 18 décembre 2020 : https://blogs.mediapart.fr/marche-des-solidarites/blog/181120/acte-4-des-sans-papiers-liberte-egalite-papiers \nVendredi 18 décembre 2020\n14 h 30 :   Rassemblement place Masséna\nDélégation au Palais de justice pour dépôt d’un signalement sur les manquements au droit à la frontière\nAnimations musicales / goûter partagé\n18 h :   Spectacle musical par HK et les Saltimbanks « La Fin du Moi\, le début du Nous » à la Zonmé\n7 bis rue des Combattants en Afrique du Nord\nParticipation aux frais : 11 € (sur réservation en raison des conditions sanitaires) \nSignataires Appel SOMICO 06 : \nATTAC 06 – Citoyens solidaires 06 – CLAJ – Collectif citoyen Bévéra – FCPE 06 – FSU06 – LDH PACA et 06 – Mouvement de la Paix – MRAP 06 – RESF 06 – Roya Citoyenne – Solidaires 06 – Solidaires Etudiant.e.s – Syndicat des Avocats de France – Vallées solidaires \nAvec le soutien de : Alternatives et Autogestion 06 – CCFD Terre solidaire 06 – CIMADE 06 – Emmaus Roya – Ensemble ! 06 – Ensemble CSP Nice 06 – Europe Ecologie Les Verts 06 – La France Insoumise 06 – NPA 06 – Parti de Gauche 06 – Parti communiste 06 – Diem 25 – Génération.s 06 – Pax Christi Nice – Tous citoyens ! – UD CGT 06
URL:https://lepoing.net/evenement/liberte-egalite-papiers-rassemblement-pour-le-droit-des-migrant%c2%b7e%c2%b7s/
LOCATION:Place Massena\, 13 Place Massena\, Nice\, Alpes-Maritimes\, 06000\, France
CATEGORIES:Concert,Rassemblement
ATTACH;FMTTYPE=image/jpeg:https://lepoing.net/wp-content/uploads/2020/12/manif-migrant-horizontale.jpg
END:VEVENT
BEGIN:VEVENT
DTSTART;TZID=Europe/Paris:20201218T150000
DTEND;TZID=Europe/Paris:20201218T190000
DTSTAMP:20260424T131830
CREATED:20201208T190853Z
LAST-MODIFIED:20201208T190853Z
UID:24201-1608303600-1608318000@lepoing.net
SUMMARY:Manifestation pour la journée internationale des migrant·es – Acte 4 des sans-papiers
DESCRIPTION:Programme : \n– 15 heures sur le parvis de la mairie de Montpellier avec un campement symbolique (on amène des tentes et des lumières) \n– 16 heures 30 : départ en manifestation \n– 18 heures : tous devant la préfecture
URL:https://lepoing.net/evenement/manifestation-pour-la-journee-internationale-des-migrant%c2%b7es-acte-4-des-sans-papiers/
LOCATION:Mairie de Montpellier\, 26 rue de Bologne\, Montpellier\, Hérault\, 34080\, France
CATEGORIES:Manifestation
ATTACH;FMTTYPE=image/jpeg:https://lepoing.net/wp-content/uploads/2020/12/130232902_3938964512809213_7770393688284699464_o.jpg
END:VEVENT
END:VCALENDAR