BEGIN:VCALENDAR
VERSION:2.0
PRODID:-//Le Poing - ECPv6.8.3//NONSGML v1.0//EN
CALSCALE:GREGORIAN
METHOD:PUBLISH
X-ORIGINAL-URL:https://lepoing.net
X-WR-CALDESC:Évènements pour Le Poing
REFRESH-INTERVAL;VALUE=DURATION:PT1H
X-Robots-Tag:noindex
X-PUBLISHED-TTL:PT1H
BEGIN:VTIMEZONE
TZID:Europe/Paris
BEGIN:DAYLIGHT
TZOFFSETFROM:+0100
TZOFFSETTO:+0200
TZNAME:CEST
DTSTART:20200329T010000
END:DAYLIGHT
BEGIN:STANDARD
TZOFFSETFROM:+0200
TZOFFSETTO:+0100
TZNAME:CET
DTSTART:20201025T010000
END:STANDARD
END:VTIMEZONE
BEGIN:VEVENT
DTSTART;TZID=Europe/Paris:20201226T110000
DTEND;TZID=Europe/Paris:20201226T140000
DTSTAMP:20260424T132149
CREATED:20201224T094544Z
LAST-MODIFIED:20201224T094544Z
UID:24538-1608980400-1608991200@lepoing.net
SUMMARY:Manifestation des gilets jaunes de Près d'Arènes contre la loi sécurité globale
DESCRIPTION:A ceux qui rêvent de la trêve\, de la fin des manifs contre la loi sécurité globale et contre toutes les lois liberticides\, les GJ répondent :\nRDV à 11H00 devant la préfecture\nCe samedi 26 décembre !\nRassemblement symbolique entre noël et le jour de l’an
URL:https://lepoing.net/evenement/manifestation-des-gilets-jaunes-de-pres-darenes-contre-la-loi-securite-globale/
LOCATION:Préfecture de Montpellier\, Place des martyrs de la résistance\, Montpellier\, 34000\, France
CATEGORIES:Manifestation,Rassemblement
ATTACH;FMTTYPE=image/jpeg:https://lepoing.net/wp-content/uploads/2020/12/sam26.jpg
END:VEVENT
BEGIN:VEVENT
DTSTART;TZID=Europe/Paris:20201226T143000
DTEND;TZID=Europe/Paris:20201226T163000
DTSTAMP:20260424T132149
CREATED:20201211T132642Z
LAST-MODIFIED:20201211T132642Z
UID:24323-1608993000-1609000200@lepoing.net
SUMMARY:Tombola de Noël pour les prisonniers gilets jaunes
DESCRIPTION:Bonjour à tous\, \nLe Cool actif 11 organise comme l’an dernier une tombola de Noël. \nLes temps sont durs actuellement mais la solidarité est notre seul arme !! \nNous proposons la vente de billets à 2 € un ou 5 € les 3. 5 couleurs : bleu\, violet\, vert\, jaune\, rouge et pour chaque couleur ; les numéros de 1 à 100. \nLa vente se fait auprès de Gaëlle \, Vanessa\, Karine\, Hélène et Béatrice Reiser Bayonne par mail (soutienincarcere11@gmail.com) et sur la messagerie de la page facebook du cool actif. Pour le paiement parlez nous en MP nous vous dirons comment faire. \nLe tirage se fera le 20 Décembre 2020. \nL’argent ira en intégralité à nos incarcérés gilets jaunes\, ils ont besoin de nous\, ne les oublions pas. \nMerci pour eux 
URL:https://lepoing.net/evenement/tombola-de-noel-pour-les-prisonniers-gilets-jaunes/
LOCATION:Sur internet\, Sur internet
CATEGORIES:Fête
ATTACH;FMTTYPE=image/png:https://lepoing.net/wp-content/uploads/2020/12/coolactif11voussoutient.png
END:VEVENT
BEGIN:VEVENT
DTSTART;TZID=Europe/Paris:20201226T143000
DTEND;TZID=Europe/Paris:20201226T183000
DTSTAMP:20260424T132149
CREATED:20201224T095446Z
LAST-MODIFIED:20201224T095446Z
UID:24542-1608993000-1609007400@lepoing.net
SUMMARY:Manifestation des gilets jaunes de Béziers contre la loi sécurité globale
DESCRIPTION:Pas de trêve de noël : manifestons le 26 décembre contre la loi sécurité globale ! \nLe GJ de Béziers invite largement ceux qui refusent la trêve à se rassembler devant la sous-préfecture ce 26 décembre à 14h30. \nEn effet\, le gouvernement Macron espère que les 500 000 manifestants du 28 novembre pour le retrait de son projet liberticide rentrent dans le droit chemin et arrêtent de descendre dans la rue. \nArrêter de manifester dans ces conditions serait un bien trop beau cadeau de noël : qu’on ne compte pas sur nous pour lui offrir ! \nNous proposons donc aux syndicalistes\, aux militants de la démocratie\, aux citoyens\, aux jeunes\, de nous rejoindre. \nNous avons un message à faire passer : ce n’est pas l’ordre que prépare ce gouvernement\, c’est le chaos. Ce sont les licenciements\, la précarité\, les privatisations\, accéléré sous prétexte du COVID. C’est par peur de l’explosion sociale face à la misère que le gouvernement s’apprête à renforcer son arsenal répressif et son fichage. \nIl faut savoir dire non ! \nOn n’est pas sûr de gagner\, mais sans combat\, on est sûr de perdre ! \nTous en manifestation ce samedi 26 décembre 14H30 \nRendez-vous devant la sous-préfecture de Béziers ; mobilisons-nous !
URL:https://lepoing.net/evenement/manifestation-des-gilets-jaunes-de-beziers-contre-la-loi-securite-globale/
LOCATION:Sous-préfecture de Béziers\, Boulevard Edouard Herriot\, Béziers\, Hérault\, 34500\, France
CATEGORIES:Manifestation,Rassemblement
ATTACH;FMTTYPE=image/jpeg:https://lepoing.net/wp-content/uploads/2020/12/gjbeziers.jpg
END:VEVENT
BEGIN:VEVENT
DTSTART;TZID=Europe/Paris:20201226T150000
DTEND;TZID=Europe/Paris:20201226T190000
DTSTAMP:20260424T132149
CREATED:20201224T100253Z
LAST-MODIFIED:20201224T100253Z
UID:24547-1608994800-1609009200@lepoing.net
SUMMARY:Collecte et distribution alimentaire en solidarité avec les plus précaires à Montpellier
DESCRIPTION:Une collecte et une distribution alimentaire auront lieu ce samedi 26 décembre à Montpellier\, à la librairie La Mauvaise Réputation\, au 20 rue du Terral. Aucun justificatif de quoi que ce soit n’est demandé. \nRendez-vous à 15h pour la collecte\, à 17h pour la distribution.
URL:https://lepoing.net/evenement/collecte-et-distribution-alimentaire-en-solidarite-avec-les-plus-precaires-a-montpellier/
LOCATION:La Mauvaise réputation\, 20 rue Terral\, Montpellier\, 34000\, France
ATTACH;FMTTYPE=image/jpeg:https://lepoing.net/wp-content/uploads/2020/12/photo_2020-12-09_12-24-20.jpg
END:VEVENT
BEGIN:VEVENT
DTSTART;TZID=Europe/Paris:20201226T170000
DTEND;TZID=Europe/Paris:20201226T193000
DTSTAMP:20260424T132149
CREATED:20201224T101454Z
LAST-MODIFIED:20201224T101454Z
UID:24551-1609002000-1609011000@lepoing.net
SUMMARY:Collecte de vêtements d'hiver pour les enfants marocains à Montpellier
DESCRIPTION:Collecte de vêtements d’hiver pour les enfants marocains\, ce samedi 26 décembre à Montpellier. Rendez-vous de 17h à 19h30 sur le parking du Géant Casino Celleneuve.
URL:https://lepoing.net/evenement/collecte-de-vetements-dhiver-pour-les-enfants-marocains-a-montpellier/
LOCATION:parking du Géant Casino Celleneuve\, 129 avenue de Lodève\, Montpellier
CATEGORIES:Collecte de vêtements
ATTACH;FMTTYPE=image/png:https://lepoing.net/wp-content/uploads/2020/12/Screenshot-2020-12-24-at-11.13.14.png
END:VEVENT
END:VCALENDAR