BEGIN:VCALENDAR
VERSION:2.0
PRODID:-//Le Poing - ECPv6.8.3//NONSGML v1.0//EN
CALSCALE:GREGORIAN
METHOD:PUBLISH
X-ORIGINAL-URL:https://lepoing.net
X-WR-CALDESC:Évènements pour Le Poing
REFRESH-INTERVAL;VALUE=DURATION:PT1H
X-Robots-Tag:noindex
X-PUBLISHED-TTL:PT1H
BEGIN:VTIMEZONE
TZID:Europe/Paris
BEGIN:DAYLIGHT
TZOFFSETFROM:+0100
TZOFFSETTO:+0200
TZNAME:CEST
DTSTART:20210328T010000
END:DAYLIGHT
BEGIN:STANDARD
TZOFFSETFROM:+0200
TZOFFSETTO:+0100
TZNAME:CET
DTSTART:20211031T010000
END:STANDARD
END:VTIMEZONE
BEGIN:VEVENT
DTSTART;TZID=Europe/Paris:20210213T110000
DTEND;TZID=Europe/Paris:20210213T140000
DTSTAMP:20260424T162412
CREATED:20210207T003512Z
LAST-MODIFIED:20210210T203402Z
UID:25179-1613214000-1613224800@lepoing.net
SUMMARY:Marche des libertés contre la loi “sécurité globale”
DESCRIPTION:11h départ Parc Tastavin (arrêt Mas Drevon – Ligne 2) – Arrivée Place Roger Salengro\nAtelier maquillage zéro reconnaissance faciale\nDrôles de drones\nInformations / Discussions\nSound Systems\nBatucadas\nPerformances\n…\nFestif et familial !\nPensez à respecter les gestes barrières (distanciation sociale 1m50) et le port du masque
URL:https://lepoing.net/evenement/marche-des-libertes-contre-la-loi-securite-globale/
LOCATION:Parc Tastavin\, Parc Tastavin\, Montpellier\, Hérault\, 34070\, France
CATEGORIES:Manifestation
ATTACH;FMTTYPE=image/jpeg:https://lepoing.net/wp-content/uploads/2021/02/148938790_147230113883655_5498327641151983600_o.jpg
END:VEVENT
BEGIN:VEVENT
DTSTART;TZID=Europe/Paris:20210213T110000
DTEND;TZID=Europe/Paris:20210213T160000
DTSTAMP:20260424T162412
CREATED:20210210T204403Z
LAST-MODIFIED:20210210T204403Z
UID:25278-1613214000-1613232000@lepoing.net
SUMMARY:Mobilisation pour que la culture revienne dans nos vies
DESCRIPTION:
URL:https://lepoing.net/evenement/mobilisation-pour-que-la-culture-revienne-dans-nos-vies/
LOCATION:Place de la Comédie
CATEGORIES:Rassemblement
ATTACH;FMTTYPE=image/jpeg:https://lepoing.net/wp-content/uploads/2021/02/carmagnole-768x1494-1.jpg
END:VEVENT
END:VCALENDAR