BEGIN:VCALENDAR
VERSION:2.0
PRODID:-//Le Poing - ECPv6.8.3//NONSGML v1.0//EN
CALSCALE:GREGORIAN
METHOD:PUBLISH
X-ORIGINAL-URL:https://lepoing.net
X-WR-CALDESC:Évènements pour Le Poing
REFRESH-INTERVAL;VALUE=DURATION:PT1H
X-Robots-Tag:noindex
X-PUBLISHED-TTL:PT1H
BEGIN:VTIMEZONE
TZID:Europe/Paris
BEGIN:DAYLIGHT
TZOFFSETFROM:+0100
TZOFFSETTO:+0200
TZNAME:CEST
DTSTART:20210328T010000
END:DAYLIGHT
BEGIN:STANDARD
TZOFFSETFROM:+0200
TZOFFSETTO:+0100
TZNAME:CET
DTSTART:20211031T010000
END:STANDARD
END:VTIMEZONE
BEGIN:VEVENT
DTSTART;TZID=Europe/Paris:20210214T130000
DTEND;TZID=Europe/Paris:20210214T160000
DTSTAMP:20260424T162337
CREATED:20210210T202827Z
LAST-MODIFIED:20210210T202827Z
UID:25272-1613307600-1613318400@lepoing.net
SUMMARY:Rendez-vous des assistants d'éducation de Montpellier et des alentours
DESCRIPTION:Pour info\, on se retrouve ce Dimanche 14 Février à 13h au local Le Barricade à #Montpellier (quartier de la gare Saint Roch\, 14 rue Aristide Ollivier) pour boire un pot\, se rencontrer et échanger sur les suites de la mobilisation des AED et AESH\, notamment en vue du mois de mars.\n\nOn compte sur la présence de représentants d’un maximum de bahuts de Montpellier et de ses alentours.\n\nUnis et déterminés\, nous gagnerons !\n\nA dimanche!\n\n#NousNeSommesPasVosPions
URL:https://lepoing.net/evenement/rendez-vous-des-assistants-deducation-de-montpellier-et-des-alentours/
LOCATION:Le Barricade\, 5 rue Bonnie\, Montpellier
CATEGORIES:Apéro,Réunion
ATTACH;FMTTYPE=image/jpeg:https://lepoing.net/wp-content/uploads/2021/02/148553336_143821227561352_2991598899651868911_o.jpg
END:VEVENT
END:VCALENDAR