BEGIN:VCALENDAR
VERSION:2.0
PRODID:-//Le Poing - ECPv6.8.3//NONSGML v1.0//EN
CALSCALE:GREGORIAN
METHOD:PUBLISH
X-ORIGINAL-URL:https://lepoing.net
X-WR-CALDESC:Évènements pour Le Poing
REFRESH-INTERVAL;VALUE=DURATION:PT1H
X-Robots-Tag:noindex
X-PUBLISHED-TTL:PT1H
BEGIN:VTIMEZONE
TZID:Europe/Paris
BEGIN:DAYLIGHT
TZOFFSETFROM:+0100
TZOFFSETTO:+0200
TZNAME:CEST
DTSTART:20210328T010000
END:DAYLIGHT
BEGIN:STANDARD
TZOFFSETFROM:+0200
TZOFFSETTO:+0100
TZNAME:CET
DTSTART:20211031T010000
END:STANDARD
END:VTIMEZONE
BEGIN:VEVENT
DTSTART;TZID=Europe/Paris:20210317T150000
DTEND;TZID=Europe/Paris:20210317T170000
DTSTAMP:20260424T180110
CREATED:20210313T181907Z
LAST-MODIFIED:20210313T181907Z
UID:25737-1615993200-1616000400@lepoing.net
SUMMARY:Etat d’urgence culturel et social avec HK
DESCRIPTION:HK et les saltimbanques seront à Montpellier le mercredi 17 mars pour une performance musicale revendicative de 13h à 15h Place de la Comédie.\nCette initiative qui s’inscrit dans un tour de France militant de Kadour et de ses musiciens sera un nouveau prolongement de la grande manifestation organisée à Montpellier le 23 janvier qui a rassemblé 2000 personnes. à l’appel de 500 musiciens\, comédiens\, danseurs\, écrivains\, artistes de toutes disciplines\, publics et acteurs divers de la vie culturelle de notre région.\n\nDans ce moment particulier où se développe l’occupation des théâtres nationaux et des écoles d’art\, la Carmagnole appelle toutes celles et ceux qui refusent la mort programmée du spectacle vivant et de la culture à s’associer à cette initiative.\n\nElle appelle notamment le plus grand nombre de musiciennes et musiciens Montpelliérains à se joindre à HK pour donner à cet événement qui sera filmé une résonance nationale
URL:https://lepoing.net/evenement/etat-durgence-culturel-et-social-avec-hk/
LOCATION:Place de la Comédie
CATEGORIES:Concert
ATTACH;FMTTYPE=image/jpeg:https://lepoing.net/wp-content/uploads/2021/03/159656434_907030580095813_8550342677586525629_o-1.jpg
END:VEVENT
END:VCALENDAR