BEGIN:VCALENDAR
VERSION:2.0
PRODID:-//Le Poing - ECPv6.8.3//NONSGML v1.0//EN
CALSCALE:GREGORIAN
METHOD:PUBLISH
X-WR-CALNAME:Le Poing
X-ORIGINAL-URL:https://lepoing.net
X-WR-CALDESC:Évènements pour Le Poing
REFRESH-INTERVAL;VALUE=DURATION:PT1H
X-Robots-Tag:noindex
X-PUBLISHED-TTL:PT1H
BEGIN:VTIMEZONE
TZID:Europe/Paris
BEGIN:DAYLIGHT
TZOFFSETFROM:+0100
TZOFFSETTO:+0200
TZNAME:CEST
DTSTART:20210328T010000
END:DAYLIGHT
BEGIN:STANDARD
TZOFFSETFROM:+0200
TZOFFSETTO:+0100
TZNAME:CET
DTSTART:20211031T010000
END:STANDARD
END:VTIMEZONE
BEGIN:VEVENT
DTSTART;TZID=Europe/Paris:20210322T140000
DTEND;TZID=Europe/Paris:20210322T170000
DTSTAMP:20260424T175752
CREATED:20210321T182704Z
LAST-MODIFIED:20210321T182704Z
UID:25833-1616421600-1616432400@lepoing.net
SUMMARY:22 mars 2018 : Ni oubli\, Ni pardon !
DESCRIPTION:22 MARS 2021 : NI OUBLI\, NI PARDON !\n\nLe 22 mars 2018 a vu défiler partout en France des centaines de milliers de personnes contre les réformes du gouvernement. Fonctionnaires\, cheminot·e·s\, étudiant·e·s et retraité·e·s étaient appelé·e·s à une journée de grève et de manifestation par sept syndicats (CGT\, FO\, FSU\, CFTC\, Solidaires\, FA-FP et CFE-CGC) pour défendre les services publics\, les salaires\, les statuts\, l’emploi ainsi que les retraites. Concernant l’enseignement supérieur et la recherche\, une forte mobilisation était déjà en cours depuis plusieurs semaines dans les universités et les lycées contre La loi « Vidal » sur l’Orientation et la Réussite des Étudiants et la réforme du baccalauréat.\nC’est dans ce contexte\, que la réunion d’information\, prévue en UFR droit et sciences politiques\, s’est transformée en Assemblée Générale (AG) qui a voté l’occupation de l’Amphi A jusqu’au lendemain matin où une nouvelle AG devait se tenir. Celle-ci n’a pu avoir lieu car dans la nuit du 22 au 23 mars un commando armé\, en lien avec des groupuscules d’extrême droite\, a évacué par la force les étudiant·e·s mobilisé·e·s occupant l’amphi A\, commando armé à qui il a été permis de pénétrer dans le bâtiment et de se livrer à cette agression d’une extrême violence.\n\nLes vidéos de cette attaque ont fait le tour des médias français\, d’autant plus que le doyen de l’université M. Pétel et un Professeur d’histoire de droit M. Coronnel de Boissezon sont accusés immédiatement par les victimes\,le premier d’avoir fait entrer le commando et le second d’avoir pris part au violences.\nAlors que le mouvement social prend une ampleur certaine tant au niveau montpelliérain que national\, M. Pétel démissionne. Une enquête de l’IGAENR (Inspection générale de l’administration de l’Éducation nationale et de la Recherche) est lancée et conclut à la responsabilité des deux professeurs. Puis la section disciplinaire de la Sorbonne prononce une sanction de 5 ans d’interdiction d’enseigner pour M. Pétel\, tandis que M. Coronnel sera révoqué de l’enseignement supérieur.\nSur le volet pénal une vague d’interpellations\, ont eu lieu le mardi 11 septembre 2018 : huit personnes sont concernées dont M. Pétel et M. Coronnel\, ainsi que des sympathisants de la Ligue du Midi\, une « organisation radicale » d’extrême droite.\n\nPuis\, le 5 décembre 2019\, selon le réquisitoire du parquet\, le procureur de la république demande le renvoi de sept personnes devant le tribunal correctionnel par rapport à ces violences. On y apprend plus en détails les liens entre ce “commando armé” et les militants et groupes d’extrême droite. Aujourd’hui\, il reste encore des personnes à identifier\, cependant toutes nos demandes d’actes ont été rejetées par le juge. La prochaine audience est fixée au 20 et 21 mai et nous espérons la réouverture de l’enquête.\n\nDepuis cette date\, on peut constater un regain d’activité des groupuscules d’extrême droite sur Montpellier\, qui s’est notamment intensifié depuis la rentrée de septembre 2019. Des groupuscules d’extrême droite (Ligue du Midi\, Action française\, Génération identitaire\, etc…) mènent depuis plusieurs mois des actions sur l’Université Paul Valéry ainsi que dans la ville pour tenter de se rendre visibles. Commençant par des collages d’affiches et d’autocollants\, puis des intrusions et dégradations sur un local syndical. Une étudiante syndiquée a même été agressée en pleine journée au sein du campus\, ainsi que des militant-e-s le matin du 5 décembre 2020. Mais Montpellier n’est pas seule concernée\, des agressions ont aussi eu lieu à l’Université de Nanterre ou encore à Lyon.\nIl est à noter que la violence à l’encontre de militant-e-s pour le progrès social n’est pas en augmentation seulement chez les groupuscules d’extrême droite. En effet\, l’État\, véritable outil de domination de la classe bourgeoise\, a de plus en plus à cœur d’être son bras armé.\n\nDe façon globale\, nous assistons à une répression de la part du gouvernement de toutes les mobilisations\, comme on a pu le voir depuis un an et demi avec le mouvement des gilets jaunes ou plus récemment lors des mobilisations contre la réforme des retraites. Plus grave encore\, avec une montée en flèche de la répression contre le mouvement lycéen. Alors qu’il y a quelques années on aurait trouvé impensable de voir les forces de l’ordre réprimer un blocage\, on assiste actuellement à une généralisation de l’utilisation de gaz lacrymogène\, LBD40\, matraque (ou même grenade GLI-F4\, à confirmer) contre des lycéen.ne.s. afin d’écraser la contestation. La répression policière n’est pas seule\, elle est accompagnée d’une forte répression administrative avec\, notamment une multiplication des mesures disciplinaires.\nCe qu’il s’est passé il y a trois ans fait donc écho à cette répression généralisée des mouvements sociaux\, en particulier dans les universités et les lycées\, avec notamment de nombreuses agressions fascistes envers des militants survenues ces derniers mois.\n\nAinsi\, pour que les victimes soient entendues\, pour que justice soit faite\, mais aussi parce que nous n’oublions pas ni ne pardonnons aux agresseurs fascistes\, rassemblons-nous en un front anti-répression et antifasciste :\n\n– Le 22 mars prochain\, à 14h pour un rassemblement suivi d’une conférence de presse devant le bâtiment 1 de la faculté de Droit et Sciences Politique.\nNous terminerons sur un départ en manifestation antifasciste dans les rues de Montpellier.\n\nLe Collectif du 22 Mars\, Ni oubli\, Ni pardon !
URL:https://lepoing.net/evenement/22-mars-2018-ni-oubli-ni-pardon/
LOCATION:Faculté de droit de Montpellier\, 39 rue de l'Université\, Montpellier\, Hérault\, 34060\, France
CATEGORIES:Rassemblement
END:VEVENT
END:VCALENDAR