BEGIN:VCALENDAR
VERSION:2.0
PRODID:-//Le Poing - ECPv6.8.3//NONSGML v1.0//EN
CALSCALE:GREGORIAN
METHOD:PUBLISH
X-WR-CALNAME:Le Poing
X-ORIGINAL-URL:https://lepoing.net
X-WR-CALDESC:Évènements pour Le Poing
REFRESH-INTERVAL;VALUE=DURATION:PT1H
X-Robots-Tag:noindex
X-PUBLISHED-TTL:PT1H
BEGIN:VTIMEZONE
TZID:Europe/Paris
BEGIN:DAYLIGHT
TZOFFSETFROM:+0100
TZOFFSETTO:+0200
TZNAME:CEST
DTSTART:20210328T010000
END:DAYLIGHT
BEGIN:STANDARD
TZOFFSETFROM:+0200
TZOFFSETTO:+0100
TZNAME:CET
DTSTART:20211031T010000
END:STANDARD
END:VTIMEZONE
BEGIN:VEVENT
DTSTART;TZID=Europe/Paris:20210325T110000
DTEND;TZID=Europe/Paris:20210325T170000
DTSTAMP:20260424T175903
CREATED:20210325T080943Z
LAST-MODIFIED:20210325T080943Z
UID:25877-1616670000-1616691600@lepoing.net
SUMMARY:AED: Grève et Manif académique
DESCRIPTION:Dans le cadre de la Semaine de grève des AED\, organisée par la Coordination Nationale et soutenue par plusieurs syndicats\, nous appelons tous les AED de l’académie\, mais aussi nos collègues titulaires\, les parents et toutes personnes soutenant notre cause\, à se rejoindre à Montpellier ! Montrons notre détermination à en finir avec la précarité de nos statuts !\n\nJeudi 25 Mars\n\n RDV à 11h Place des Martyrs de la Résistance (à côté de la Préfecture)\n Amenez vos banderoles\, de quoi pique-niquer et de quoi faire de la musique et du bruit 
URL:https://lepoing.net/evenement/aed-greve-et-manif-academique/
LOCATION:Préfecture de Montpellier\, Place des martyrs de la résistance\, Montpellier\, 34000\, France
CATEGORIES:Manifestation
ATTACH;FMTTYPE=image/jpeg:https://lepoing.net/wp-content/uploads/2021/03/poing.jpg
END:VEVENT
END:VCALENDAR