BEGIN:VCALENDAR
VERSION:2.0
PRODID:-//Le Poing - ECPv6.8.3//NONSGML v1.0//EN
CALSCALE:GREGORIAN
METHOD:PUBLISH
X-ORIGINAL-URL:https://lepoing.net
X-WR-CALDESC:Évènements pour Le Poing
REFRESH-INTERVAL;VALUE=DURATION:PT1H
X-Robots-Tag:noindex
X-PUBLISHED-TTL:PT1H
BEGIN:VTIMEZONE
TZID:Europe/Paris
BEGIN:DAYLIGHT
TZOFFSETFROM:+0100
TZOFFSETTO:+0200
TZNAME:CEST
DTSTART:20210328T010000
END:DAYLIGHT
BEGIN:STANDARD
TZOFFSETFROM:+0200
TZOFFSETTO:+0100
TZNAME:CET
DTSTART:20211031T010000
END:STANDARD
END:VTIMEZONE
BEGIN:VEVENT
DTSTART;TZID=Europe/Paris:20210328T110000
DTEND;TZID=Europe/Paris:20210328T170000
DTSTAMP:20260424T180116
CREATED:20210325T081618Z
LAST-MODIFIED:20210325T081618Z
UID:25880-1616929200-1616950800@lepoing.net
SUMMARY:Marche pour une vraie loi climat à Sète
DESCRIPTION:Le projet de Loi Climat déposé par le gouvernement est loin d’être à la hauteur de l’urgence écologique. Pourtant\, c’est le dernier texte législatif du quinquennat consacré à l’environnement. Une dernière chance de prendre enfin des mesures concrètes pour la planète  et ses habitant·es  !\n\nLe 28 mars\, à la veille de l’entrée du texte de loi à l’Assemblée Nationale\, à Sète comme dans de très nombreuses autres villes\, nous nous mobilisons pour exiger une loi ambitieuse et défendre les mesures proposées par les 150 membres de la Convention citoyenne pour le Climat.\n\nLire l’appel pour une vraie loi climat  https://vraieloiclimat.fr/28mars/appel\n\n Rendez-vous devant l’hôtel de Ville de Sète le dimanche 28 mars à 11h !\n\nLa marche pour une vraie loi climat à Sète est co-organisée par Alternatiba Thau\, la Ligue pour les Droits de l’Homme de Sète\, le comité local Attac bassin de Thau et le 51\nPS : invitez vos ami·es\, familles\, collègues à cet événement ! 
URL:https://lepoing.net/evenement/marche-pour-une-vraie-loi-climat-a-sete/
LOCATION:Place de la mairie de Sète\, 20 bis rue Paul Valéry\, Sète\, Hérault\, 34200\, France
CATEGORIES:Manifestation
ATTACH;FMTTYPE=image/jpeg:https://lepoing.net/wp-content/uploads/2021/03/poing-1.jpg
END:VEVENT
BEGIN:VEVENT
DTSTART;TZID=Europe/Paris:20210328T140000
DTEND;TZID=Europe/Paris:20210328T190000
DTSTAMP:20260424T180116
CREATED:20210325T092108Z
LAST-MODIFIED:20210325T092108Z
UID:25898-1616940000-1616958000@lepoing.net
SUMMARY:Marche pour une vraie loi climat Montpellier
DESCRIPTION:Le projet de Loi Climat déposé par le gouvernement est loin d’être à la hauteur de l’urgence écologique. Pourtant\, c’est le dernier texte législatif du quinquennat consacré à l’environnement.\n\nLe 28 mars\, à la veille de l’entrée du texte de loi à l’Assemblée Nationale\, nous nous mobilisons pour exiger une loi ambitieuse et défendre les mesures proposées par les 150 membres de la Convention citoyenne pour le Climat.\n\nÀ Montpellier\, on se retrouve à 14h sur la place de l’Europe dans le respect des gestes barrières.\n\nPs : invitez vos ami.e.s\, familles\, collègues à cet événement ! \nListes des mobilisations locales :\n– Argeles Sur Mer : https://fb.me/e/irg2XLICs\n– Avignon https://fb.me/e/4SPXeAxv3\n– Bordeaux https://fb.me/e/1XpztlYiz\n– Brest : \nfacebook.com/events/186942779605145\n– Briec : \nhttps://www.facebook.com/events/453475259330326\n– Cahors< https://fb.me/e/3o5kYQvzl\n– Carcasonne https://fb.me/e/crFmsP8OZ\n– Charleville Mézières https://fb.me/e/23toqqEZI\n– Clermont-Ferrand https://fb.me/e/8u38pDWzG\n– Evry-Courcouronne https://fb.me/e/4R6EZryKt\n– Grenoble https://fb.me/e/1kYhJZ4Kw\n– Lille : https://fb.me/e/7bbqQTykA\n– Limoges : \nhttps://www.facebook.com/events/777110499595618\n– Metz https://fb.me/e/3ITop1ezy\n– Montbéliard : https://fb.me/e/2wtOxbUgg\n– Montélimar https://fb.me/e/BigVHURt\n– Montpellier https://fb.me/e/Usl2ogan\n– Nice https://fb.me/e/QUbqnvsO\n– Nîmes https://fb.me/e/12OBY9wSR\n– Orléans \nhttps://www.facebook.com/events/273318677606900\n– Paris https://fb.me/e/PD8UbMrz\n– Périgueux https://fb.me/e/23c1Tdt2U\n– Perpignan https://fb.me/e/3sJZ0jsh1\n– Rodez https://fb.me/e/3ZgQfLTgs\n– Rosult https://fb.me/e/1rjk7E7DG\n– Saint Malo https://fb.me/e/3ITop1ezy\n– Saintes \nhttps://www.facebook.com/events/2592862767681124\n– Sète https://fb.me/e/4dYWZ7fad\n– Strasbourg https://fb.me/e/cUi1uT3Re\n– Tahiti ; https://fb.me/e/1Z1z1lgwR\n– Toulon : https://fb.me/e/1deqVygQr\n– Toulouse : \nhttps://www.facebook.com/events/438093907523379\n– Tours https://fb.me/e/3STeg6W0R\n– Vierzon https://fb.me/e/OsbtwyNF\n\nPlus de 430 organisations appellent à se mobiliser le 28 mars !\n• 350.org\n• A.G.I.R\n• ACHEDFR Association Citoyenne pour une Heure Equitable et Durable depuis 1983\n• ACIRAD centre\n• Action Non-Violente COP21\n• Action Non-Violente COP21 – 63\n• Action Non-Violente COP21 – Nevers\n• ActionAid France\n• Actionaid Pays de Vannes\n• Adéquations\n• Adieu Glacier 05\n• Adovcnar\n• Affamons l’incinérateur de Créteil ALIC\n• Agenda Collaboratif de la Vallée de la Bièvre\n• Agir pour l’Environnement\n• Agir Pour Le Climat\n• Agissons pour le Climat Granville Terre et Mer\n• Aimer Sa Nature\n• Alliance Animale\n• Alofa Tuvalu\n• Alsace Nature\n• Alsace Nature Florival\n• Alter-Actif Arradon\n• Alternatiba\n• Alternatiba – Auch\n• Alternatiba – Evreux\n• Alternatiba – Marseille\n• Alternatiba – Martigues Ouest Étang de Berre\n• Alternatiba – Nevers\n• Alternatiba – Nord-Ouest Lyonnais\n• Alternatiba – Orléans\n• Alternatiba – Ouest Etang de Berre\n• Alternatiba – Perpignan\n• Alternatiba – Rosny\n• Alternatiba – Rouen\n• Alternatiba – Saint Etienne\n• Alternatiba – Saint-Lô\n• Alternatiba – Sénart\n• Alternatiba – Toulouse\n• Alternatiba – Valence and co\n• Alternatiba 06\n• Alternatiba 63\n• Alternatiba 66\n• Alternatiba/ANV-COP21 – Rhône\n• Alternatiba/ANV-COP21 – Sète Bassin de Thau\n• Alternatiba/ANV-COP21 – Vallée de l’Arve\n• AMAP de Provence\n• AMAP des Marais\n• AMAP Solidaires Avec Les Paysans\n• AMELIOR\, Fédération de Recycleurs biffins\n• Amis de la Terre\n• Amis de la Terre – Drôme\n• Amis de la Terre – Midi Pyrénées\n• Amis de la Terre – Savoie\n• AnimaTerra\n• ANV-COP 21 en Lot-et-Garonne\n• AOC (Association Ouverte et Citoyenne)\n• APF France Handicap\n• Arbres & Patrimoine\n• Argelès Nature Environnement\n• Assemblée Ciné Toyenne\n• Asso Via Chasserades\n• Association CAPS 68 Collectif Agir pour le Pays de Sierentz\n• Association Centrez Vous\n• Association de Défense de l’Environnement et de la Nature de l’Yonne (ADENY)\n• Association de Défense de la Vallée du Gambon27\n• Association de Défense et Protection du Littoral du Golfe de Fos (ADPLGF)\n• Association Eglise verte pour la Meuse\n• Association Image in\n• Association L214 Éthique & animaux\n• Association Les Anges Verts\n• Association Nationale des Etudiant.e.s sages-femmes\n• Association Végétarienne de France\n• ATD Quart Monde\n• Atécopol\n• Atmosphère Sauvage\n• ATTAC – Flandre\n• ATTAC – Forez\n• ATTAC – Montreuil\n• ATTAC – Rennes\n• ATTAC France\n• Avenir Climatique\n• Babellium\n• Bandes d’Abeilles\n• Bio consom’acteurs\n• Biocoop SA Coop\n• Bizi!\n• BLOOM\n• Boycott Citoyen\n• Ça commence par moi\n• CAC41 – Collectif Action Climat 41\n• Campus à Cultiver\n• Canopée\n• Canopée 12\n• CAPEN 71\n• CARE France\n• CCFD-Terre Solidaire\n• Centre d’Education Nature du Houtland\n• CERAS\n• CFDT\n• Changeons les règles\n• Chrétiens Unis pour la Terre\n• Citoyennes et Citoyens du Calaisis pour le Climat (Les 4C)\n• Citoyens du Monde\n• Citoyens engagés\n• Citoyens Pour Le Climat\n• Citoyens Pour Le Climat – Ardennes\n• Citoyens Pour Le Climat – Ardennes\n• Citoyens pour le Climat – Besançon\n• Citoyens Pour Le Climat – Cholet\n• Citoyens Pour Le Climat – Corsica\n• Citoyens Pour le Climat – Grenoble\n• Citoyens Pour Le Climat – Laval\n• Citoyens Pour Le Climat – Montélimar\n• Citoyens pour le Climat – Montpellier\n• Citoyens Pour Le Climat – Nice\n• Citoyens pour le Climat – Nice\n• Citoyens Pour Le Climat – Nîmes\n• Citoyens pour le Climat – Oise\n• Citoyens pour le Climat – Paris\n• Citoyens Pour Le Climat – Périgueux\n• Citoyens pour le Climat – Perpignan\n• Citoyens Pour Le Climat – Saintes\n• Citoyens Pour Le Climat – Tahiti\n• Citoyens Pour Le Climat 28\n• Citoyens Pour Le Climat 47\n• Citoyens Pour le Climat en Roannais\n• CIWF France\n• Climat 3 Frontières\n• Climat’hic!\n• CliMates\n• CNNR (Conseil National de la Nouvelle Résistance)\n• Coexister\n• COLL•E•C – Collectif d’Échanges Citoyens du Pays d’Aix\n• Collectif 3R\n• Collectif 12 Ensemble pour le climat\n• Collectif Asphalte\n• Collectif Citoyen pour le Climat et la Justice Sociale du Pays de Caux\n• Collectif Citoyen pour le Climat Vannes\n• Collectif Climat Aubervilliers\n• Collectif d’initiative locale pour l’environnement et la qualité de l’air dans l’Etampois\n• Collectif des Grévistes de la Faim pour un Avenir Possible\n• Collectif des Jeunes Drouais pour le Climat\n• Collectif du 5 novembre – Noailles en colère\n• Collectif Gilets Jaunes Montelimar\n• Collectif Marche pour le Climat 87\n• Collectif Pour une Convention Citoyenne pour le Climat Auvergne Rhône-Alpes\n• Collectif pour une Transition citoyenne au pays de Brest\n• Collectif Riec en Transition\n• Collectif Stop Amazon Briec\n• Collectif Stop Amazon et son monde – Val d’Oise\n• Collectif Stop Camions\n• Collectif Touraine Climat\n• Collectif Vietnam-Dioxine\n• Combat Monsanto\n• Comité Boisséen du Mouvement de la Paix\n• Comité Sud 54 du Mouvement de la Paix\n• Commown\n• Compagnie des Papillons Bleus\n• Comptoir de Campagne\n• Confédération paysanne\n• Conscience Now\n• Convention Pour une République Écologique\n• Convergence Services Publics 37\n• CoopCircuits\n• Coquelicots Du 35\n• Cre’Atout Développement Citoyen Durable\n• CRID\n• Croqua vie ô Jardin\n• Cueillir\n• Cyber Acteurs\n• CycloTransEurope\n• Declic\n• Droit Au Logement\n• Earthforce Fight Squad\n• Eau Secours Orléanais 45\n• Eclaireuses et Eclaireurs Unionistes de France\n• Ecobranding\n• Econovia\n• EcoRaison\n• Emancip’action\n• En Vert et avec Tous – EVEAT – Sucé sur Erdre\n• Enercoop\n• Enseignant.e.s Pour la Planète\n• Ensemble Pour Le Climat – Hauts-de-France\n• Entrepreneurs du Monde\n• Épicerie Chez Simone\n• Essaim d’avenir\n• Extinction Rébellion – Yvelines Est Sud\n• Extinction Rébellion – Angers\n• Extinction Rébellion – Ardèche\n• Extinction Rébellion – Avesnois\n• Extinction Rébellion – Besançon\n• Extinction Rébellion – Bordeaux\n• Extinction Rébellion – Cambrésis\n• Extinction Rébellion – Cherbourg\n• Extinction Rebellion – Corse\n• Extinction Rébellion – Fécamp\n• Extinction Rebellion – Nancy\n• Extinction Rebellion – Pays de Vannes\n• Extinction Rébellion – Poitiers\n• Extinction Rebellion – Rennes\n• Extinction Rébellion – Valenciennes\n• Extinction Rebellion 05\n• Extinction Rébellion France\n• Faire[e]\n• FAIRIUS\n• Fashion Revolution France\n• Faucheurs volontaires IDF\n• Fédération Artisans du Monde\n• Fédération des usagers de la Bicyclette (FUB)\n• Fédération SUD PTT\n• Fédération Syndicale Unitaire\n• Fédération Syndicale Unitaire – 58\n• FestiNATUR’\n• Feyzin-Europe\n• Fondation GoodPlanet\n• Fondation pour la Nature et l’Homme\n• Forum & Projets pour le développement durable\n• Foyer Protestant de la Duchère\n• France Nature Environnement\n• France Nature Environnement – Alpes de Haute Provence (FNE04)\n• France Nature Environnement – Alpes-Maritimes\n• France Nature Environnement – Bretagne\n• France Nature Environnement – Ile-de-France\n• France Nature Environnement – Midi-Pyrénées\n• France Nature Environnement – Paris\n• France Nature Environnement – Provence Alpes Côte d’Azur\n• France Nature Environnement – Puy de Dome\n• France Nature Environnement – Tarn-et-Garonne\n• Fridays For Future Australia\n• Fridays For Future Mali\n• Générations Futures\n• Générations Futures Limoges 87\n• GERES\n• Gilets Verts\n• GNSA Pays Toulousain\n• Graines de Roseaux\n• Graines et Terre\n• Graines Populaires 34\n• Grands Parents Pour Le Climat\n• GRAPE Normandie\n• Greenlobby\n• Greenpeace France\n• Grévistes de la faim pour un avenir possible\n• Groupe d’Action Populaire du Chaunois\n• Groupe de soutien des Grands-parents pour le Climat\n• Guéret En Selle\n• Harkis Occitanie Mémoires\n• I-Buycott Lyon\n• I.R.É.N.I.S (Institut de Recherches & d’Études Nature\, Individus\, Sociétés)\n• IDAE (Informations pour la Défense des Animaux et de l’Environnement)\n• Il Est Encore Temps\n• Il Est Encore Temps – Châteauroux\n• Il Est Encore Temps – La Roche sur Yon\n• Il Est Encore Temps – Lisieux Pays d’Auge\n• Il Est Encore Temps – Montbéliard\n• Il Est Encore Temps – Suresnes\n• Incroyables Comestibles Périgueux\n• Ingré Ormes 2030\n• Insistance Belgique\n• Jard’un Pour Tous Blois\n• Karethic\n• L’Abeille Cubzaguaise\n• L’archipel La Bascule\n• L’atelier de Kaya\n• L’Atelier de la Roue’Flaquette\n• L’Ecolo Buissonnière\n• L’Hermitage\n• La Charente se bouge pour la planète\n• La Compagnie du Belouga\n• La Dordogne par Nature\n• La Koncepterie\n• La Nef\n• La Rencontre Des Justices\n• La Renverse\n• La Route Du Cru\n• La Voie Est Libre\n• La Voûte Nubienne\n• Label Emmaus\n• Lanester En Commun\n• Le Chaudron des alternatives – Centre Alsace\n• LE GARDE – Groupement d’Ajaccio et de la Région Corse pour la Défense de l’Environnement\n• Le Gret\n• Le Monde D’Après\n• Le Mouvement\n• Le Mouvement de la Paix\n• Le Mouvement de la Paix 04\n• Le Mouvement de la Paix – Angers 49\n• Le Mouvement de la Paix – Comité de Nantes\n• Le Mouvement de la Paix – Comité des Alpes Maritimes\n• Le Ruban pour la Terre\n• Les 150 — L’association des 150 est apartisane et ne soutient que les mobilisations en lien avec son objet.\n• Les ami-e-s de la Confédération Paysanne\n• Les Amis de la Nature France\n• Les Colibris\n• Les ColocaTerre\n• Les Coursiers solidaires à vélo de Marseille\n• Les Ecobleus Marseille\n• Les Engraineuses\n• Les Lucioles – Ria d’Etel en Transition\n• Les Nouveaux Jours Heureux\n• Les Petits Debrouillards\n• Les souris vertes 88\n• Ligue des droits de l’Homme – section des Pyrénées orientales\n• Ligue des droits de l’Homme (LDH)\n• Ligue pour la Protection des Oiseaux (LPO)\n• Limousin Ecologie\n• Lobby-citoyen.org\n• Loire vivante nièvre allier cher\n• LorAMAP – Réseau des AMAP de Lorraine\n• Lou Mouvemen Prouvencau neo-Regiounaliste\n• Low Carbon France\n• Ma Ville ma Planète\n• Maison régionale de l’environnement et des Solidarités Hauts de France\n• makesense\n• MAN – Centre Alsace\n• MAN – Ocean Indien\n• MAN (Mouvement pour une Alternative Non-violente) – Orléans\n• Marigny Je T’Aime (MJT)\n• Max Havelaar France\n• Metz Marche pour le Climat\n• Militons Produisons Consommons Autrement en Sarthe / M.N.L.E. 72\n• MIRAMAP\n• Mission Populaire Évangélique de France\n• Mobicoop\n• Mon Cher Vélo\n• Mouvement du Christianisme Social\n• Mouvement Impact France\n• Mouvement pour une Alternative Non-violente\n• Mouvement pour une alternative non-violente de Saône-et-Loire MAN 71\n• Mouvement Utopia\n• Mûrs pour la transition\n• Natur’Jalles\n• Nature Environnement Livradois Forez\n• Naturevolution\n• No Plastic In My Sea\n• Notre Affaire à Tous\n• Notre Choix\n• Nous Voulons des Coquelicots – Alès\n• Nous Voulons des Coquelicots – Besançon\n• Nous Voulons des Coquelicots – Caen\n• Nous Voulons des Coquelicots – Chateaurenard\n• Nous Voulons des Coquelicots – Cher\n• Nous Voulons des Coquelicots – Cherbourg\n• Nous Voulons des Coquelicots – Gravelines\n• Nous Voulons des Coquelicots – Haute-Gironde\n• Nous Voulons des Coquelicots – Mouans Sartoux\n• Nous voulons des coquelicots – Rennes\n• Nous Voulons des Coquelicots – Saint-Junien\n• Nous Voulons des Coquelicots – Toulon\n• Nous Voulons des Coquelicots – Toulouse\n• Nucléaire en Questions\n• O’ Watt Citoyen\n• Oïkos: la maison\, son environnement\n• On Est Prêt\n• One Voice\n• Oxfam France\n• OzACTES\n• Pacte pour la Transition – Moëlan-sur-Mer\n• Pacte pour la Transition – Paris\n• Parallèle\n• Parents Pour Le Climat\n• Paris Bascule\n• Parole et énergie\n• Paysages de France\n• Paysages de France Languedoc\n• Penser L’apres\n• Pioche! Magazine\n• Pour Une Terre Plus Humaine\n• Printemps écologique – Education Nationale\n• Printemps écologique – Fonction Publique d’Etat\n• Printemps écologique – Service Conseil Etudes\n• Radio For Peace International\n• Ras le Rallye 05\n• RECIDEV\n• Recyclerie La Benne Idée\n• REFEDD\n• Renaissance Écologique\n• Réseau Action Climat\n• Réseau Féministe “Rupture”\n• Réseau Foi & Justice Afrique Europe\n• Résilience France\n• Résistance à l’Agression Publicitaire\n• Résistance Climatique\n• Respire\n• Restons Les Pieds Sur Terre\n• Rise for Climate Belgium\n• Rivières et Bocage Bélon Brigneau Merrien\n• RSB for Change\n• Saint-Junien Environnement\n• Salariés Pour le Futur\n• Sciences Citoyennes\n• Sciences Po Zéro Fossile\n• Semons des arbres\n• Société Alpine de Protection de la Nature – France Nature Environnement Hautes-Alpes\n• Sparknews\n• Stop Pollution Lumineuse La Roche sur Yon Agglo\n• Street Art Rebellion\n• Surfrider Foundation Europe\n• Syndicat National de l’Environnement\n• TeleCoop\n• Terre de Liens\n• The Green Global Project\n• The Greener Good\n• Thur Ecologie & Transports\n• Together For Earth\n• Tous des Artistes\n• Tous Unis avec Nicolas Hulot\n• Transilience\n• Transition Collective du Valentinois\n• Un Climat de Changement\n• Un Jour La Paix\n• Une génération pour la Terre\n• Union Syndicale Solidaires\n• Unis pour la Planète\n• Unis Pour Le Climat\n• Université du Nous\n• Urgence Climatique SBAA\n• Vitré-Tuvalu\n• Wesign.it\n• Wild Legal\n• YMMEDIAT\n• Youth For Climate\n• Zéro Fossile Toulon\n• Zero Waste – Pays de Gex\n• Zero Waste France\n• Zerodechet – Bourgoin Jallieu et environ
URL:https://lepoing.net/evenement/marche-pour-une-vraie-loi-climat-montpellier/
LOCATION:Place de l’Europe\, Place de l'Europe\, Montpellier\, Hérault\, 34000\, France
CATEGORIES:Manifestation
ATTACH;FMTTYPE=image/jpeg:https://lepoing.net/wp-content/uploads/2021/03/poing-6.jpg
END:VEVENT
BEGIN:VEVENT
DTSTART;TZID=Europe/Paris:20210328T143000
DTEND;TZID=Europe/Paris:20210328T170000
DTSTAMP:20260424T180116
CREATED:20210325T083348Z
LAST-MODIFIED:20210325T083348Z
UID:25886-1616941800-1616950800@lepoing.net
SUMMARY:Nîmes - Marche pour une Vraie Loi Climat
DESCRIPTION: Le projet de Loi Climat déposé par le gouvernement est loin d’être à la hauteur de l’urgence écologique et sociale\, alors même qu’un fabuleux travail avait été établi par les 150 citoyens tirés au sort de la Convention Citoyenne pour le Climat.\n\n Le 28 mars\, à la veille de l’entrée du texte de loi à l’Assemblée Nationale\, partout en France\, montrons notre soutien aux 150 citoyens de la Convention Citoyenne pour le Climat\n\n L’objectif est de dénoncer l’insuffisance du projet de loi et de demander aux élus de réhausser les exigences en votant les amendements nécessaires.\n\n Mobilisons-nous toutes et tous pour exiger une loi ambitieuse et défendre les mesures proposées par les 150 citoyens.\n\n Rendez-vous le Dimanche 28 mars à 14h30 à la Maison Carrée pour une marche citoyenne\, apartisane et pacifique dans les rues de Nîmes !\n\nPlus d’infos :\n Vidéo explicative de “On est prêts” : https://www.facebook.com/watch/?v=442497676804420\n L’évènement national : \nhttps://www.facebook.com/events/185443783017660\n\n Faisons la loi\, hackons le projet de loi climat : https://www.greenvox.org/
URL:https://lepoing.net/evenement/nimes-marche-pour-une-vraie-loi-climat/
LOCATION:Nîmes Maison Carrée
CATEGORIES:Manifestation
ATTACH;FMTTYPE=image/jpeg:https://lepoing.net/wp-content/uploads/2021/03/poing-3.jpg
END:VEVENT
END:VCALENDAR