BEGIN:VCALENDAR
VERSION:2.0
PRODID:-//Le Poing - ECPv6.8.3//NONSGML v1.0//EN
CALSCALE:GREGORIAN
METHOD:PUBLISH
X-ORIGINAL-URL:https://lepoing.net
X-WR-CALDESC:Évènements pour Le Poing
REFRESH-INTERVAL;VALUE=DURATION:PT1H
X-Robots-Tag:noindex
X-PUBLISHED-TTL:PT1H
BEGIN:VTIMEZONE
TZID:Europe/Paris
BEGIN:DAYLIGHT
TZOFFSETFROM:+0100
TZOFFSETTO:+0200
TZNAME:CEST
DTSTART:20210328T010000
END:DAYLIGHT
BEGIN:STANDARD
TZOFFSETFROM:+0200
TZOFFSETTO:+0100
TZNAME:CET
DTSTART:20211031T010000
END:STANDARD
END:VTIMEZONE
BEGIN:VEVENT
DTSTART;TZID=Europe/Paris:20210331T123000
DTEND;TZID=Europe/Paris:20210331T133000
DTSTAMP:20260424T180209
CREATED:20210330T074627Z
LAST-MODIFIED:20210330T074627Z
UID:25992-1617193800-1617197400@lepoing.net
SUMMARY:Antipub : action végétalisation et expression artistique
DESCRIPTION:Rejoignez nous pour assister à cette action de végétalisation et d’expression artistique contre la publicité qui envahit nos espaces publics !\nRendez-vous à 12h45 sur le parking de boulangerie / Fleuriste 23 avenue d’Assas à Montpellier. fin env. 13h15/13h30\n\n===========\n\nNos villes sont ainsi faites qu’elles écrasent et étouffent toutes graines en devenir. Mais les graines sont là et nous allons les aider à éclore car il y a URGENCE !\n– Les expert.e.s scientifiques annoncent jusqu’à +7°C de la température moyenne planétaires d’ici la fin de siècle [1]\, rendant la majorité de la planète inhabitable\n– Ce risque est lié aux industries et à la surproduction due à notre surconsommation\n– La publicité pousse à la surconsommation notamment de produits à forte émission de CO2\n– Elle créée des désirs inutiles\, de la frustration et entrave notre imaginaire\n– La fabrication de ces publicités génèrent des pollutions (encre\, papier)\n– La lumière de ses néons allumés 24h/24h impacte la biodiversité et ajoute une consommation d’énergie inutile\n– Nous sommes exposé.e.s à plusieurs milliers de pubs par jour sans le savoir et surtout sans l’avoir demandé\n– 73% des français trouvent la publicité envahissante et 85% intrusive [2].\n\nEn juin 2020\, la Convention Citoyenne pour le Climat a proposé la suppression des panneaux publicitaires dans l’espace public et la régulation drastique du contenu de la publicité.\n\nContre ces visions faussées du “bonheur” qui infestent nos imaginaires\, nous proposons un temps de repos et de pause à nos cerveaux sur-sollicités\, en ajoutant un peu de nature à tout ce béton\, cet acier et ce verre.\nNous exigeons le retrait de la publicité dans l’espace public. Nous demandons une augmentation drastique de la couverture végétale en zone urbaine afin d’affecter le climat local.\nNon à la publicité\, OUI à la biodiversité !\nDecaux au cachot [3]\, De la verdure pas des ordures ! Nos yeux ne sont pas à vendre !\n\n\n[1] jusqu’à +7°C en 2100 (source: https://www.lemonde.fr/…/jusqu-a-7-c-en-2100-les…)\n[2] TNS Sofres (2013)\, Les français et la publicité\, je t’aime encore un peu\, Agence Australie\, Paris\n[3] JC DECAUX est identifié\, dans l’affaire dite OpenLux\, selon LeMonde comme entreprise utilisant le paradis fiscal Luxembourg\, source d’évasion fiscale (source : https://www.publicsenat.fr/…/openlux-il-faut-mettre-le…)
URL:https://lepoing.net/evenement/antipub-action-vegetalisation-et-expression-artistique/
LOCATION:Avenue d’Assas Montpellier
CATEGORIES:Manifestation
ATTACH;FMTTYPE=image/jpeg:https://lepoing.net/wp-content/uploads/2021/03/poing-10.jpg
END:VEVENT
END:VCALENDAR