BEGIN:VCALENDAR
VERSION:2.0
PRODID:-//Le Poing - ECPv6.8.3//NONSGML v1.0//EN
CALSCALE:GREGORIAN
METHOD:PUBLISH
X-WR-CALNAME:Le Poing
X-ORIGINAL-URL:https://lepoing.net
X-WR-CALDESC:Évènements pour Le Poing
REFRESH-INTERVAL;VALUE=DURATION:PT1H
X-Robots-Tag:noindex
X-PUBLISHED-TTL:PT1H
BEGIN:VTIMEZONE
TZID:Europe/Paris
BEGIN:DAYLIGHT
TZOFFSETFROM:+0100
TZOFFSETTO:+0200
TZNAME:CEST
DTSTART:20210328T010000
END:DAYLIGHT
BEGIN:STANDARD
TZOFFSETFROM:+0200
TZOFFSETTO:+0100
TZNAME:CET
DTSTART:20211031T010000
END:STANDARD
END:VTIMEZONE
BEGIN:VEVENT
DTSTART;TZID=Europe/Paris:20210401T170000
DTEND;TZID=Europe/Paris:20210401T190000
DTSTAMP:20260424T175903
CREATED:20210330T074345Z
LAST-MODIFIED:20210330T074345Z
UID:25989-1617296400-1617303600@lepoing.net
SUMMARY:Accueil des nouvelles et nouveau d'avril 2021 - Extinction Rebellion
DESCRIPTION:Jeudi prochain soirée d’accueil des nouvelles et nouveaux.\n\nSi tu veux nous rejoindre\, dans l’action\, dans la réflexion et notre culture régénératrice.\nSi tu as envie d’en savoir plus la stratégie d’XR pour lutter.\n\nViens rencontrer des rebelles d’Extinction Rebellion pour discuter et savoir comment rejoindre notre mouvement.\n\nRdv à partir de 17h15 au Kiosque sur l’esplanade Charles de Gaulle à Montpellier.\n\nMerci de venir avec ton masque et du gel hydro-alcoolique. Nous serons en petits groupes\nAmour et Rage
URL:https://lepoing.net/evenement/accueil-des-nouvelles-et-nouveau-davril-2021-extinction-rebellion/
LOCATION:Esplanade Charles de Gaulle\, Esplanade Charles-de-Gaulle\, Montpellier\, Occitanie\, 34000\, France
CATEGORIES:Réunion
ATTACH;FMTTYPE=image/jpeg:https://lepoing.net/wp-content/uploads/2021/03/poing-9.jpg
END:VEVENT
END:VCALENDAR