BEGIN:VCALENDAR
VERSION:2.0
PRODID:-//Le Poing - ECPv6.8.3//NONSGML v1.0//EN
CALSCALE:GREGORIAN
METHOD:PUBLISH
X-WR-CALNAME:Le Poing
X-ORIGINAL-URL:https://lepoing.net
X-WR-CALDESC:Évènements pour Le Poing
REFRESH-INTERVAL;VALUE=DURATION:PT1H
X-Robots-Tag:noindex
X-PUBLISHED-TTL:PT1H
BEGIN:VTIMEZONE
TZID:Europe/Paris
BEGIN:DAYLIGHT
TZOFFSETFROM:+0100
TZOFFSETTO:+0200
TZNAME:CEST
DTSTART:20210328T010000
END:DAYLIGHT
BEGIN:STANDARD
TZOFFSETFROM:+0200
TZOFFSETTO:+0100
TZNAME:CET
DTSTART:20211031T010000
END:STANDARD
END:VTIMEZONE
BEGIN:VEVENT
DTSTART;TZID=Europe/Paris:20210410T140000
DTEND;TZID=Europe/Paris:20210410T190000
DTSTAMP:20260424T193145
CREATED:20210330T075023Z
LAST-MODIFIED:20210330T075023Z
UID:25996-1618063200-1618081200@lepoing.net
SUMMARY:Justice pour Mohamed
DESCRIPTION:“Je m’appelais Mohamed Helmi Gabsi.\nJ’avais 34 ans à peine\, j’étais père de trois enfants.\nLe 08 avril 2020\, j’ai rencontré la police municipale de Béziers… Le couvre-feu avait déjà\nsonné…\nJ’en suis mort.\nJ’ai été violenté par plusieurs hommes puis porté comme un objet dans la voiture… Des\nvidéos insoutenables montrent mes derniers instants…\nUne violence inouïe\, j’appelais au secours\, mais… J’étais seul.\nLe policier municipal l’avouera plus tard : on m’a mis sur le ventre dans la voiture\, et il s’est\nassis sur moi tout le long du trajet… Il dira tout simplement qu’il croyait “que je dormais”.\nArrivé au commissariat\, la police nationale m’a récupéré inconscient\, les pompiers ont\nessayé de me prodiguer les premiers soins pour sauver ce qu’il restait de ma vie…\nJ’ai fait des erreurs dans ma vie car elle n’était pas aussi simple que la vôtre… J’ai vécu des\nchoses difficile\, mais les médias ne vous le diront pas.\nPour justifier l’injustifiable\, pour minimiser l’horreur\, ils feront tout pour me salir… Comme\nd’habitude : vous les croirez… Mais aucun de vous n’a porté mes chaussures\, aucun de vous\nn’a vécu ce que j’ai vécu et ça… Ils ne vous le diront pas.\nMes enfants seront sans père… Car le 08 avril 2020… J’ai rencontré la police municipale.” \n*** \nMohamed Gabsi est décédé à Béziers le 08 avril 2020 suite à un contrôle de la\npolice municipale. Il était sorti après l’heure du couvre-feu pour acheter des\ncigarettes. Le rapport d’autopsie indique que la mort est due à l’intervention de la\npolice\, notamment à cause de la pression cervicale à l’origine de la fracture de la\ncorne thyroïdienne. Les vidéos prises ce soir-là démontrent de manière manifeste\nla violence de la police municipale. Mohamed Gabsi était une personne vulnérable :\nil souffrait de schizophrénie.\nDepuis décembre 2020\, les trois policiers responsables de l‘arrestation sont mis en\nexamen.\nUn comité a été constitué pour venir en soutien.à la famille de Mohamed. Notre\nobjectif est de faire connaître cet événement\, de s’assurer que la justice soit\ncorrectement rendue et que des faits similaires ne se reproduisent plus jamais à\nBéziers ou ailleurs.
URL:https://lepoing.net/evenement/justice-pour-mohamed/
LOCATION:Sous-préfecture de Béziers\, Boulevard Edouard Herriot\, Béziers\, Hérault\, 34500\, France
CATEGORIES:Manifestation
ATTACH;FMTTYPE=image/jpeg:https://lepoing.net/wp-content/uploads/2021/03/poing-11.jpg
END:VEVENT
END:VCALENDAR