BEGIN:VCALENDAR
VERSION:2.0
PRODID:-//Le Poing - ECPv6.8.3//NONSGML v1.0//EN
CALSCALE:GREGORIAN
METHOD:PUBLISH
X-ORIGINAL-URL:https://lepoing.net
X-WR-CALDESC:Évènements pour Le Poing
REFRESH-INTERVAL;VALUE=DURATION:PT1H
X-Robots-Tag:noindex
X-PUBLISHED-TTL:PT1H
BEGIN:VTIMEZONE
TZID:Europe/Paris
BEGIN:DAYLIGHT
TZOFFSETFROM:+0100
TZOFFSETTO:+0200
TZNAME:CEST
DTSTART:20210328T010000
END:DAYLIGHT
BEGIN:STANDARD
TZOFFSETFROM:+0200
TZOFFSETTO:+0100
TZNAME:CET
DTSTART:20211031T010000
END:STANDARD
END:VTIMEZONE
BEGIN:VEVENT
DTSTART;TZID=Europe/Paris:20210518T080000
DTEND;TZID=Europe/Paris:20210518T170000
DTSTAMP:20260424T211057
CREATED:20210516T234843Z
LAST-MODIFIED:20210516T234843Z
UID:26776-1621324800-1621357200@lepoing.net
SUMMARY:Montpellier : manif des postiers en grève nationale contre les fermetures de postes\, la précarisation du métier et la dégradation des conditions de travail. Départ à 10h de la poste Rondelet.
DESCRIPTION:
URL:https://lepoing.net/evenement/montpellier-manif-des-postiers-en-greve-nationale-contre-les-fermetures-de-postes-la-precarisation-du-metier-et-la-degradation-des-conditions-de-travail-depart-a-10h-de-la-poste-rondelet/
END:VEVENT
BEGIN:VEVENT
DTSTART;TZID=Europe/Paris:20210518T080000
DTEND;TZID=Europe/Paris:20210518T170000
DTSTAMP:20260424T211057
CREATED:20210516T235004Z
LAST-MODIFIED:20210516T235004Z
UID:26778-1621324800-1621357200@lepoing.net
SUMMARY:Roujan : manif des postiers en grève nationale contre les fermetures de postes\, la précarisation du métier et la dégradation des conditions de travail. Départ à 11h de la poste de Roujan.
DESCRIPTION:
URL:https://lepoing.net/evenement/roujan-manif-des-postiers-en-greve-nationale-contre-les-fermetures-de-postes-la-precarisation-du-metier-et-la-degradation-des-conditions-de-travail-depart-a-11h-de-la-poste-de-roujan/
END:VEVENT
BEGIN:VEVENT
DTSTART;TZID=Europe/Paris:20210518T080000
DTEND;TZID=Europe/Paris:20210518T170000
DTSTAMP:20260424T211057
CREATED:20210516T235033Z
LAST-MODIFIED:20210516T235159Z
UID:26780-1621324800-1621357200@lepoing.net
SUMMARY:Béziers : rassemblement contre la répression du mouvement lycéen à 12h15 devant la sous-préfecture
DESCRIPTION:
URL:https://lepoing.net/evenement/beziers-rassemblement-contre-la-repression-du-mouvement-lyceen-a-12h15-devant-la-sous-prefecture/
END:VEVENT
BEGIN:VEVENT
DTSTART;TZID=Europe/Paris:20210518T080000
DTEND;TZID=Europe/Paris:20210518T170000
DTSTAMP:20260424T211057
CREATED:20210516T235245Z
LAST-MODIFIED:20210516T235245Z
UID:26782-1621324800-1621357200@lepoing.net
SUMMARY:Montpellier : nouveau rassemblement de soutien au peuple palestinien\, à 16h devant la préfecture
DESCRIPTION:
URL:https://lepoing.net/evenement/montpellier-nouveau-rassemblement-de-soutien-au-peuple-palestinien-a-16h-devant-la-prefecture/
END:VEVENT
BEGIN:VEVENT
DTSTART;TZID=Europe/Paris:20210518T080000
DTEND;TZID=Europe/Paris:20210518T170000
DTSTAMP:20260424T211057
CREATED:20210516T235410Z
LAST-MODIFIED:20210516T235410Z
UID:26784-1621324800-1621357200@lepoing.net
SUMMARY:Mazamet : une manifestation contre le déploiement à marche forcée des compteurs Linky aura lieu à 10h sur la place de la mairie
DESCRIPTION:
URL:https://lepoing.net/evenement/mazamet-une-manifestation-contre-le-deploiement-a-marche-forcee-des-compteurs-linky-aura-lieu-a-10h-sur-la-place-de-la-mairie/
END:VEVENT
BEGIN:VEVENT
DTSTART;TZID=Europe/Paris:20210518T080000
DTEND;TZID=Europe/Paris:20210518T170000
DTSTAMP:20260424T211057
CREATED:20210516T235545Z
LAST-MODIFIED:20210516T235545Z
UID:26786-1621324800-1621357200@lepoing.net
SUMMARY:Alès : manif des postiers en grève nationale contre les fermetures de postes\, la précarisation du métier et la dégradation des conditions de travail. Rassemblement à 10h30 devant le bureau de poste d'Alès\, avenue du Général De Gaulle
DESCRIPTION:
URL:https://lepoing.net/evenement/ales-manif-des-postiers-en-greve-nationale-contre-les-fermetures-de-postes-la-precarisation-du-metier-et-la-degradation-des-conditions-de-travail-rassemblement-a-10h30-devant-le-bureau-de-poste-d/
END:VEVENT
BEGIN:VEVENT
DTSTART;TZID=Europe/Paris:20210518T080000
DTEND;TZID=Europe/Paris:20210518T170000
DTSTAMP:20260424T211057
CREATED:20210516T235633Z
LAST-MODIFIED:20210517T030945Z
UID:26788-1621324800-1621357200@lepoing.net
SUMMARY:Nîmes : journée de grève et de mobilisation pour les agents de Nîmes Métropole qui refusent le passage aux 1607h annuels\, et la perte de deux semaines de congés. Un rassemblement aura lieu dès 13h45 à la Maison des Associations\, au 2 impasse Jean Macé.
DESCRIPTION:
URL:https://lepoing.net/evenement/nimes-journee-de-greve-et-de-mobilisation-pour-les-agents-de-nimes-metropole-qui-refusent-le-passage-aux-1607h-annuels-et-la-perte-de-deux-semaines-de-conges-un-rassemblement-aura-lieu-des-13h45-a/
END:VEVENT
END:VCALENDAR