BEGIN:VCALENDAR
VERSION:2.0
PRODID:-//Le Poing - ECPv6.8.3//NONSGML v1.0//EN
CALSCALE:GREGORIAN
METHOD:PUBLISH
X-WR-CALNAME:Le Poing
X-ORIGINAL-URL:https://lepoing.net
X-WR-CALDESC:Évènements pour Le Poing
REFRESH-INTERVAL;VALUE=DURATION:PT1H
X-Robots-Tag:noindex
X-PUBLISHED-TTL:PT1H
BEGIN:VTIMEZONE
TZID:Europe/Paris
BEGIN:DAYLIGHT
TZOFFSETFROM:+0100
TZOFFSETTO:+0200
TZNAME:CEST
DTSTART:20210328T010000
END:DAYLIGHT
BEGIN:STANDARD
TZOFFSETFROM:+0200
TZOFFSETTO:+0100
TZNAME:CET
DTSTART:20211031T010000
END:STANDARD
END:VTIMEZONE
BEGIN:VEVENT
DTSTART;TZID=Europe/Paris:20210519T080000
DTEND;TZID=Europe/Paris:20210519T170000
DTSTAMP:20260424T210845
CREATED:20210516T235817Z
LAST-MODIFIED:20210516T235817Z
UID:26792-1621411200-1621443600@lepoing.net
SUMMARY:Montpellier : de 14h à 16h30\, le local associatif Le Barricade situé au 14 rue Aristide Ollivier propose un atelier couture gratuit.
DESCRIPTION:
URL:https://lepoing.net/evenement/montpellier-de-14h-a-16h30-le-local-associatif-le-barricade-situe-au-14-rue-aristide-ollivier-propose-un-atelier-couture-gratuit/
END:VEVENT
BEGIN:VEVENT
DTSTART;TZID=Europe/Paris:20210519T080000
DTEND;TZID=Europe/Paris:20210519T170000
DTSTAMP:20260424T210845
CREATED:20210516T235902Z
LAST-MODIFIED:20210516T235902Z
UID:26794-1621411200-1621443600@lepoing.net
SUMMARY:Montpellier : rassemblement à 15h devant le rectorat à l’appel de personnels\, parents d’élèves et professeurs pour plus de moyens dans les collèges de la ville.
DESCRIPTION:
URL:https://lepoing.net/evenement/montpellier-rassemblement-a-15h-devant-le-rectorat-a-lappel-de-personnels-parents-deleves-et-professeurs-pour-plus-de-moyens-dans-les-colleges-de-la-ville/
END:VEVENT
BEGIN:VEVENT
DTSTART;TZID=Europe/Paris:20210519T080000
DTEND;TZID=Europe/Paris:20210519T170000
DTSTAMP:20260424T210845
CREATED:20210517T000003Z
LAST-MODIFIED:20210517T000003Z
UID:26796-1621411200-1621443600@lepoing.net
SUMMARY:Montpellier : à partir de 16h30 devant le siège social du Collectif Montpelliérain de Solidarité avec le Peuple Grec\, au 2 rue Lacombe à Montpellier auront lieu discussions et ventes des produits Biome sur un fond musical. L’entreprise Biome de Thessalonique\, sous contrôle ouvrier\, est mise aux enchères en Grèce. D’où cet acte de solidarité internationale.
DESCRIPTION:
URL:https://lepoing.net/evenement/montpellier-a-partir-de-16h30-devant-le-siege-social-du-collectif-montpellierain-de-solidarite-avec-le-peuple-grec-au-2-rue-lacombe-a-montpellier-auront-lieu-discussions-et-ventes-des-produits-biom/
END:VEVENT
BEGIN:VEVENT
DTSTART;TZID=Europe/Paris:20210519T080000
DTEND;TZID=Europe/Paris:20210519T170000
DTSTAMP:20260424T210845
CREATED:20210517T000043Z
LAST-MODIFIED:20210517T000043Z
UID:26798-1621411200-1621443600@lepoing.net
SUMMARY:Montpellier : à partir de 18h se tiendra une permanence d’entraide administrative et d’écoute sociale au squat Le Bât des Peuples\, au 1 rue de la Substantion.
DESCRIPTION:
URL:https://lepoing.net/evenement/montpellier-a-partir-de-18h-se-tiendra-une-permanence-dentraide-administrative-et-decoute-sociale-au-squat-le-bat-des-peuples-au-1-rue-de-la-substantion/
END:VEVENT
END:VCALENDAR