BEGIN:VCALENDAR
VERSION:2.0
PRODID:-//Le Poing - ECPv6.8.3//NONSGML v1.0//EN
CALSCALE:GREGORIAN
METHOD:PUBLISH
X-WR-CALNAME:Le Poing
X-ORIGINAL-URL:https://lepoing.net
X-WR-CALDESC:Évènements pour Le Poing
REFRESH-INTERVAL;VALUE=DURATION:PT1H
X-Robots-Tag:noindex
X-PUBLISHED-TTL:PT1H
BEGIN:VTIMEZONE
TZID:Europe/Paris
BEGIN:DAYLIGHT
TZOFFSETFROM:+0100
TZOFFSETTO:+0200
TZNAME:CEST
DTSTART:20210328T010000
END:DAYLIGHT
BEGIN:STANDARD
TZOFFSETFROM:+0200
TZOFFSETTO:+0100
TZNAME:CET
DTSTART:20211031T010000
END:STANDARD
END:VTIMEZONE
BEGIN:VEVENT
DTSTART;TZID=Europe/Paris:20210521T080000
DTEND;TZID=Europe/Paris:20210521T170000
DTSTAMP:20260424T210921
CREATED:20210520T065746Z
LAST-MODIFIED:20210520T065746Z
UID:26924-1621584000-1621616400@lepoing.net
SUMMARY:Alternatives au LIEN Conférence de presse 21 mai à 14h devant l’entrée principale du Conseil départemental de Montpellier
DESCRIPTION:
URL:https://lepoing.net/evenement/alternatives-au-lien-conference-de-presse-21-mai-a-14h-devant-lentree-principale-du-conseil-departemental-de-montpellier/
END:VEVENT
END:VCALENDAR