BEGIN:VCALENDAR
VERSION:2.0
PRODID:-//Le Poing - ECPv6.8.3//NONSGML v1.0//EN
CALSCALE:GREGORIAN
METHOD:PUBLISH
X-WR-CALNAME:Le Poing
X-ORIGINAL-URL:https://lepoing.net
X-WR-CALDESC:Évènements pour Le Poing
REFRESH-INTERVAL;VALUE=DURATION:PT1H
X-Robots-Tag:noindex
X-PUBLISHED-TTL:PT1H
BEGIN:VTIMEZONE
TZID:Europe/Paris
BEGIN:DAYLIGHT
TZOFFSETFROM:+0100
TZOFFSETTO:+0200
TZNAME:CEST
DTSTART:20210328T010000
END:DAYLIGHT
BEGIN:STANDARD
TZOFFSETFROM:+0200
TZOFFSETTO:+0100
TZNAME:CET
DTSTART:20211031T010000
END:STANDARD
END:VTIMEZONE
BEGIN:VEVENT
DTSTART;TZID=Europe/Paris:20210523T080000
DTEND;TZID=Europe/Paris:20210523T170000
DTSTAMP:20260424T210845
CREATED:20210517T000342Z
LAST-MODIFIED:20210517T000342Z
UID:26806-1621756800-1621789200@lepoing.net
SUMMARY:Montpellier : 3ème cantine solidaire de l’association Le Barricade\, à l’arrière des jardins du Peyrou. Un outil non marchand de solidarité de classe qui veut briser l'isolement social et permet la rencontre et la communication autour d'un repas. Ce sera à 12h30.
DESCRIPTION:
URL:https://lepoing.net/evenement/montpellier-3eme-cantine-solidaire-de-lassociation-le-barricade-a-larriere-des-jardins-du-peyrou-un-outil-non-marchand-de-solidarite-de-classe-qui-veut-briser-lisolement-social/
END:VEVENT
BEGIN:VEVENT
DTSTART;TZID=Europe/Paris:20210523T080000
DTEND;TZID=Europe/Paris:20210523T170000
DTSTAMP:20260424T210845
CREATED:20210517T025100Z
LAST-MODIFIED:20210517T025100Z
UID:26808-1621756800-1621789200@lepoing.net
SUMMARY:Montpellier : les gilets jaunes du rond-point du Près d’Arènes organisent une journée conviviale et revendicative sur leur rond-point. Ce sera à partir de 10h\, avec un repas partagé et participatif à midi et des débats plus tard dans la journée.
DESCRIPTION:
URL:https://lepoing.net/evenement/montpellier-les-gilets-jaunes-du-rond-point-du-pres-darenes-organisent-une-journee-conviviale-et-revendicative-sur-leur-rond-point-ce-sera-a-partir-de-10h-avec-un-repas-partage-et-partici/
END:VEVENT
END:VCALENDAR