BEGIN:VCALENDAR
VERSION:2.0
PRODID:-//Le Poing - ECPv6.8.3//NONSGML v1.0//EN
CALSCALE:GREGORIAN
METHOD:PUBLISH
X-ORIGINAL-URL:https://lepoing.net
X-WR-CALDESC:Évènements pour Le Poing
REFRESH-INTERVAL;VALUE=DURATION:PT1H
X-Robots-Tag:noindex
X-PUBLISHED-TTL:PT1H
BEGIN:VTIMEZONE
TZID:Europe/Paris
BEGIN:DAYLIGHT
TZOFFSETFROM:+0100
TZOFFSETTO:+0200
TZNAME:CEST
DTSTART:20210328T010000
END:DAYLIGHT
BEGIN:STANDARD
TZOFFSETFROM:+0200
TZOFFSETTO:+0100
TZNAME:CET
DTSTART:20211031T010000
END:STANDARD
END:VTIMEZONE
BEGIN:VEVENT
DTSTART;TZID=Europe/Paris:20210527T080000
DTEND;TZID=Europe/Paris:20210527T170000
DTSTAMP:20260424T211107
CREATED:20210527T085241Z
LAST-MODIFIED:20210527T085241Z
UID:27090-1622102400-1622134800@lepoing.net
SUMMARY:Partout : Débat organisé par Ensemble Insoumis\, en direct sur leur page Facebook à partir de 20h : « L’antiracisme aujourd’hui : contribution au débat » Animé par Sarah Mazouz\, Sociologue CNRS\, Abdellali Hajjat\, Sociologue\, Université Libre de Bruxelles \, Emmanuel Arvois\, Laurent Sorel\, Ensemble Insoumis.
DESCRIPTION:
URL:https://lepoing.net/evenement/partout-debat-organise-par-ensemble-insoumis-en-direct-sur-leur-page-facebook-a-partir-de-20h-lantiracisme-aujourdhui-contribution-au-debat-anime-par-sarah-mazou-2/
END:VEVENT
END:VCALENDAR