BEGIN:VCALENDAR
VERSION:2.0
PRODID:-//Le Poing - ECPv6.8.3//NONSGML v1.0//EN
CALSCALE:GREGORIAN
METHOD:PUBLISH
X-ORIGINAL-URL:https://lepoing.net
X-WR-CALDESC:Évènements pour Le Poing
REFRESH-INTERVAL;VALUE=DURATION:PT1H
X-Robots-Tag:noindex
X-PUBLISHED-TTL:PT1H
BEGIN:VTIMEZONE
TZID:Europe/Paris
BEGIN:DAYLIGHT
TZOFFSETFROM:+0100
TZOFFSETTO:+0200
TZNAME:CEST
DTSTART:20210328T010000
END:DAYLIGHT
BEGIN:STANDARD
TZOFFSETFROM:+0200
TZOFFSETTO:+0100
TZNAME:CET
DTSTART:20211031T010000
END:STANDARD
END:VTIMEZONE
BEGIN:VEVENT
DTSTART;TZID=Europe/Paris:20210528T080000
DTEND;TZID=Europe/Paris:20210528T170000
DTSTAMP:20260424T211057
CREATED:20210527T083457Z
LAST-MODIFIED:20210527T083834Z
UID:27087-1622188800-1622221200@lepoing.net
SUMMARY:Montpellier : à partir de 19h soirée autour de la lecture de lettres envoyées par des Communards déportés. Ce sera à la Carmagnole\, 10 rue Haguenot. Au vu de la situation sanitaire\, le nombre de personnes est limité\, il faut donc réserver ici. Pour les autres la soirée peut se suivre sur la web-tv de la Carmagnole\, par ici.
DESCRIPTION:
URL:https://lepoing.net/evenement/partout-debat-organise-par-ensemble-insoumis-en-direct-sur-leur-page-facebook-a-partir-de-20h-lantiracisme-aujourdhui-contribution-au-debat-anime-par-sarah-mazou/
END:VEVENT
BEGIN:VEVENT
DTSTART;TZID=Europe/Paris:20210528T080000
DTEND;TZID=Europe/Paris:20210528T170000
DTSTAMP:20260424T211057
CREATED:20210527T085331Z
LAST-MODIFIED:20210527T085331Z
UID:27092-1622188800-1622221200@lepoing.net
SUMMARY:Montpellier : de 15h15 à 16h45\, le local associatif Le Barricade situé au 14 rue Aristide Ollivier propose un atelier de conversations interculturelles pour les gens qui apprennent le français.
DESCRIPTION:
URL:https://lepoing.net/evenement/montpellier-de-15h15-a-16h45-le-local-associatif-le-barricade-situe-au-14-rue-aristide-ollivier-propose-un-atelier-de-conversations-interculturelles-pour-les-gens-qui-apprennent-le-francais/
END:VEVENT
BEGIN:VEVENT
DTSTART;TZID=Europe/Paris:20210528T080000
DTEND;TZID=Europe/Paris:20210528T170000
DTSTAMP:20260424T211057
CREATED:20210527T090548Z
LAST-MODIFIED:20210527T090548Z
UID:27107-1622188800-1622221200@lepoing.net
SUMMARY:Nîmes : le Droit Au Logement de Nîmes organise un rassemblement de soutien à Audrey et sa fille de neuf ans\, expulsables dans le cadre de la fin de la trêve hivernale. Ce sera à 17h30 place Jean Robert
DESCRIPTION:
URL:https://lepoing.net/evenement/nimes-le-droit-au-logement-de-nimes-organise-un-rassemblement-de-soutien-a-audrey-et-sa-fille-de-neuf-ans-expulsables-dans-le-cadre-de-la-fin-de-la-treve-hivernale-ce-sera-a-17h30-place-jean-rober/
END:VEVENT
END:VCALENDAR