BEGIN:VCALENDAR
VERSION:2.0
PRODID:-//Le Poing - ECPv6.8.3//NONSGML v1.0//EN
CALSCALE:GREGORIAN
METHOD:PUBLISH
X-WR-CALNAME:Le Poing
X-ORIGINAL-URL:https://lepoing.net
X-WR-CALDESC:Évènements pour Le Poing
REFRESH-INTERVAL;VALUE=DURATION:PT1H
X-Robots-Tag:noindex
X-PUBLISHED-TTL:PT1H
BEGIN:VTIMEZONE
TZID:Europe/Paris
BEGIN:DAYLIGHT
TZOFFSETFROM:+0100
TZOFFSETTO:+0200
TZNAME:CEST
DTSTART:20210328T010000
END:DAYLIGHT
BEGIN:STANDARD
TZOFFSETFROM:+0200
TZOFFSETTO:+0100
TZNAME:CET
DTSTART:20211031T010000
END:STANDARD
END:VTIMEZONE
BEGIN:VEVENT
DTSTART;TZID=Europe/Paris:20210626T080000
DTEND;TZID=Europe/Paris:20210626T170000
DTSTAMP:20260424T224109
CREATED:20210621T090219Z
LAST-MODIFIED:20210621T090219Z
UID:27432-1624694400-1624726800@lepoing.net
SUMMARY:Montélimar : journée de mobilisation à Montélimar pour le démantèlement de la centrale nucléaire de Tricastin\, en service depuis 40 ans déjà ! Avec au programme vélorutions\, food-trucks et manifestation. Hébergement possible sur place. Plus d’infos par ici.
DESCRIPTION:
URL:https://lepoing.net/evenement/montelimar-journee-de-mobilisation-a-montelimar-pour-le-demantelement-de-la-centrale-nucleaire-de-tricastin-en-service-depuis-40-ans-deja-avec-au-programme-velorutions-food-trucks-et-manifestati/
END:VEVENT
BEGIN:VEVENT
DTSTART;TZID=Europe/Paris:20210626T080000
DTEND;TZID=Europe/Paris:20210626T170000
DTSTAMP:20260424T224109
CREATED:20210621T090259Z
LAST-MODIFIED:20210621T090259Z
UID:27434-1624694400-1624726800@lepoing.net
SUMMARY:Montpellier : distribution et collecte alimentaire de l’AESAE à la librairie La Mauvaise Réputation\, 20 rue Terral. De 12h à 14h pour la collecte\, et de 14h à 16h pour la distribution.
DESCRIPTION:
URL:https://lepoing.net/evenement/montpellier-distribution-et-collecte-alimentaire-de-laesae-a-la-librairie-la-mauvaise-reputation-20-rue-terral-de-12h-a-14h-pour-la-collecte-et-de-14h-a-16h-pour-la-distribution-3/
END:VEVENT
BEGIN:VEVENT
DTSTART;TZID=Europe/Paris:20210626T080000
DTEND;TZID=Europe/Paris:20210626T170000
DTSTAMP:20260424T224109
CREATED:20210621T090335Z
LAST-MODIFIED:20210621T090335Z
UID:27436-1624694400-1624726800@lepoing.net
SUMMARY:Grabels : chantier collectif à la ZAD du LIEN\, pour construire yourtes et cabanes. Ce sera toute la journée\, avec des concerts de soutien en soirée
DESCRIPTION:
URL:https://lepoing.net/evenement/grabels-chantier-collectif-a-la-zad-du-lien-pour-construire-yourtes-et-cabanes-ce-sera-toute-la-journee-avec-des-concerts-de-soutien-en-soiree/
END:VEVENT
END:VCALENDAR