BEGIN:VCALENDAR
VERSION:2.0
PRODID:-//Le Poing - ECPv6.8.3//NONSGML v1.0//EN
CALSCALE:GREGORIAN
METHOD:PUBLISH
X-ORIGINAL-URL:https://lepoing.net
X-WR-CALDESC:Évènements pour Le Poing
REFRESH-INTERVAL;VALUE=DURATION:PT1H
X-Robots-Tag:noindex
X-PUBLISHED-TTL:PT1H
BEGIN:VTIMEZONE
TZID:Europe/Paris
BEGIN:DAYLIGHT
TZOFFSETFROM:+0100
TZOFFSETTO:+0200
TZNAME:CEST
DTSTART:20210328T010000
END:DAYLIGHT
BEGIN:STANDARD
TZOFFSETFROM:+0200
TZOFFSETTO:+0100
TZNAME:CET
DTSTART:20211031T010000
END:STANDARD
END:VTIMEZONE
BEGIN:VEVENT
DTSTART;TZID=Europe/Paris:20210627T103000
DTEND;TZID=Europe/Paris:20210627T170000
DTSTAMP:20260424T224357
CREATED:20210625T175725Z
LAST-MODIFIED:20210626T163139Z
UID:27505-1624789800-1624813200@lepoing.net
SUMMARY:Rassemblement de soutien à des locataires se plaignant de la dangerosité de leur appartement à Sète\, 10h30 au 31 rue de la Révolution
DESCRIPTION:
URL:https://lepoing.net/evenement/rassemblement-de-soutien-a-des-locataires-se-plaignant-de-la-dangerosite-de-leur-appartement-a-sete-10h30-au-31-rue-de-la-revolution/
END:VEVENT
BEGIN:VEVENT
DTSTART;TZID=Europe/Paris:20210627T150000
DTEND;TZID=Europe/Paris:20210627T170000
DTSTAMP:20260424T224357
CREATED:20210621T090413Z
LAST-MODIFIED:20210626T163314Z
UID:27438-1624806000-1624813200@lepoing.net
SUMMARY:Montpellier : scène d’expression ouverte queer à partir de 15h au parc Méric.
DESCRIPTION:
URL:https://lepoing.net/evenement/montpellier-scene-dexpression-ouverte-queer-a-partir-de-15h-au-parc-meric/
END:VEVENT
BEGIN:VEVENT
DTSTART;TZID=Europe/Paris:20210627T170000
DTEND;TZID=Europe/Paris:20210627T170000
DTSTAMP:20260424T224357
CREATED:20210621T090450Z
LAST-MODIFIED:20210626T163421Z
UID:27440-1624813200-1624813200@lepoing.net
SUMMARY:Montpellier : marche queer TPBGQIAP+ *\, « pour revenir aux fondements de la lutte ». L’évènement se déroulera en deux temps : un premier rendez-vous au Peyrou pour un apéro-pancarte à 17h\, puis le départ en manif pour 19h30.
DESCRIPTION:
URL:https://lepoing.net/evenement/montpellier-marche-queer-tpbgqiap-pour-revenir-aux-fondements-de-la-lutte-levenement-se-deroulera-en-deux-temps-un-premier-rendez-vous-au-peyrou-pour-un-apero-pancarte/
END:VEVENT
END:VCALENDAR