BEGIN:VCALENDAR
VERSION:2.0
PRODID:-//Le Poing - ECPv6.8.3//NONSGML v1.0//EN
CALSCALE:GREGORIAN
METHOD:PUBLISH
X-WR-CALNAME:Le Poing
X-ORIGINAL-URL:https://lepoing.net
X-WR-CALDESC:Évènements pour Le Poing
REFRESH-INTERVAL;VALUE=DURATION:PT1H
X-Robots-Tag:noindex
X-PUBLISHED-TTL:PT1H
BEGIN:VTIMEZONE
TZID:Europe/Paris
BEGIN:DAYLIGHT
TZOFFSETFROM:+0100
TZOFFSETTO:+0200
TZNAME:CEST
DTSTART:20210328T010000
END:DAYLIGHT
BEGIN:STANDARD
TZOFFSETFROM:+0200
TZOFFSETTO:+0100
TZNAME:CET
DTSTART:20211031T010000
END:STANDARD
END:VTIMEZONE
BEGIN:VEVENT
DTSTART;TZID=Europe/Paris:20210808T180000
DTEND;TZID=Europe/Paris:20210808T223000
DTSTAMP:20260425T015954
CREATED:20210805T090715Z
LAST-MODIFIED:20210805T090715Z
UID:27842-1628445600-1628461800@lepoing.net
SUMMARY:Rassemblement des ultras pour soutenir le MHSC et contre le pass sanitaire
DESCRIPTION:
URL:https://lepoing.net/evenement/rassemblement-des-ultras-pour-soutenir-le-mhsc-et-contre-le-pass-sanitaire/
LOCATION:Centre Nautique Neptune\, Quartier Mosson\, Av. de Heidelberg\, Montpellier\, Hérault\, 34080\, France
CATEGORIES:Rassemblement
ATTACH;FMTTYPE=image/jpeg:https://lepoing.net/wp-content/uploads/2021/08/photo_2021-08-04_19-36-44-1.jpg
END:VEVENT
END:VCALENDAR