BEGIN:VCALENDAR
VERSION:2.0
PRODID:-//Le Poing - ECPv6.8.3//NONSGML v1.0//EN
CALSCALE:GREGORIAN
METHOD:PUBLISH
X-ORIGINAL-URL:https://lepoing.net
X-WR-CALDESC:Évènements pour Le Poing
REFRESH-INTERVAL;VALUE=DURATION:PT1H
X-Robots-Tag:noindex
X-PUBLISHED-TTL:PT1H
BEGIN:VTIMEZONE
TZID:Europe/Paris
BEGIN:DAYLIGHT
TZOFFSETFROM:+0100
TZOFFSETTO:+0200
TZNAME:CEST
DTSTART:20210328T010000
END:DAYLIGHT
BEGIN:STANDARD
TZOFFSETFROM:+0200
TZOFFSETTO:+0100
TZNAME:CET
DTSTART:20211031T010000
END:STANDARD
END:VTIMEZONE
BEGIN:VEVENT
DTSTART;TZID=Europe/Paris:20211026T000000
DTEND;TZID=Europe/Paris:20211026T233000
DTSTAMP:20260425T051805
CREATED:20211026T025424Z
LAST-MODIFIED:20211026T025424Z
UID:28755-1635206400-1635291000@lepoing.net
SUMMARY:Montpellier : les cheminots de la ville seront en grève à l’appel de la CGT (50% de grévistes annoncés)\, pour l’embauche de nouveau cheminots\, l’ouverture de guichets et l’augmentation de l’amplitude horaire d’ouverture pour ceux qui existent déjà
DESCRIPTION:
URL:https://lepoing.net/evenement/montpellier-les-cheminots-de-la-ville-seront-en-greve-a-lappel-de-la-cgt-50-de-grevistes-annonces-pour-lembauche-de-nouveau-cheminots-louverture-de-guichets-et-l/
END:VEVENT
BEGIN:VEVENT
DTSTART;TZID=Europe/Paris:20211026T080000
DTEND;TZID=Europe/Paris:20211026T170000
DTSTAMP:20260425T051805
CREATED:20211026T024114Z
LAST-MODIFIED:20211026T024114Z
UID:28736-1635235200-1635267600@lepoing.net
SUMMARY:Aveyron : journée usine morte pour les travailleurs de la fonderie SAM à Viviez en lutte pour la sauvegarde de leurs emplois. Les ronds-points de la RD840 de la Vitarelle à Decazeville et et de Bel-Air sur la RD 1 à Lanuéjouls seront occupés toute la journée.
DESCRIPTION:
URL:https://lepoing.net/evenement/aveyron-journee-usine-morte-pour-les-travailleurs-de-la-fonderie-sam-a-viviez-en-lutte-pour-la-sauvegarde-de-leurs-emplois-les-ronds-points-de-la-rd840-de-la-vitarelle-a-decazeville-et-et-de-bel-ai/
END:VEVENT
BEGIN:VEVENT
DTSTART;TZID=Europe/Paris:20211026T100000
DTEND;TZID=Europe/Paris:20211026T160000
DTSTAMP:20260425T051805
CREATED:20211030T024303Z
LAST-MODIFIED:20211026T024652Z
UID:28740-1635242400-1635264000@lepoing.net
SUMMARY:Nîmes : contre la hausse des prix\, les gilets jaunes se donnent rendez-vous au rond-point du kilomètre delta\, à l’entrée de l’autoroute Nîmes/Alès\, dès 10h.
DESCRIPTION:
URL:https://lepoing.net/evenement/nimes-contre-la-hausse-des-prix-les-gilets-jaunes-se-donnent-rendez-vous-au-rond-point-du-kilometre-delta-a-lentree-de-lautoroute-nimes-ales-des-10h/
END:VEVENT
BEGIN:VEVENT
DTSTART;TZID=Europe/Paris:20211026T183000
DTEND;TZID=Europe/Paris:20211026T210000
DTSTAMP:20260425T051805
CREATED:20211026T025335Z
LAST-MODIFIED:20211026T025335Z
UID:28752-1635273000-1635282000@lepoing.net
SUMMARY:Montpellier : terrasse sauvage pour les exclus du pass sanitaire de 18h30 à 21h place Salengro (vers l’aire de jeux)
DESCRIPTION:
URL:https://lepoing.net/evenement/montpellier-terrasse-sauvage-pour-les-exclus-du-pass-sanitaire-de-18h30-a-21h-place-salengro-vers-laire-de-jeux-2/
END:VEVENT
END:VCALENDAR