BEGIN:VCALENDAR
VERSION:2.0
PRODID:-//Le Poing - ECPv6.8.3//NONSGML v1.0//EN
CALSCALE:GREGORIAN
METHOD:PUBLISH
X-WR-CALNAME:Le Poing
X-ORIGINAL-URL:https://lepoing.net
X-WR-CALDESC:Évènements pour Le Poing
REFRESH-INTERVAL;VALUE=DURATION:PT1H
X-Robots-Tag:noindex
X-PUBLISHED-TTL:PT1H
BEGIN:VTIMEZONE
TZID:Europe/Paris
BEGIN:DAYLIGHT
TZOFFSETFROM:+0100
TZOFFSETTO:+0200
TZNAME:CEST
DTSTART:20210328T010000
END:DAYLIGHT
BEGIN:STANDARD
TZOFFSETFROM:+0200
TZOFFSETTO:+0100
TZNAME:CET
DTSTART:20211031T010000
END:STANDARD
END:VTIMEZONE
BEGIN:VEVENT
DTSTART;TZID=Europe/Paris:20211027T100000
DTEND;TZID=Europe/Paris:20211027T120000
DTSTAMP:20260425T051523
CREATED:20211026T025015Z
LAST-MODIFIED:20211026T025210Z
UID:28748-1635328800-1635336000@lepoing.net
SUMMARY:Montpellier : nettoyage du Lez en canoë organisé par le groupe Greenpeace Montpellier de 10h à 12h. Plus d’infos sur le facebook du groupe\, réservation conseillée au 06 69 98 63 33.
DESCRIPTION:
URL:https://lepoing.net/evenement/montpellier-terrasse-sauvage-pour-les-exclus-du-pass-sanitaire-de-18h30-a-21h-place-salengro-vers-laire-de-jeux/
END:VEVENT
BEGIN:VEVENT
DTSTART;TZID=Europe/Paris:20211027T190000
DTEND;TZID=Europe/Paris:20211027T223000
DTSTAMP:20260425T051523
CREATED:20211026T025615Z
LAST-MODIFIED:20211026T025615Z
UID:28758-1635361200-1635373800@lepoing.net
SUMMARY:Montpellier : avant-première du court-métrage “Les Emmerdeurs” au Nu Bahia à 19h\, sur l’escalade et le respect de la biodiversité. Plus d’infos par là.
DESCRIPTION:
URL:https://lepoing.net/evenement/montpellier-avant-premiere-du-court-metrage-les-emmerdeurs-au-nu-bahia-a-19h-sur-lescalade-et-le-respect-de-la-biodiversite-plus-dinfos-par-la/
END:VEVENT
END:VCALENDAR