BEGIN:VCALENDAR
VERSION:2.0
PRODID:-//Le Poing - ECPv6.8.3//NONSGML v1.0//EN
CALSCALE:GREGORIAN
METHOD:PUBLISH
X-ORIGINAL-URL:https://lepoing.net
X-WR-CALDESC:Évènements pour Le Poing
REFRESH-INTERVAL;VALUE=DURATION:PT1H
X-Robots-Tag:noindex
X-PUBLISHED-TTL:PT1H
BEGIN:VTIMEZONE
TZID:Europe/Paris
BEGIN:DAYLIGHT
TZOFFSETFROM:+0100
TZOFFSETTO:+0200
TZNAME:CEST
DTSTART:20210328T010000
END:DAYLIGHT
BEGIN:STANDARD
TZOFFSETFROM:+0200
TZOFFSETTO:+0100
TZNAME:CET
DTSTART:20211031T010000
END:STANDARD
END:VTIMEZONE
BEGIN:VEVENT
DTSTART;TZID=Europe/Paris:20211029T203000
DTEND;TZID=Europe/Paris:20211029T223000
DTSTAMP:20260425T051740
CREATED:20211026T030000Z
LAST-MODIFIED:20211026T030000Z
UID:28764-1635539400-1635546600@lepoing.net
SUMMARY:Montpellier : concert de musique cubaine avec le groupe La Vuelta\, à la Carmagnole\, 10 rue de Haguenot\, de 20h30 à 22h30. Plus d’infos par ici.
DESCRIPTION:
URL:https://lepoing.net/evenement/montpellier-concert-de-musique-cubaine-avec-le-groupe-la-vuelta-a-la-carmagnole-10-rue-de-haguenot-de-20h30-a-22h30-plus-dinfos-par-ici/
END:VEVENT
END:VCALENDAR