BEGIN:VCALENDAR
VERSION:2.0
PRODID:-//Le Poing - ECPv6.8.3//NONSGML v1.0//EN
CALSCALE:GREGORIAN
METHOD:PUBLISH
X-WR-CALNAME:Le Poing
X-ORIGINAL-URL:https://lepoing.net
X-WR-CALDESC:Évènements pour Le Poing
REFRESH-INTERVAL;VALUE=DURATION:PT1H
X-Robots-Tag:noindex
X-PUBLISHED-TTL:PT1H
BEGIN:VTIMEZONE
TZID:Europe/Paris
BEGIN:DAYLIGHT
TZOFFSETFROM:+0100
TZOFFSETTO:+0200
TZNAME:CEST
DTSTART:20220327T010000
END:DAYLIGHT
BEGIN:STANDARD
TZOFFSETFROM:+0200
TZOFFSETTO:+0100
TZNAME:CET
DTSTART:20221030T010000
END:STANDARD
END:VTIMEZONE
BEGIN:VEVENT
DTSTART;TZID=Europe/Paris:20220323T140000
DTEND;TZID=Europe/Paris:20220323T170000
DTSTAMP:20260425T124314
CREATED:20220323T014919Z
LAST-MODIFIED:20220323T014919Z
UID:30446-1648044000-1648054800@lepoing.net
SUMMARY:Montpellier : de 14h à 17h\, atelier couture au local associatif Le Barricade au 5 rue Bonnie\, à entrée libre et avec boissons disponibles.
DESCRIPTION:
URL:https://lepoing.net/evenement/montpellier-de-14h-a-17h-atelier-couture-au-local-associatif-le-barricade-au-5-rue-bonnie-a-entree-libre-et-avec-boissons-disponibles/
END:VEVENT
BEGIN:VEVENT
DTSTART;TZID=Europe/Paris:20220323T170000
DTEND;TZID=Europe/Paris:20220323T190000
DTSTAMP:20260425T124314
CREATED:20220323T015021Z
LAST-MODIFIED:20220323T015021Z
UID:30448-1648054800-1648062000@lepoing.net
SUMMARY:Montpellier : de 17h à 19h\, atelier réparation d’objets de tous types au local associatif Le Barricade au 5 rue Bonnie\, à entrée libre et avec boissons disponibles.
DESCRIPTION:
URL:https://lepoing.net/evenement/montpellier-de-17h-a-19h-atelier-reparation-dobjets-de-tous-types-au-local-associatif-le-barricade-au-5-rue-bonnie-a-entree-libre-et-avec-boissons-disponibles/
END:VEVENT
BEGIN:VEVENT
DTSTART;TZID=Europe/Paris:20220323T183000
DTEND;TZID=Europe/Paris:20220323T203000
DTSTAMP:20260425T124314
CREATED:20220323T015142Z
LAST-MODIFIED:20220323T015142Z
UID:30450-1648060200-1648067400@lepoing.net
SUMMARY:Frontignan : atelier de découverte des pratiques Qi Gong\, automassage\, respiration\, de 18h30 à 20h au local associatif La Grève\, 19 bis boulevard Victor Hugo.
DESCRIPTION:
URL:https://lepoing.net/evenement/frontignan-atelier-de-decouverte-des-pratiques-qi-gong-automassage-respiration-de-18h30-a-20h-au-local-associatif-la-greve-19-bis-boulevard-victor-hugo/
END:VEVENT
END:VCALENDAR