BEGIN:VCALENDAR
VERSION:2.0
PRODID:-//Le Poing - ECPv6.8.3//NONSGML v1.0//EN
CALSCALE:GREGORIAN
METHOD:PUBLISH
X-WR-CALNAME:Le Poing
X-ORIGINAL-URL:https://lepoing.net
X-WR-CALDESC:Évènements pour Le Poing
REFRESH-INTERVAL;VALUE=DURATION:PT1H
X-Robots-Tag:noindex
X-PUBLISHED-TTL:PT1H
BEGIN:VTIMEZONE
TZID:Europe/Paris
BEGIN:DAYLIGHT
TZOFFSETFROM:+0100
TZOFFSETTO:+0200
TZNAME:CEST
DTSTART:20220327T010000
END:DAYLIGHT
BEGIN:STANDARD
TZOFFSETFROM:+0200
TZOFFSETTO:+0100
TZNAME:CET
DTSTART:20221030T010000
END:STANDARD
END:VTIMEZONE
BEGIN:VEVENT
DTSTART;TZID=Europe/Paris:20220328T190000
DTEND;TZID=Europe/Paris:20220328T210000
DTSTAMP:20260425T124316
CREATED:20220323T155012Z
LAST-MODIFIED:20220323T155012Z
UID:30468-1648494000-1648501200@lepoing.net
SUMMARY:L' Apartheid israélien envers le peuple palestinien
DESCRIPTION:Dans le cadre de la semaine internationale 2022 contre l’apartheid israélien IAW  \nLE RAPPORT D’AMNESTY INTERNATIONAL ET SES ENJEUX\n« L’APARTHEID ISRAÉLIEN ENVERS LE PEUPLE PALESTINIEN : \nUn système cruel de domination et un crime contre l’humanité »\n\nAvec : GHISLAIN POISSONNIER – MAGISTRAT
URL:https://lepoing.net/evenement/l-apartheid-israelien-envers-le-peuple-palestinien/
LOCATION:La Carmagnole\, 10 rue Haguenot\, Montpellier\, France
ATTACH;FMTTYPE=image/jpeg:https://lepoing.net/wp-content/uploads/2022/03/palestine-1.jpeg
END:VEVENT
END:VCALENDAR