BEGIN:VCALENDAR
VERSION:2.0
PRODID:-//Le Poing - ECPv6.8.3//NONSGML v1.0//EN
CALSCALE:GREGORIAN
METHOD:PUBLISH
X-WR-CALNAME:Le Poing
X-ORIGINAL-URL:https://lepoing.net
X-WR-CALDESC:Évènements pour Le Poing
REFRESH-INTERVAL;VALUE=DURATION:PT1H
X-Robots-Tag:noindex
X-PUBLISHED-TTL:PT1H
BEGIN:VTIMEZONE
TZID:Europe/Paris
BEGIN:DAYLIGHT
TZOFFSETFROM:+0100
TZOFFSETTO:+0200
TZNAME:CEST
DTSTART:20220327T010000
END:DAYLIGHT
BEGIN:STANDARD
TZOFFSETFROM:+0200
TZOFFSETTO:+0100
TZNAME:CET
DTSTART:20221030T010000
END:STANDARD
END:VTIMEZONE
BEGIN:VEVENT
DTSTART;TZID=Europe/Paris:20220329T190000
DTEND;TZID=Europe/Paris:20220329T220000
DTSTAMP:20260425T124316
CREATED:20220312T184457Z
LAST-MODIFIED:20220312T184457Z
UID:30267-1648580400-1648591200@lepoing.net
SUMMARY:IAW 2022 projection du film " Palestine 48 " de François Xavier Gilles
DESCRIPTION:Dans le cadre de la semaine internationale contre l’apartheid israélien qui a lieu dans le monde du 28 Mars au 3 Avril  2022 la campagne BDS France Montpellier organise la projection du film ” Palestine 48″ qui aura lieu le mardi 29 Mars à 19H à La Carmagnole rue Haguenot
URL:https://lepoing.net/evenement/iaw-2022-projection-du-film-palestine-48-de-francois-xavier-gilles/
LOCATION:La Carmagnole\, 10 rue Haguenot\, Montpellier\, France
ATTACH;FMTTYPE=image/jpeg:https://lepoing.net/wp-content/uploads/2022/03/visuelCarmaPal48.jpeg
END:VEVENT
END:VCALENDAR