BEGIN:VCALENDAR
VERSION:2.0
PRODID:-//Le Poing - ECPv6.8.3//NONSGML v1.0//EN
CALSCALE:GREGORIAN
METHOD:PUBLISH
X-ORIGINAL-URL:https://lepoing.net
X-WR-CALDESC:Évènements pour Le Poing
REFRESH-INTERVAL;VALUE=DURATION:PT1H
X-Robots-Tag:noindex
X-PUBLISHED-TTL:PT1H
BEGIN:VTIMEZONE
TZID:Europe/Paris
BEGIN:DAYLIGHT
TZOFFSETFROM:+0100
TZOFFSETTO:+0200
TZNAME:CEST
DTSTART:20220327T010000
END:DAYLIGHT
BEGIN:STANDARD
TZOFFSETFROM:+0200
TZOFFSETTO:+0100
TZNAME:CET
DTSTART:20221030T010000
END:STANDARD
END:VTIMEZONE
BEGIN:VEVENT
DTSTART;TZID=Europe/Paris:20220514T180000
DTEND;TZID=Europe/Paris:20220514T200000
DTSTAMP:20260425T154534
CREATED:20220504T173018Z
LAST-MODIFIED:20220504T173018Z
UID:30822-1652551200-1652558400@lepoing.net
SUMMARY:Débat avec Isabelle Attard autrice de " Comment je suis devenue anarchiste"
DESCRIPTION:Les élections présidentielles viennent de l’illustrer : le système électoral est à bout de souffle\, il est urgent d’explorer d’autres façons de vivre réellement la démocratie. Nous allons le faire en compagnie d’Isabelle Attard\, autrice de « Comment je suis devenue anarchiste »en 2019. Ex-militante d’Europe écologie Les Verts\, députée de 2012 à 2017\, elle a décidé de tout arrêter et d’entamer un véritable examen intérieur. Ses lectures\, ses discussions et ses rencontres l’ont amenée à explorer les rives de l’anarchie\, du communisme libertaire et de l’autogestion. Son livre témoigne d’une aspiration forte à une transformation en profondeur de la société en s’appuyant sur les expériences passées et les luttes actuelles.
URL:https://lepoing.net/evenement/debat-avec-isabelle-attard-autrice-de-comment-je-suis-devenue-anarchiste/
LOCATION:Librairie La Mauvaise Réputation\, 20 rue Terral\, Montpellier\, France
END:VEVENT
END:VCALENDAR