BEGIN:VCALENDAR
VERSION:2.0
PRODID:-//Le Poing - ECPv6.8.3//NONSGML v1.0//EN
CALSCALE:GREGORIAN
METHOD:PUBLISH
X-WR-CALNAME:Le Poing
X-ORIGINAL-URL:https://lepoing.net
X-WR-CALDESC:Évènements pour Le Poing
REFRESH-INTERVAL;VALUE=DURATION:PT1H
X-Robots-Tag:noindex
X-PUBLISHED-TTL:PT1H
BEGIN:VTIMEZONE
TZID:Europe/Paris
BEGIN:DAYLIGHT
TZOFFSETFROM:+0100
TZOFFSETTO:+0200
TZNAME:CEST
DTSTART:20220327T010000
END:DAYLIGHT
BEGIN:STANDARD
TZOFFSETFROM:+0200
TZOFFSETTO:+0100
TZNAME:CET
DTSTART:20221030T010000
END:STANDARD
END:VTIMEZONE
BEGIN:VEVENT
DTSTART;TZID=Europe/Paris:20220528T193000
DTEND;TZID=Europe/Paris:20220528T220000
DTSTAMP:20260425T153825
CREATED:20220523T142035Z
LAST-MODIFIED:20220523T142035Z
UID:30934-1653766200-1653775200@lepoing.net
SUMMARY:Le féminisme libertaire : ses origines\, ses luttes\, ses spécificités
DESCRIPTION: Nous vous proposons de venir assister à un débat en mixité à la librairie la Mauvaise Réputation (20 rue Terral\, quartier St Anne à Montpellier). \nLe féminisme libertaire reste en effet méconnu. Il n’y a pas eu d’écriture de notre histoire\, les raisons en sont diverses : absence d’existence académique\, invisibilité liée au patriarcat\, déconsidération classiste\, analphabétisme\, … Sa diversité est une force\, son inorganisation peut être une faiblesse. Pour autant\, notre influence politique et idéologique sont bien réelles.Nous éprouvons en tout cas aujourd’hui la nécessité de nous définir dans toute notre complexité et de nous nommer pour exister en tant que courant du féminisme\, ici et maintenant. Les analyses et les pratiques que nous revendiquons ruissellent depuis que les femmes se battent et s’auto-organisent pour leurs conditions matérielles d’existence\, dans tout le mouvement féministe contemporain ici et ailleurs.
URL:https://lepoing.net/evenement/le-feminisme-libertaire-ses-origines-ses-luttes-ses-specificites/
LOCATION:Librairie La Mauvaise Réputation\, 20 rue Terral\, Montpellier\, France
END:VEVENT
END:VCALENDAR