BEGIN:VCALENDAR
VERSION:2.0
PRODID:-//Le Poing - ECPv6.8.3//NONSGML v1.0//EN
CALSCALE:GREGORIAN
METHOD:PUBLISH
X-WR-CALNAME:Le Poing
X-ORIGINAL-URL:https://lepoing.net
X-WR-CALDESC:Évènements pour Le Poing
REFRESH-INTERVAL;VALUE=DURATION:PT1H
X-Robots-Tag:noindex
X-PUBLISHED-TTL:PT1H
BEGIN:VTIMEZONE
TZID:Europe/Paris
BEGIN:DAYLIGHT
TZOFFSETFROM:+0100
TZOFFSETTO:+0200
TZNAME:CEST
DTSTART:20220327T010000
END:DAYLIGHT
BEGIN:STANDARD
TZOFFSETFROM:+0200
TZOFFSETTO:+0100
TZNAME:CET
DTSTART:20221030T010000
END:STANDARD
END:VTIMEZONE
BEGIN:VEVENT
DTSTART;TZID=Europe/Paris:20220623T190000
DTEND;TZID=Europe/Paris:20220623T220000
DTSTAMP:20260425T155413
CREATED:20220607T094731Z
LAST-MODIFIED:20220607T094731Z
UID:31053-1656010800-1656021600@lepoing.net
SUMMARY:Décoloniser Jérusalem/ G. Devers " Jérusalem Est sous protection internationale"
DESCRIPTION:Présentation du livre de Gilles Devers Avocat ” Jérusalem Est sous protection internationale” \n45 ANS ÇA SUFFIT   \n\nEn mai\, INTERDICTION DE CRITIQUER ISRAËL !   \n2 interdictions de salles municipales  \n\n–        Pour une conférence initiée par le MAN et BDS F Montpellier. Présentation du rapport d’Amnesty International par son vice-président J.C Samouiller\, rapport intitulé : « L’apartheid israélien envers le peuple palestinien\, un système cruel de domination et un crime contre l’humanité ». La plus importante ONG des droits humains interdite de parole dans les locaux municipaux. Du jamais vu ! \n–        Pour une conférence initiée par CCIPPP34 et BDS F Montpellier. Présentation du livre de l’avocat G. Devers « Jérusalem-Est\, Sous la protection du droit international ». Exiger l’application du droit international pour Jérusalem dans une salle municipale : pas question ! \nA deux reprises\, la Mairie de Montpellier\, au mépris du droit de réunion et de la liberté d’expression\, tente de museler la dénonciation de la colonisation israélienne et son système d’apartheid pour protéger Israël \n\nLe 26 juin : SOUTIEN À LA 45 ème JOURNÉE COLONIALE DE « Jérusalem » ! \nMise à disposition totale du parc de Grammont par la Mairi  \n\nA Montpellier\, depuis 45 ans\, cette fête commémore la prise militaire et la colonisation totale de Jérusalem par M. Dayan en juin 1967. Sous l’appellation « Réunification de Jérusalem »\, en violation du droit international et de 5 résolutions de l’ONU\, les organisateurs clament «Jérusalem capitale une et indivisible de l’État d’Israël ». \nDepuis 45 ans\, chaque année\, en présence des exécutifs  : de la Région\, du Département 34 et de la Ville de Montpellier\, le lobby sioniste ( CCJM\, le CRIF etc.) et les élus PS (et ex.PS) commémorent au mépris du droit international la colonisation de Jérusalem et au mépris des droits humains\, blanchissent l’apartheid israélien.  \nÇA SUFFIT ! 
URL:https://lepoing.net/evenement/decoloniser-jerusalem-g-devers-jerusalem-est-sous-protection-internationale/
LOCATION:La Carmagnole\, 10 rue Haguenot\, Montpellier\, France
END:VEVENT
END:VCALENDAR