BEGIN:VCALENDAR
VERSION:2.0
PRODID:-//Le Poing - ECPv6.8.3//NONSGML v1.0//EN
CALSCALE:GREGORIAN
METHOD:PUBLISH
X-ORIGINAL-URL:https://lepoing.net
X-WR-CALDESC:Évènements pour Le Poing
REFRESH-INTERVAL;VALUE=DURATION:PT1H
X-Robots-Tag:noindex
X-PUBLISHED-TTL:PT1H
BEGIN:VTIMEZONE
TZID:Europe/Paris
BEGIN:DAYLIGHT
TZOFFSETFROM:+0100
TZOFFSETTO:+0200
TZNAME:CEST
DTSTART:20220327T010000
END:DAYLIGHT
BEGIN:STANDARD
TZOFFSETFROM:+0200
TZOFFSETTO:+0100
TZNAME:CET
DTSTART:20221030T010000
END:STANDARD
END:VTIMEZONE
BEGIN:VEVENT
DTSTART;TZID=Europe/Paris:20220628T180000
DTEND;TZID=Europe/Paris:20220628T233000
DTSTAMP:20260425T144134
CREATED:20220618T140235Z
LAST-MODIFIED:20220623T094607Z
UID:31123-1656439200-1656459000@lepoing.net
SUMMARY:L'Info Tour de Bure arrive à Montpellier
DESCRIPTION:A l’occasion du passage de l’info tour de Bure\, une grande… \nSOIRÉE D’INFO SUR LA LUTTE À BURE \nRendez-vous pour une soirée info et discussion autour de la relance du nucléaire et des luttes contre l’enfouissement des déchets atomiques à Bure ! \nA Bure (Meuse)\, le projet CIGEO\, projet national d’enfouissement des déchets les plus radioactifs de l’industrie nucléaire est en cours de préparation depuis bientôt trente ans. L’ANDRA (Agence Nationale de gestion des Déchets Radioactifs) s’installe petit à petit. En déversant des millions d’euros dans la région\, elle s’accapare des terres agricoles et forestières. Elle commence dès à présent des travaux connexes alors même que le projet CIGEO n’est pas encore validé par la loi. En effet\, il n’y a toujours pas de déchets nucléaires à Bure\, et nous n’avons pas l’intention qu’il y en ait un jour ! \nque tu sois déjà passé dans le coin\,\nque tu aies envie de découvrir pour la première fois les luttes à Bure\,\nque tu sois un·e antinuke convaincu·e\,\nque tu ne saches pas si tu l’es :\nViens nous retrouver ! \nMardi 28 Juin à Montpellier  \n18h – 19h30 au Parc Clemenceau  Transmission du chant Enfouir l’orgueil des Hommes avec Le Cri du Chœur \nDès 19h45 au Barricade (5 rue Bonnie)  Miam-apéro partagé (ramenez ce qui vous fait plaisir) suivi de la soirée d’info sur la lutte à bure (discussion et débat\, partage de vécus\, chants…) \nDes brochures\, stickers et autre documentation seront également disponibles\, à saisir pour contrer toute attaque pro-nucléaire ou si vous avez un coup de mou. \n 
URL:https://lepoing.net/evenement/info-tour-bure-montpellier/
LOCATION:Le Barricade\, 5 rue Bonnie\, Montpellier
CATEGORIES:Atelier,Chorale,Débat
ATTACH;FMTTYPE=image/jpeg:https://lepoing.net/wp-content/uploads/2022/06/infotour-miniature-pour-article.cleaned-700x450-1.jpg
END:VEVENT
BEGIN:VEVENT
DTSTART;TZID=Europe/Paris:20220628T183000
DTEND;TZID=Europe/Paris:20220628T200000
DTSTAMP:20260425T144134
CREATED:20220626T130417Z
LAST-MODIFIED:20220626T130417Z
UID:31182-1656441000-1656446400@lepoing.net
SUMMARY:Contre le LIEN : opération Titanic
DESCRIPTION:Face à l’étendue des dégâts causés par le LIEN\, nous organisons un défilé musical sur l’air du Titanic ce mardi 28 juin à 18h30 devant la préfecture. Les musiciens qui jouent avec leurs violons sont l’orchestre du Titanic. Dans l’Hérault\, les pouvoirs publics\, le préfet et le Département pilotent le paquebot depuis plus de trente ans sans changer de cap. Ils nous conduisent au naufrage. Cette session musicale de fin d’après-midi sera familiale et inclusive placée sous le signe de l’espoir du changement.\n\nNous annoncerons que le Préfet a régularisé le 9 juin dernier la déclaration d’utilité publique du LIEN. Accroché à la procédure\, la seule question qui l’intéresse est de savoir si c’est réglementaire ! Le dérèglement climatique\, ça ne l’intéresse pas ! On continue comme avant\, toujours la même musique\, on ne change rien !\n\nAgir maintenant\, c’est construire\, de façon démocratique\, un autre modèle. C’est stopper immédiatement tous les projets climaticides\, qui renforcent l’urbanisation\, la bétonisation et le trafic routier.  C’est\, dans la métropole de Montpellier\, stopper le LIEN. Il est encore temps.
URL:https://lepoing.net/evenement/contre-le-lien-operation-titanic/
LOCATION:Préfecture de Montpellier\, Place des martyrs de la résistance\, Montpellier\, 34000\, France
CATEGORIES:Rassemblement
ATTACH;FMTTYPE=image/jpeg:https://lepoing.net/wp-content/uploads/2022/06/290342023_569933834575690_3331117795496027177_n.jpg
END:VEVENT
END:VCALENDAR